BEGIN:VCALENDAR
VERSION:2.0
PRODID:-//Ville de Quiévrechain - ECPv5.14.1//NONSGML v1.0//EN
CALSCALE:GREGORIAN
METHOD:PUBLISH
X-WR-CALNAME:Ville de Quiévrechain
X-ORIGINAL-URL:https://quievrechain.fr
X-WR-CALDESC:Events for Ville de Quiévrechain
REFRESH-INTERVAL;VALUE=DURATION:PT1H
X-Robots-Tag:noindex
X-PUBLISHED-TTL:PT1H
BEGIN:VTIMEZONE
TZID:Europe/Paris
BEGIN:DAYLIGHT
TZOFFSETFROM:+0100
TZOFFSETTO:+0200
TZNAME:CEST
DTSTART:20260329T010000
END:DAYLIGHT
BEGIN:STANDARD
TZOFFSETFROM:+0200
TZOFFSETTO:+0100
TZNAME:CET
DTSTART:20261025T010000
END:STANDARD
END:VTIMEZONE
BEGIN:VEVENT
DTSTART;TZID=Europe/Paris:20260302T150000
DTEND;TZID=Europe/Paris:20260302T190000
DTSTAMP:20260425T030328
CREATED:20260223T164439Z
LAST-MODIFIED:20260223T164439Z
UID:62659-1772463600-1772478000@quievrechain.fr
SUMMARY:[2 mars] Don du sang
DESCRIPTION:🚨DON DU SANG – MOBILISATION GÉNÉRALE\n\n\n\nUne collecte de sang est organisée le lundi 2 mars\, de 15h à 19h\, à la salle des fêtes de Quiévrechain.\n\nAvec ou sans rendez-vous : prendre rendez-vous ici\n\n\n \n\n\nLa mobilisation est essentielle : un minimum de 40 dons est nécessaire pour maintenir cette collecte dans la commune. Sans participation suffisante\, elle risque de disparaître.\n\n\n \n\n\n🦸‍♂️🦸‍♀️ Sauvez la collecte\, sauvez des vies ! Chaque don compte et peut aider plusieurs patients.\n\n\n \n\n\nMerci de votre engagement et de votre solidarité. N’hésitez pas à relayer l’information autour de vous.
URL:https://quievrechain.fr/event/2-mars-don-du-sang/
LOCATION:Salle des fêtes\, Place Roger Salengro\, Quiévrechain\, France
CATEGORIES:Santé
ATTACH;FMTTYPE=image/jpeg:https://quievrechain.fr/wp-content/uploads/2026/02/Don-du-sang-FB.jpg
END:VEVENT
BEGIN:VEVENT
DTSTART;TZID=Europe/Paris:20260304T140000
DTEND;TZID=Europe/Paris:20260304T150000
DTSTAMP:20260425T030328
CREATED:20260225T153111Z
LAST-MODIFIED:20260225T153111Z
UID:62686-1772632800-1772636400@quievrechain.fr
SUMMARY:[4 mars] Atelier L’heure du conte : Floraison
DESCRIPTION:La bibliothèque municipale propose « L’heure du conte » à destination des enfants de 5 à 8 ans\, sur le thème « Floraison » 🌸Un moment calme et convivial autour d’histoires printanières\, de fleurs et de nature en éveil. \n📅 Rendez-vous mercredi 4 mars 2026\, de 14h à 15h\, à la bibliothèque municipale.⚠️ Places limitées et réservation obligatoire au 03 27 24 26 74
URL:https://quievrechain.fr/event/4-mars-atelier-lheure-du-conte-floraison/
LOCATION:Bibliotheque
CATEGORIES:Culture
ATTACH;FMTTYPE=image/jpeg:https://quievrechain.fr/wp-content/uploads/2026/02/Floraison-heure-du-conte-mars-2026.jpg
END:VEVENT
BEGIN:VEVENT
DTSTART;TZID=Europe/Paris:20260307T100000
DTEND;TZID=Europe/Paris:20260308T170000
DTSTAMP:20260425T030328
CREATED:20260203T151348Z
LAST-MODIFIED:20260203T151348Z
UID:62576-1772877600-1772989200@quievrechain.fr
SUMMARY:[7 et 8 mars] Grand Salon de Modélisme
DESCRIPTION:📢 Grand Salon de Modélisme – 7 et 8 mars 2026\n\n\n \n\n\nL’association RC Tank Wolf est ravie de vous inviter au grand salon de modélisme les 7 et 8 mars 2026\, au complexe sportif de la corderie !\n\n\n \n\n\n🎟️ Entrée : 1 euro (gratuit pour les enfants)\n\n\n🏠 Toute discipline : avions\, chars\, camions\, trains\, crawlers\n\n\n🚗 Parking disponible\n\n\n🍔 Buvette et petite restauration sur place\n\n\n \n\n\nHoraires : Samedi : 10h à 17h30 & Dimanche : 10h à 17h. Venez nombreux pour découvrir des modèles incroyables et partager votre passion avec d’autres amateurs de modélisme !
URL:https://quievrechain.fr/event/7-et-8-mars-grand-salon-de-modelisme/
LOCATION:Complexe Sportif de la Corderie\, Quiévrechain\, 59920
CATEGORIES:Expositions
ATTACH;FMTTYPE=image/jpeg:https://quievrechain.fr/wp-content/uploads/2026/02/2025-09-01-RC-Tank-Wolf-affiche-2026-v2-scaled.jpg
END:VEVENT
BEGIN:VEVENT
DTSTART;VALUE=DATE:20260316
DTEND;VALUE=DATE:20260328
DTSTAMP:20260425T030328
CREATED:20260224T151357Z
LAST-MODIFIED:20260309T122350Z
UID:62678-1773619200-1774655999@quievrechain.fr
SUMMARY:[16 au 27 mars] Inscriptions à l'accueil de loisirs d'avril
DESCRIPTION:La ville de Quiévrechain vous propose des vacances d’avril pleines d’aventures avec un ACM sur le thème de « Pokemon » !\n\n\n \n\n\n📅 Du 13 au 17 avril 2026\, vos enfants deviendront de véritables chasseurs de Pokemon !\n\n\n \n\n\n📝 Inscriptions :\n\n\nDu 16 au 27 mars 2026\n\n\nSur myperischool.fr
URL:https://quievrechain.fr/event/16-au-27-mars-inscriptions-a-laccueil-de-loisirs-davril/
LOCATION:Espace Enfance Jeunesse
CATEGORIES:Jeunesse
ATTACH;FMTTYPE=image/jpeg:https://quievrechain.fr/wp-content/uploads/2026/02/ACM-Avril-2026.jpg
END:VEVENT
BEGIN:VEVENT
DTSTART;VALUE=DATE:20260323
DTEND;VALUE=DATE:20260501
DTSTAMP:20260425T030328
CREATED:20260303T140212Z
LAST-MODIFIED:20260303T140212Z
UID:62712-1774224000-1777593599@quievrechain.fr
SUMMARY:[23 mars - 30 avril] Inscriptions au concours des maisons fleuries
DESCRIPTION:La Ville de Quiévrechain lance son traditionnel concours des maisons fleuries 🌸🌿\nVous aimez embellir votre jardin\, votre façade ou votre balcon ? C’est le moment de mettre en valeur votre créativité et votre passion pour les fleurs !\n \n👉 Du 23 mars au 30 avril\, en mairie\nTéléchargez le bon de participation en >cliquant ici<.\nLe jury\, composé d’élus et de techniciens municipaux\, passera dans la ville durant la seconde quinzaine de juin afin d’évaluer les candidats.\n \nAlors\, prêts à faire fleurir la ville ? 🌺✨\nN’attendez plus pour vous inscrire et participez à l’embellissement de Quiévrechain !
URL:https://quievrechain.fr/event/23-mars-30-avril-inscriptions-au-concours-des-maisons-fleuries/
LOCATION:Hotel de Ville\, Place Roger Salengro\, Quiévrechain\, France
CATEGORIES:Quotidien
ATTACH;FMTTYPE=image/png:https://quievrechain.fr/wp-content/uploads/2026/03/Affiche.png
END:VEVENT
BEGIN:VEVENT
DTSTART;TZID=Europe/Paris:20260328T130000
DTEND;TZID=Europe/Paris:20260328T180000
DTSTAMP:20260425T030328
CREATED:20260303T140916Z
LAST-MODIFIED:20260303T140916Z
UID:62717-1774702800-1774720800@quievrechain.fr
SUMMARY:[28 mars] ⚽️ Tournoi Futsal pour les 15-25 ans ⚽️
DESCRIPTION:La Maison des Jeunes (MDJ)\, en partenariat avec la CAF du Nord\, organise un grand tournoi de futsal pour les jeunes de 15 à 25 ans ! \n📅 Samedi 28 mars\, de 13h à 18h au Complexe sportif de la Corderie\nParticipation : 1€ \nInscription obligatoire : \n\nPar téléphone au 06 71 65 06 46\nÀ l’Espace Jeunesse\, rue de la Mine\nOu par Snap : jeunesse59920\n\nViens avec ton équipe\, montre tes talents et partage un moment sportif et convivial ! ⚽🏆
URL:https://quievrechain.fr/event/28-mars-%e2%9a%bd%ef%b8%8f-tournoi-futsal-pour-les-15-25-ans-%e2%9a%bd%ef%b8%8f/
LOCATION:Complexe Sportif de la Corderie\, Quiévrechain\, 59920
CATEGORIES:Jeunesse,Sports
ATTACH;FMTTYPE=image/png:https://quievrechain.fr/wp-content/uploads/2026/03/Futsal-28-mars-2026.png
END:VEVENT
END:VCALENDAR