BEGIN:VCALENDAR
VERSION:2.0
PRODID:-//Ville de Quiévrechain - ECPv5.14.1//NONSGML v1.0//EN
CALSCALE:GREGORIAN
METHOD:PUBLISH
X-WR-CALNAME:Ville de Quiévrechain
X-ORIGINAL-URL:https://quievrechain.fr
X-WR-CALDESC:Events for Ville de Quiévrechain
REFRESH-INTERVAL;VALUE=DURATION:PT1H
X-Robots-Tag:noindex
X-PUBLISHED-TTL:PT1H
BEGIN:VTIMEZONE
TZID:Europe/Paris
BEGIN:DAYLIGHT
TZOFFSETFROM:+0100
TZOFFSETTO:+0200
TZNAME:CEST
DTSTART:20250330T010000
END:DAYLIGHT
BEGIN:STANDARD
TZOFFSETFROM:+0200
TZOFFSETTO:+0100
TZNAME:CET
DTSTART:20251026T010000
END:STANDARD
END:VTIMEZONE
BEGIN:VEVENT
DTSTART;TZID=Europe/Paris:20250905T200000
DTEND;TZID=Europe/Paris:20250905T230000
DTSTAMP:20260425T123702
CREATED:20250731T132546Z
LAST-MODIFIED:20250731T132551Z
UID:61863-1757102400-1757113200@quievrechain.fr
SUMMARY:[5 septembre] Cinéma en plein air
DESCRIPTION:🎬 Cinéma en plein air – Parc de l’AunelleRendez-vous vendredi 5 septembre pour une soirée cinéma sous les étoiles ! Accès dès 20h\, projection à 21h du film « Un p’tit truc en plus » réalisé par Artus.Sur place : buvette et petite restauration.📍 Parc de l’Aunelle – Entrée libre.
URL:https://quievrechain.fr/event/5-septembre-cinema-en-plein-air/
LOCATION:Parc de l’Aunelle\, Rue de l'Abattoir\, Quiévrechain\, France
CATEGORIES:Sports
ATTACH;FMTTYPE=image/png:https://quievrechain.fr/wp-content/uploads/2025/07/Cinema-en-plein-air-sept-2025.png
END:VEVENT
BEGIN:VEVENT
DTSTART;TZID=Europe/Paris:20250913T150000
DTEND;TZID=Europe/Paris:20250914T113000
DTSTAMP:20260425T123702
CREATED:20250911T092011Z
LAST-MODIFIED:20250911T092011Z
UID:62018-1757775600-1757849400@quievrechain.fr
SUMMARY:[13 & 14 septembre] Démonstrations de Krav Maga à Quiévrechain
DESCRIPTION:🥋 Démonstrations de Krav Maga à Quiévrechain ! 🥋 \nL’association Esprit Martial Crespin vous donne rendez-vous pour découvrir l’efficacité et l’énergie du Krav Maga :📅 Samedi 13 septembre de 15h à 16h15📅 Dimanche 14 septembre de 10h à 11h30📍 Complexe sportif de la Corderie – Quiévrechain \n👉 Venez voir\, tester et pourquoi pas rejoindre les cours réguliers ! \n📌 Horaires d’entraînement : \n\n\nMardi : 18h-19h (enfants) | 19h15-20h15 (ados) \n\n\nSamedi : 10h-11h (cours féminin) | 11h-12h15 (cours mixte) \n\n\n💪 Une belle occasion de découvrir une discipline à la fois sportive\, efficace et accessible à tous !
URL:https://quievrechain.fr/event/13-14-septembre-demonstrations-de-krav-maga-a-quievrechain/
LOCATION:Complexe Sportif de la Corderie\, Quiévrechain\, 59920
CATEGORIES:Sports
ATTACH;FMTTYPE=image/png:https://quievrechain.fr/wp-content/uploads/2025/09/Krav-Maga1-scaled.png
END:VEVENT
BEGIN:VEVENT
DTSTART;TZID=Europe/Paris:20250920T103000
DTEND;TZID=Europe/Paris:20250920T220000
DTSTAMP:20260425T123702
CREATED:20250821T080324Z
LAST-MODIFIED:20250822T092521Z
UID:61887-1758364200-1758405600@quievrechain.fr
SUMMARY:[20 septembre] 115 ans des pompiers de Quiévrechain
DESCRIPTION:115 ans des sapeurs-pompiers de Quiévrechain \n\n \n\n\nLe samedi 20 septembre\, l’amicale des sapeurs-pompiers de Quiévrechain en partenariat avec la Ville de Quiévrechain vous invitent à une journée exceptionnelle\, entre mémoire\, tradition et fraternité.\n \n\n\nÀ l’occasion des Journées européennes du patrimoine et du 115ᵉ anniversaire du Centre d’Incendie et de Secours\, venez célébrer l’engagement et le courage de celles et ceux qui veillent sur nous au quotidien.\n \n\n\n Au programme :\n 10h30 : Messe en l’église Saint-Martin en hommage aux sapeurs-pompiers disparus (avec l’Orchestre départemental du Nord).\n 11h30 : Défilé jusqu’au Centre d’Incendie et de Secours + dévoilement d’une plaque commémorative.\n 12h15 : Cocktail de l’amitié à la salle des fêtes.\n 14h – 18h : Démonstrations et manœuvres spectaculaires sur le parking de la Corderie et de la piscine.\n 20h : Show exceptionnel de la Brigade des Sapeurs-Pompiers de Paris – section gymnastique\, à la salle de la Corderie accompagné par l’Orchestre départemental du Nord. Entrée : 3 €.\n \n\n\nDes délégations Belges et Allemandes seront également présentes pour célébrer cet anniversaire aux côtés des pompiers de Quiévrechain.
URL:https://quievrechain.fr/event/20-septembre-115-ans-des-pompiers-de-quievrechain/
LOCATION:Complexe Sportif de la Corderie\, Quiévrechain\, 59920
CATEGORIES:Festivités,Spectacle
ATTACH;FMTTYPE=image/jpeg:https://quievrechain.fr/wp-content/uploads/2025/08/Affiche-115-ans-pompiers-scaled.jpg
END:VEVENT
BEGIN:VEVENT
DTSTART;VALUE=DATE:20250922
DTEND;VALUE=DATE:20250927
DTSTAMP:20260425T123702
CREATED:20250916T091440Z
LAST-MODIFIED:20250916T091519Z
UID:62041-1758499200-1758931199@quievrechain.fr
SUMMARY:[22 au 26 septembre] Exposition interactive – « Lux in tenebris »
DESCRIPTION:🔦 Exposition interactive – « Lux in tenebris » 🏰\n\n\n \n\n\nDu 22 au 26 septembre\, la bibliothèque vous plonge dans un thriller médiéval où VOUS êtes le héros !\n\n\nArmé d’une tablette et d’un casque audio 🎧\, partez à la recherche d’indices pour résoudre une mystérieuse enquête…\n\n\n \n\n\n📅 Mercredi 24 septembre\n\n\n🕑 Séances de 14h à 15h et de 15h30 à 16h30\n\n\n👥 8 personnes max par séance\n\n\n📌 Sur inscription uniquement auprès de la bibliothèque \n\n\n \n\n\n⚡ Ne manquez pas cette expérience immersive !
URL:https://quievrechain.fr/event/22-au-26-septembre-exposition-interactive-lux-in-tenebris/
LOCATION:Bibliotheque
CATEGORIES:Culture
ATTACH;FMTTYPE=image/jpeg:https://quievrechain.fr/wp-content/uploads/2025/09/affiche-expo-interactive.jpg
END:VEVENT
BEGIN:VEVENT
DTSTART;TZID=Europe/Paris:20250925T143000
DTEND;TZID=Europe/Paris:20250925T170000
DTSTAMP:20260425T123702
CREATED:20250826T142644Z
LAST-MODIFIED:20250826T142644Z
UID:61915-1758810600-1758819600@quievrechain.fr
SUMMARY:[25 septembre] Atelier mémoire
DESCRIPTION:🧠✨ Atelier Mémoire à Quiévrechain\n\n\n \n\n\nEnvie de stimuler vos neurones tout en passant un bon moment ?\n\n\nLe CCAS organise un atelier mémoire jeudi 25 septembre à 14h30 à la salle des fêtes\, réservé aux Quiévrechinois de 65 ans et +.\n\n\n👉 Atelier gratuit !\n\n\n \n\n\n📅 Inscriptions du 2 au 20 septembre auprès du CCAS ou au 03 27 45 42 24.
URL:https://quievrechain.fr/event/25-septembre-atelier-memoire/
LOCATION:Salle des fêtes\, Place Roger Salengro\, Quiévrechain\, France
CATEGORIES:Santé
ATTACH;FMTTYPE=image/jpeg:https://quievrechain.fr/wp-content/uploads/2025/08/Atelier-memoire-20251-scaled.jpg
END:VEVENT
BEGIN:VEVENT
DTSTART;TZID=Europe/Paris:20250927T100000
DTEND;TZID=Europe/Paris:20250927T130000
DTSTAMP:20260425T123702
CREATED:20250905T130303Z
LAST-MODIFIED:20250905T130303Z
UID:61977-1758967200-1758978000@quievrechain.fr
SUMMARY:[27 septembre] Septembre en or
DESCRIPTION:💛 Ensemble\, faisons briller l’espoir 💛\n\n\n \n\n\n📅 Samedi 27 septembre de 10h à 13h – Salle des fêtes de Quiévrechain\n\n\nLa Ville de Quiévrechain\, le CCAS et l’association Accolade vous donnent rendez-vous pour une matinée solidaire et festive autour de la lutte contre les cancers pédiatriques.\n\n\n \n\n\n👉 Un programme riche et participatif :\n\n\n• 10h à 13h : Stand de maquillage tenu par le service enfance jeunesse \n\n\n• 10h à 10h30 : Démonstration des majorettes avec “Les Blancs Moineaux” \n\n\n• 11h : Photo de groupe puis départ à vélo pour un petit parcours en famille \n\n\n• 12h15 : Remise de dessins par les enfants Quiévrechinois à l’association Accolade pour les enfants malades du centre Oscar Lambret \n\n\n• 12h30 à 13h : Participation de l’association Danses Aunelle \n\n\n \n\n\nSans oublier : des stands d’associations\, de la sensibilisation\, des smoothies solidaires 🥤\, des crêpes gourmandes …\n\n\n \n\n\nTous les fonds récoltés seront reversés à l’association Accolade pour soutenir la recherche et accompagner les familles touchées.\n\n\n🙏 Venez nombreux partager ce moment d’espoir et de solidarité !
URL:https://quievrechain.fr/event/27-septembre-septembre-en-or/
LOCATION:Salle des fêtes\, Place Roger Salengro\, Quiévrechain\, France
CATEGORIES:Solidarité
ATTACH;FMTTYPE=image/jpeg:https://quievrechain.fr/wp-content/uploads/2025/09/septembre-or.jpg
END:VEVENT
END:VCALENDAR