BEGIN:VCALENDAR
VERSION:2.0
PRODID:-//Ville de Quiévrechain - ECPv5.14.1//NONSGML v1.0//EN
CALSCALE:GREGORIAN
METHOD:PUBLISH
X-WR-CALNAME:Ville de Quiévrechain
X-ORIGINAL-URL:https://quievrechain.fr
X-WR-CALDESC:Events for Ville de Quiévrechain
REFRESH-INTERVAL;VALUE=DURATION:PT1H
X-Robots-Tag:noindex
X-PUBLISHED-TTL:PT1H
BEGIN:VTIMEZONE
TZID:Europe/Paris
BEGIN:DAYLIGHT
TZOFFSETFROM:+0100
TZOFFSETTO:+0200
TZNAME:CEST
DTSTART:20250330T010000
END:DAYLIGHT
BEGIN:STANDARD
TZOFFSETFROM:+0200
TZOFFSETTO:+0100
TZNAME:CET
DTSTART:20251026T010000
END:STANDARD
END:VTIMEZONE
BEGIN:VEVENT
DTSTART;TZID=Europe/Paris:20250630T113000
DTEND;TZID=Europe/Paris:20250704T133000
DTSTAMP:20260425T154019
CREATED:20250605T094800Z
LAST-MODIFIED:20250605T095152Z
UID:61585-1751283000-1751635800@quievrechain.fr
SUMMARY:[30 juin] Participez au repas intergénérationnel de fin d'année scolaire !
DESCRIPTION:🍽️🌿 Repas Intergénérationnel – Lundi 30 juin 2025 à Quiévrechain ! \nVous avez 65 ans ou plus ? Ne manquez pas ce moment chaleureux et convivial organisé par le CCAS de Quiévrechain ! \n🗓 Date : Lundi 30 juin 2025\nTarif : 4\,50 € le repas\nLieu : Service restauration scolaire\nInscription obligatoire avant le 26 juin 2025 \n👵👴 Une belle occasion de partager un bon repas et de créer des liens entre générations ! \n🍽 Au menu :\nChou-fleur\, sauce cocktail\nSauté de bœuf Marengo & riz bio\nYaourt nature sucré \n🚐 Besoin d’aide pour vous déplacer ? Un transport et l’assistance d’un(e) auxiliaire de vie peuvent être mis à disposition selon votre état de santé. \n📞 Infos & inscriptions : 03 27 45 42 24
URL:https://quievrechain.fr/event/30-juin-participez-au-repas-intergenerationnel-de-fin-dannee-scolaire/
LOCATION:Ancien collège\, 9 rue des champs\, Quiévrechain\, 59920\, France
CATEGORIES:Jeunesse
ATTACH;FMTTYPE=image/jpeg:https://quievrechain.fr/wp-content/uploads/2025/06/Menu-intergenerationnel-juin-2025.jpg
END:VEVENT
BEGIN:VEVENT
DTSTART;TZID=Europe/Paris:20250705T140000
DTEND;TZID=Europe/Paris:20250705T170000
DTSTAMP:20260425T154019
CREATED:20250630T131016Z
LAST-MODIFIED:20250630T131016Z
UID:61760-1751724000-1751734800@quievrechain.fr
SUMMARY:[5 juillet] Les dinosaures s'invitent à table
DESCRIPTION:🦖✨ Les dinosaures s’invitent à table ! 🦖✨\n\n\n \n\n\nSamedi 5 juillet 2025\, venez vivre un après-midi ludique et coloré avec vos enfants (de 3 à 6 ans) à la Ludothèque de Quiévrechain ! 🏞️\n\n\n \n\n\n🕑 De 14h à 17h\n\n\n📍 Ludothèque – Espace Enfance Jeunesse\, rue de la Mine\n\n\n \n\n\nAu programme :\n\n\n🎨 Activités manuelles et jeux de société\n\n\nUn moment fun et éducatif à partager en famille ! 👨‍👩‍👧‍👦\n\n\n \n\n\nInscriptions à la Ludothèque au 07 87 83 67 06.
URL:https://quievrechain.fr/event/5-juillet-les-dinosaures-sinvitent-a-table/
LOCATION:Espace Enfance Jeunesse
CATEGORIES:Jeunesse
ATTACH;FMTTYPE=image/jpeg:https://quievrechain.fr/wp-content/uploads/2025/06/Ludotheque-Les-dinosaures-sinvitent-a-table.jpg
END:VEVENT
BEGIN:VEVENT
DTSTART;TZID=Europe/Paris:20250709T190000
DTEND;TZID=Europe/Paris:20250709T213000
DTSTAMP:20260425T154019
CREATED:20250703T100001Z
LAST-MODIFIED:20250703T100021Z
UID:61782-1752087600-1752096600@quievrechain.fr
SUMMARY:[9 juillet] Conseil Municipal
DESCRIPTION:Le prochain conseil municipal aura lieu mercredi 9 juillet\, à 19h dans la salle des mariages (école Jean-Marie Brison). \n\n\nL’ordre du jour est à découvrir en cliquant ici.
URL:https://quievrechain.fr/event/9-juillet-conseil-municipal/
LOCATION:Ecole Jean-Marie Brison
CATEGORIES:Conseil Municipal
ATTACH;FMTTYPE=image/jpeg:https://quievrechain.fr/wp-content/uploads/2025/07/Conseil-Municipal-avril-2024.jpg
END:VEVENT
BEGIN:VEVENT
DTSTART;TZID=Europe/Paris:20250712T100000
DTEND;TZID=Europe/Paris:20250712T230000
DTSTAMP:20260425T154019
CREATED:20250605T095725Z
LAST-MODIFIED:20250605T095725Z
UID:61591-1752314400-1752361200@quievrechain.fr
SUMMARY:[12 juillet] 10 ans de jumelage à Quiévrechain
DESCRIPTION:🇫🇷🇩🇪 Quiévrechain fête les 10 ans de jumelage avec Merzenich ! 🎉 \nLe vendredi 12 juillet\, vivez une journée exceptionnelle placée sous le signe de l’amitié franco-allemande et de la convivialité ! \n🕙 10h à 12h : Cérémonie officielle à la salle des fêtesDiscours\, échanges et remises de distinctions en présence des élus et des délégations. \n🍽️ À partir de 12h : Repas et après-midi champêtre avec concert 🎶L’occasion parfaite de partager un bon moment en famille ou entre amis dans une ambiance détendue et festive ! \n🔥 19h30 : Retraite aux flambeaux – départ place Roger SalengroUn moment chaleureux à vivre ensemble\, petits et grands. \n🎆 23h : Vidéo mapping sur la façade de l’Hôtel de VilleUn spectacle visuel grandiose pour clore cette belle journée en lumière ✨ \nUne journée unique à ne pas manquer ! Venez nombreux célébrer cette belle histoire d’amitié entre nos deux villes ❤️🤍💙🤝🇩🇪
URL:https://quievrechain.fr/event/12-juillet-10-ans-de-jumelage-a-quievrechain/
LOCATION:Salle des fêtes\, Place Roger Salengro\, Quiévrechain\, France
CATEGORIES:Festivités
ATTACH;FMTTYPE=image/jpeg:https://quievrechain.fr/wp-content/uploads/2025/06/Affiche-12-juillet.jpg
END:VEVENT
BEGIN:VEVENT
DTSTART;TZID=Europe/Paris:20250712T120000
DTEND;TZID=Europe/Paris:20250712T163000
DTSTAMP:20260425T154019
CREATED:20250605T093643Z
LAST-MODIFIED:20250605T093643Z
UID:61572-1752321600-1752337800@quievrechain.fr
SUMMARY:[12 juillet] Repas des 10 ans du jumelage
DESCRIPTION:🎉🇫🇷🇩🇪 10 ans de jumelage à Quiévrechain\, ça se fête !Rejoignez-nous le samedi 12 juillet dans le jardin de la salle des fêtes pour un moment convivial autour d’un bon repas champêtre et d’un après-midi festif animé par le groupe Eventuell Eine Band 🎶 \nAu menu : jambon à la broche\, pommes de terre\, crudités et tarte 😋👉 Tarif : 15€ (hors boissons)📅 Inscriptions en mairie du 10/06 au 10/07 ! \nVenez célébrer l’amitié franco-allemande dans la bonne humeur ! 🇫🇷🤝🇩🇪
URL:https://quievrechain.fr/event/12-juillet-repas-des-10-ans-du-jumelage/
LOCATION:Salle des fêtes\, Place Roger Salengro\, Quiévrechain\, France
CATEGORIES:Festivités
ATTACH;FMTTYPE=image/jpeg:https://quievrechain.fr/wp-content/uploads/2025/06/repas-12-juillet-2025.jpg
END:VEVENT
BEGIN:VEVENT
DTSTART;TZID=Europe/Paris:20250712T230000
DTEND;TZID=Europe/Paris:20250713T000000
DTSTAMP:20260425T154019
CREATED:20250625T133945Z
LAST-MODIFIED:20250625T133945Z
UID:61687-1752361200-1752364800@quievrechain.fr
SUMMARY:[12 juillet] Vidéo mapping
DESCRIPTION:🌟 Un moment magique à ne pas manquer ! 🌟 \n🎥 Pour la première fois à Quiévrechain\, venez découvrir un vidéo mapping inédit sur la façade de l’Hôtel de Ville ✨Mais au fait\, c’est quoi le vidéo mapping ?C’est un spectacle visuel à couper le souffle\, mêlant animations\, lumières et effets 3D\, projetés directement sur un bâtiment. Résultat : l’Hôtel de Ville se transforme en une œuvre vivante\, pleine de couleurs et d’émotions 🤩 \n📆 Vendredi 12 juillet🕚 Diffusion en boucle de 23h à minuit📍 Place de l’Hôtel de Ville💥 Événement gratuit – Venez nombreux en famille ou entre amis !
URL:https://quievrechain.fr/event/12-juillet-video-mapping/
LOCATION:Place Roger Salengro\, Place Roger Salengro\, Quiévrechain\, 59920\, France
CATEGORIES:Festivités
ATTACH;FMTTYPE=image/jpeg:https://quievrechain.fr/wp-content/uploads/2025/06/Mapping-video.jpg
END:VEVENT
BEGIN:VEVENT
DTSTART;TZID=Europe/Paris:20250713T130000
DTEND;TZID=Europe/Paris:20250714T190000
DTSTAMP:20260425T154019
CREATED:20250605T094201Z
LAST-MODIFIED:20250714T163907Z
UID:61574-1752411600-1752519600@quievrechain.fr
SUMMARY:[13 & 14 juillet] Nos Quartiers d'été 2025
DESCRIPTION:🌞🎉 Nos Quartiers d’Été reviennent à Quiévrechain !Rendez-vous les 13 & 14 juillet de 13h à 19h au Parc de l’Aunelle pour deux après-midis pleins de fun et d’animations gratuites pour toute la famille ! 🤩 \n\n\n\n\n\n\n\n\n Le 13 juillet :\n\n\n– Spectacle de marionnettes « La Montagne Noire » (15h & 17h) – dès 2 ans\, sur le thème de la nature\n– Démonstrations et initiations de danse\, à 15h\, 16h et 17h\n– Déambulations burlesques de clowns de 16h à 18h\n \n\n\n Le 14 juillet :\n\n\n– Puzzle géant à colorier\, créé collectivement par les enfants\n– Soirée années 80/90 avec « Just Party » dès 20h\, toujours au parc de l’Aunelle\, pour clôturer ces festivités !\n \n\n\n Présents en continu les 13 & 14 juillet :\nFerme pédagogique\, maquillage\, trampolines élastiques\, jeux en bois\, bassins\, structures gonflables\, canoë-kayak\, cheval fou\, sumo\, jeu « la balayette »\, atelier créatif recyclé\, foodtrucks salé et sucré\, ambiance musicale… et des surprises !\n \n\n\n C’est gratuit\, festif et ouvert à tous. On vous attend nombreux !
URL:https://quievrechain.fr/event/13-14-juillet-nos-quartiers-dete-2025/
LOCATION:Parc de l’Aunelle\, Rue de l'Abattoir\, Quiévrechain\, France
CATEGORIES:Festivités
ATTACH;FMTTYPE=image/png:https://quievrechain.fr/wp-content/uploads/2025/06/1-scaled.png
END:VEVENT
BEGIN:VEVENT
DTSTART;TZID=Europe/Paris:20250714T083000
DTEND;TZID=Europe/Paris:20250714T163000
DTSTAMP:20260425T154019
CREATED:20250625T133641Z
LAST-MODIFIED:20250625T133641Z
UID:61685-1752481800-1752510600@quievrechain.fr
SUMMARY:[14 juillet] 🎣 Journée de la pêche à la grosse truite "Prix de la municipalité"
DESCRIPTION:🎣 Journée de la pêche à la grosse truite « Prix de la municipalité »\nLundi 14 Juillet 2025 – de 8h30 à 16h30\n📍 Du Pont du Moulin (Vannes) à la sortie du Parc de l’Aunelle (rue de l’Abattoir) \nL’AAPPMA “Les Amis de la Gaule” de Quiévrechain-Crespin vous invite à participer à une journée conviviale et sportive autour de la pêche\, avec le Prix de la Municipalité à la clé 🏆 \n🐟 80 kg de truites de 500 g à plus d’un kilo\n💶 Tarif : 5€ (sociétaires) / 10€ (non-sociétaires)\n🎟 Tombola à 17h (présence obligatoire)\n🍽 Buvette et restauration sur place \n👉 Inscriptions à la Maison du Parc de Quiévrechain :\n• Du lundi au vendredi de 16h à 18h\n• Le samedi de 10h30 à 12h\n• Ou sur place dès 7h30 le jour-même \nRèglement : une canne ou un lancer autorisé\, 4 prises maximum\, carte de pêche obligatoire. \nUn beau moment à partager entre passionnés\, amis ou en famille\, dans un cadre agréable et détendu 🌳
URL:https://quievrechain.fr/event/14-juillet-%f0%9f%8e%a3-journee-de-la-peche-a-la-grosse-truite-prix-de-la-municipalite/
LOCATION:Parc de l’Aunelle\, Rue de l'Abattoir\, Quiévrechain\, France
CATEGORIES:Sports
ATTACH;FMTTYPE=image/jpeg:https://quievrechain.fr/wp-content/uploads/2025/06/Peche-14-juillet.jpg
END:VEVENT
BEGIN:VEVENT
DTSTART;TZID=Europe/Paris:20250714T110000
DTEND;TZID=Europe/Paris:20250715T233000
DTSTAMP:20260425T154019
CREATED:20250605T094426Z
LAST-MODIFIED:20250714T163851Z
UID:61579-1752490800-1752622200@quievrechain.fr
SUMMARY:[14 juillet] Festivités du 14 Juillet 2025
DESCRIPTION:🇫🇷 14 Juillet à Quiévrechain : une journée festive à ne pas manquer ! 🇫🇷 \nRendez-vous ce dimanche 14 juillet pour célébrer la Fête nationale comme il se doit à Quiévrechain ! 🎉 \n🕚 11h : Défilé officielDépart place Roger Salengro  \n🎶 20h : Soirée années 80/90Ambiance garantie au parc de l’Aunelle avec une soirée gratuite 100 % rétro ! Sortez les vestes fluo et les tubes cultes\, on vous attend pour danser jusqu’au bout de la nuit. \n🎆 22h30 : Feu d’artificeToujours au parc de l’Aunelle – Un spectacle pyrotechnique magique pour clôturer cette belle journée en famille ou entre amis
URL:https://quievrechain.fr/event/14-juillet-festivites-du-14-juillet-2025/
LOCATION:Place Roger Salengro\, Place Roger Salengro\, Quiévrechain\, 59920\, France
CATEGORIES:Festivités
ATTACH;FMTTYPE=image/png:https://quievrechain.fr/wp-content/uploads/2025/06/14-Juillet-20252.png
END:VEVENT
BEGIN:VEVENT
DTSTART;TZID=Europe/Paris:20250714T200000
DTEND;TZID=Europe/Paris:20250715T230000
DTSTAMP:20260425T154019
CREATED:20250605T133056Z
LAST-MODIFIED:20250714T165210Z
UID:61583-1752523200-1752620400@quievrechain.fr
SUMMARY:[14 juillet] Soirée années 80-90
DESCRIPTION:🎤🕺 Ambiance rétro garantie à Quiévrechain !Le 14 juillet dès 20h\, on remonte le temps au Parc de l’Aunelle pour une grande soirée années 80-90 animée par le groupe Just Party ! 💃✨ \n🎶 Au programme : tubes cultes\, ambiance de folie et dancefloor pour chanter\, danser et revivre les meilleurs hits d’hier ! \n🌟 Gratuit – Ouvert à tous📍 Parc de l’Aunelle – Ville de Quiévrechain
URL:https://quievrechain.fr/event/14-juillet-soiree-annees-80-90/
LOCATION:Parc de l’Aunelle\, Rue de l'Abattoir\, Quiévrechain\, France
CATEGORIES:Festivités
ATTACH;FMTTYPE=image/jpeg:https://quievrechain.fr/wp-content/uploads/2025/06/soiree-annees-80-v2-2.jpg
END:VEVENT
END:VCALENDAR