BEGIN:VCALENDAR
VERSION:2.0
PRODID:-//Ville de Quiévrechain - ECPv5.14.1//NONSGML v1.0//EN
CALSCALE:GREGORIAN
METHOD:PUBLISH
X-WR-CALNAME:Ville de Quiévrechain
X-ORIGINAL-URL:https://quievrechain.fr
X-WR-CALDESC:Events for Ville de Quiévrechain
REFRESH-INTERVAL;VALUE=DURATION:PT1H
X-Robots-Tag:noindex
X-PUBLISHED-TTL:PT1H
BEGIN:VTIMEZONE
TZID:Europe/Paris
BEGIN:DAYLIGHT
TZOFFSETFROM:+0100
TZOFFSETTO:+0200
TZNAME:CEST
DTSTART:20250330T010000
END:DAYLIGHT
BEGIN:STANDARD
TZOFFSETFROM:+0200
TZOFFSETTO:+0100
TZNAME:CET
DTSTART:20251026T010000
END:STANDARD
END:VTIMEZONE
BEGIN:VEVENT
DTSTART;TZID=Europe/Paris:20250403T113000
DTEND;TZID=Europe/Paris:20250407T133000
DTSTAMP:20260425T201208
CREATED:20250304T103520Z
LAST-MODIFIED:20250304T103520Z
UID:61121-1743679800-1744032600@quievrechain.fr
SUMMARY:[3 avril] Participez au repas intergénérationnel d'avril !
DESCRIPTION:🌟 Repas intergénérationnel à Quiévrechain 🌟 \n\n\nLe CCAS de Quiévrechain vous invite à un moment convivial autour d’un repas intergénérationnel !\n\n\n \n\n\n📅 Quand ? Jeudi 3 avril à 11h45\n\n\n📍 Où ? À la restauration scolaire\n\n\n🍽️ Au menu :\n\n\nBoulettes de boeuf sauce tajine\n\n\nCouscous semoule bio et ses légumes\n\n\nFromage Edam\n\n\nOrange\n\n\n \n\n\n💡 Inscriptions jusqu’au 26 mars au service restauration scolaire de la Mairie.\n\n\n👉 Conditions :\n\n\nRéservé aux Quiévrechinois de 65 ans et +\n\n\nTarif : 4\,50 €\n\n\nPlaces limitées à 20 participants\, ne tardez pas !\n\n\n \n\n\nNous vous attendons nombreux pour partager ce moment chaleureux ! 🧡
URL:https://quievrechain.fr/event/3-avril-participez-au-repas-intergenerationnel-davril/
LOCATION:Ancien collège\, 9 rue des champs\, Quiévrechain\, 59920\, France
CATEGORIES:Jeunesse
ATTACH;FMTTYPE=image/jpeg:https://quievrechain.fr/wp-content/uploads/2025/03/repas-interge-avril-1-scaled.jpg
END:VEVENT
BEGIN:VEVENT
DTSTART;TZID=Europe/Paris:20250405T140000
DTEND;TZID=Europe/Paris:20250405T170000
DTSTAMP:20260425T201208
CREATED:20250320T124503Z
LAST-MODIFIED:20250320T124503Z
UID:61163-1743861600-1743872400@quievrechain.fr
SUMMARY:[5 avril] Pâques Attack
DESCRIPTION:🎉 Pâques Attack – Une Aventure « or » du Commun 🐣\n\n\n \n\n\nChers parents et enfants\,\n\n\n \n\n\nLa ludothèque et la bibliothèque de Quiévrechain vous invitent à une après-midi pleine de surprises ! 🐣🎲\n\n\n \n\n\nQuand ? Samedi 5 avril\, de 14h à 17h\n\n\nOù ? À l’Espace Enfance Jeunesse (rue de la Mine)\n\n\n \n\n\nAu programme :\n\n\n \n\n\n• Une chasse aux trésors palpitante\n\n\n• Des petits jeux de société pour tous les goûts\n\n\n• Des activités gratuites pour les enfants de 3 à 10 ans\n\n\n \n\n\nVenez nombreux pour partager un moment convivial et ludique en famille ! Nous avons hâte de vous y retrouver pour cette aventure « or » du commun.
URL:https://quievrechain.fr/event/5-avril-paques-attack/
LOCATION:Espace Enfance Jeunesse
CATEGORIES:Jeunesse
ATTACH;FMTTYPE=image/png:https://quievrechain.fr/wp-content/uploads/2025/03/Paques-attack.png
END:VEVENT
BEGIN:VEVENT
DTSTART;TZID=Europe/Paris:20250406T083000
DTEND;TZID=Europe/Paris:20250406T110000
DTSTAMP:20260425T201208
CREATED:20250402T130244Z
LAST-MODIFIED:20250402T130244Z
UID:61221-1743928200-1743937200@quievrechain.fr
SUMMARY:[6 avril] 32e parcours du coeur
DESCRIPTION: Rejoignez-nous pour le 32e Parcours du Cœur ! L’association Sports et Loisirs pour Tous\, en partenariat avec la ville de Quiévrechain\, vous invite à participer au 32e parcours du cœur !  Quand ? Dimanche 6 avril Heure ? De 8h30 à 11h Où ? Parc de l’Aunelle (départ à la maison du parc) Inscriptions sur place Participation : 1 € pour soutenir la recherche contre les maladies cardio-vasculaires Deux circuits vous attendent : 2\,5 km4\,5 kmVenez en courant\, marchant ou en balade familiale !  Une photo de groupe est prévue vers 10h Une collation vous sera offerte à l’arrivéeL’activité physique est essentielle pour rester en bonne santé. Nous comptons sur votre présence nombreuse ! 
URL:https://quievrechain.fr/event/6-avril-32e-parcours-du-coeur/
LOCATION:Parc de l’Aunelle\, Rue de l'Abattoir\, Quiévrechain\, France
CATEGORIES:Sports
ATTACH;FMTTYPE=image/jpeg:https://quievrechain.fr/wp-content/uploads/2025/04/485308442_640773102004580_7177260894966566882_n.jpg
END:VEVENT
BEGIN:VEVENT
DTSTART;TZID=Europe/Paris:20250406T150000
DTEND;TZID=Europe/Paris:20250406T200000
DTSTAMP:20260425T201208
CREATED:20250220T101044Z
LAST-MODIFIED:20250228T145149Z
UID:61044-1743951600-1743969600@quievrechain.fr
SUMMARY:[6 avril] Thé dansant
DESCRIPTION:🌸 Thé Dansant 🌸 \n📅 Dimanche 6 avril de 15h à 20h\n📍 Salle des fêtes de Quiévrechain \nVenez passer un moment convivial et dansant animé par la talentueuse Lili White ! 🎶💃 \n🎟️ Réservations : Dès aujourd’hui en mairie\n💸 Tarif : 3€ l’entrée (gratuit pour les moins de 12 ans)\n🍹 Buvette et petite restauration sur place\, assurées par l’association Ring Quiévrechinois \nNe manquez pas cette occasion de vous amuser en famille ou entre amis !🎉
URL:https://quievrechain.fr/event/6-avril-the-dansant/
LOCATION:Salle des fêtes\, Place Roger Salengro\, Quiévrechain\, France
CATEGORIES:Festivités
ATTACH;FMTTYPE=image/jpeg:https://quievrechain.fr/wp-content/uploads/2025/02/the-dansant-avril-V2-scaled.jpg
END:VEVENT
BEGIN:VEVENT
DTSTART;VALUE=DATE:20250407
DTEND;VALUE=DATE:20250412
DTSTAMP:20260425T201208
CREATED:20250220T095306Z
LAST-MODIFIED:20250220T095306Z
UID:61023-1743984000-1744415999@quievrechain.fr
SUMMARY:[7 au 11 avril] Accueil de Loisirs
DESCRIPTION:La ville de Quiévrechain vous propose son accueil de loisirs pour les 3 à 12 ans du 7 au 11 avril 2025 inclus\n👉 Pour vous inscrire\, rien de plus simple\, rendez-vous du 3 au 14 mars sur : https://quievrechain.myperischool.fr/connexion\n👉 Accueil de 9h à 17h\, service de garderie de 8h à 9h et de 17h à 18h. Repas à la charge de la famille.
URL:https://quievrechain.fr/event/7-au-11-avril-accueil-de-loisirs/
LOCATION:Espace Enfance Jeunesse
CATEGORIES:Jeunesse
ATTACH;FMTTYPE=image/png:https://quievrechain.fr/wp-content/uploads/2025/02/ACM-Avril.png
END:VEVENT
BEGIN:VEVENT
DTSTART;TZID=Europe/Paris:20250409T140000
DTEND;TZID=Europe/Paris:20250409T150000
DTSTAMP:20260425T201208
CREATED:20250402T134605Z
LAST-MODIFIED:20250402T134605Z
UID:61227-1744207200-1744210800@quievrechain.fr
SUMMARY:[9 avril] L'heure du conte : Le poussin sort de sa coquille
DESCRIPTION:🐣 Heure du Conte à la bibliothèque : Le poussin sort de sa coquille 📚 \n📅 Mercredi 9 avril\n⏰ De 14h à 15h\n📍 À la bibliothèque\n🧒 Pour les enfants de 5 à 8 ans \n🌟 Au programme : Lecture de livres suivie d’un atelier créatif ! \n📞 Sur inscription au 03 27 24 26 74 – Places limitées !
URL:https://quievrechain.fr/event/9-avril-lheure-du-conte-le-poussin-sort-de-sa-coquille/
LOCATION:Bibliotheque
CATEGORIES:Jeunesse
ATTACH;FMTTYPE=image/jpeg:https://quievrechain.fr/wp-content/uploads/2025/04/Heure-du-conte-avril-2025.jpg
END:VEVENT
BEGIN:VEVENT
DTSTART;TZID=Europe/Paris:20250411T100000
DTEND;TZID=Europe/Paris:20250411T170000
DTSTAMP:20260425T201208
CREATED:20250404T092735Z
LAST-MODIFIED:20250404T092735Z
UID:61246-1744365600-1744390800@quievrechain.fr
SUMMARY:[11 avril] Car Wash
DESCRIPTION:🚗✨ Grand Car Wash par le Service Enfance Jeunesse ! ✨🚗\n\n\n \n\n\nVenez nombreux le 11 avril de 10h à 17h sur la Place Roger Salengro pour notre événement Car Wash au profit des jeunes de 12 à 25 ans ! 🌞\n\n\n \n\n\n💦 Les Tarifs :\n\n\n \n\n\n • Nettoyage intérieur : 4€\n\n\n • Nettoyage extérieur : 6€\n\n\n • Nettoyage complet : 9€\n\n\n \n\n\nC’est l’occasion idéale de faire briller votre voiture tout en soutenant une bonne cause ! 🤝\n\n\n \n\n\nNous comptons sur votre présence et votre générosité pour faire de cette journée un succès 😊
URL:https://quievrechain.fr/event/11-avril-car-wash/
LOCATION:Place Roger Salengro\, Place Roger Salengro\, Quiévrechain\, 59920\, France
CATEGORIES:Jeunesse
ATTACH;FMTTYPE=image/jpeg:https://quievrechain.fr/wp-content/uploads/2025/04/affiche-car-wash-2025-scaled.jpg
END:VEVENT
BEGIN:VEVENT
DTSTART;TZID=Europe/Paris:20250417T143000
DTEND;TZID=Europe/Paris:20250417T170000
DTSTAMP:20260425T201208
CREATED:20250227T180020Z
LAST-MODIFIED:20250306T085236Z
UID:60988-1744900200-1744909200@quievrechain.fr
SUMMARY:[17 avril] Atelier chocolat à Quiévrechain
DESCRIPTION:Atelier chocolat à Quiévrechain ! 🍫\n\n\n \n\n\nLa ville de Quiévrechain vous invite à un atelier gourmand animé par Christophe Tahier\, maître chocolatier de Au tour du kiosque ! 🍬✨\n\n\n \n\n\n📅 Jeudi 17 avril\n\n\n🕝 14h30 – 17h\n\n\n📍 Salle des fêtes\n\n\n \n\n\n🎟 Atelier gratuit\, réservé aux Quiévrechinois de plus de 60 ans (30 places max).\n\n\n📌 Inscription obligatoire en Mairie avant le 9 avril !\n\n\n \n\n\nNe manquez pas cette occasion de découvrir les secrets du chocolat et de régaler vos papilles ! 🍫🤩
URL:https://quievrechain.fr/event/17-avril-atelier-chocolat-a-quievrechain/
LOCATION:Salle des fêtes\, Place Roger Salengro\, Quiévrechain\, France
CATEGORIES:Jeunesse
ATTACH;FMTTYPE=image/jpeg:https://quievrechain.fr/wp-content/uploads/2025/02/atelier-chocolat-quievrechain.jpg
END:VEVENT
BEGIN:VEVENT
DTSTART;TZID=Europe/Paris:20250418T150000
DTEND;TZID=Europe/Paris:20250418T160000
DTSTAMP:20260425T201208
CREATED:20250401T170023Z
LAST-MODIFIED:20250402T093329Z
UID:61210-1744988400-1744992000@quievrechain.fr
SUMMARY:[18 avril] Découverte de l'aquagym douce : Séance gratuite pour les seniors !
DESCRIPTION:Découverte de l’aquagym douce : Séance gratuite pour les seniors ! 🏊\n\n\n \n\n\nChers seniors\, le CCAS a le plaisir de vous offrir une séance découverte d’aquagym douce\, spécialement conçue pour vous ! Ne tardez pas à vous inscrire rapidement afin de profiter de ce moment de bien-être 🌿\n\n\n \n\n\n➡ Quand et où ? Vendredi 18 avril à 14h45\, début de la séance : 15h dans l’eau. RDV à l’Aqua Centre de l’Aunelle – Gratuit. \n\n\n➡ Pour qui ? Cette activité est parfaitement adaptée aux seniors\, quel que soit votre niveau. L’eau offre un environnement idéal pour se remettre en forme\, tout en douceur. \n\n\n➡ Comment s’inscrire ? Les inscriptions sont obligatoires et seront ouvertes à partir du mardi 2 avril\, jusqu’à ce que les 30 places disponibles soient attribuées. RDV en mairie ou par téléphone au 03 27 45 42 24. \n\n\n \n\n\n👉À prévoir : Maillot de bain classique\, Serviette. Bonnet de bain et lunettes (facultatifs) \n\n\n \n\n\nCette activité vous permettra de travailler votre souplesse et votre équilibre dans une ambiance conviviale.
URL:https://quievrechain.fr/event/decouverte-de-laquagym-douce-seance-gratuite-pour-les-seniors/
LOCATION:Aqua Centre de l’Aunelle\, 117 rue Jean Mermoz\, Quiévrechain\, 59920
CATEGORIES:Sports
ATTACH;FMTTYPE=image/jpeg:https://quievrechain.fr/wp-content/uploads/2025/04/affiche-piscine-seniors-1.jpg
END:VEVENT
BEGIN:VEVENT
DTSTART;TZID=Europe/Paris:20250421T100000
DTEND;TZID=Europe/Paris:20250421T120000
DTSTAMP:20260425T201208
CREATED:20250416T131955Z
LAST-MODIFIED:20250416T131955Z
UID:61276-1745229600-1745236800@quievrechain.fr
SUMMARY:[21 avril] Atelier chocolat dès 10h\, durant la chasse aux oeufs\, pour petits et grands gourmands 🐰🍫
DESCRIPTION:Nous aurons le plaisir d’accueillir Christophe Tahier\, Maître Chocolatier de la maison « Au Tour du Chocolat »\, durant la chasse aux oeufs de lundi ! \n \n\n\n Un atelier chocolat sera proposé pour les petits et les grands gourmands. Une occasion unique de découvrir les secrets du chocolat et de mettre la main à la pâte… ou plutôt au cacao !\n \n\n\nRendez-vous le 21 avril pour une journée chocolatée\, festive et familiale\, à partir de 10 heures dans le jardin de la salle des fêtes !
URL:https://quievrechain.fr/event/21-avril-atelier-chocolat-des-10h-durant-la-chasse-aux-oeufs-pour-petits-et-grands-gourmands-%f0%9f%90%b0%f0%9f%8d%ab/
LOCATION:Salle des fêtes\, Place Roger Salengro\, Quiévrechain\, France
CATEGORIES:Festivités
ATTACH;FMTTYPE=image/png:https://quievrechain.fr/wp-content/uploads/2025/04/Copie-de-Au-Tour-du-Chocolat.png
END:VEVENT
BEGIN:VEVENT
DTSTART;TZID=Europe/Paris:20250421T100000
DTEND;TZID=Europe/Paris:20250421T170000
DTSTAMP:20260425T201208
CREATED:20250402T170024Z
LAST-MODIFIED:20250402T085627Z
UID:61032-1745229600-1745254800@quievrechain.fr
SUMMARY:[21 avril] Chasse aux œufs
DESCRIPTION:🐣 Chasse aux Œufs à Quiévrechain ! 🐣\n\n\n \n\n\nLa ville de Quiévrechain a le plaisir d’organiser une chasse aux œufs pour les enfants de 3 à 9 ans ! 🍫✨\n\n\n \n\n\n📅 Date : Lundi 21 avril à partir de 10h\n\n\n📍 Lieu : Jardin de la salle des fêtes\n\n\n \n\n\n🎟️ Informations importantes :\n\n\n \n\n\n • Places limitées et réservées exclusivement aux Quiévrechinois.\n\n\n • Participation : 1 € par enfant.\n\n\n • Réservations obligatoires en mairie avant le 16 avril.\n\n\n \n\n\n🧺 N’oubliez pas : Apportez votre panier pour ramasser tous les trésors !\n\n\n \n\n\nVenez nombreux pour partager un moment de joie et de convivialité avec vos enfants ! 🌷
URL:https://quievrechain.fr/event/21-avril-chasse-aux-oeufs/
LOCATION:Salle des fêtes\, Place Roger Salengro\, Quiévrechain\, France
CATEGORIES:Festivités,Jeunesse
ATTACH;FMTTYPE=image/jpeg:https://quievrechain.fr/wp-content/uploads/2025/02/Chasse-aux-oeufs-v2-2.jpg
END:VEVENT
BEGIN:VEVENT
DTSTART;TZID=Europe/Paris:20250426T133000
DTEND;TZID=Europe/Paris:20250426T180000
DTSTAMP:20260425T201208
CREATED:20250326T143254Z
LAST-MODIFIED:20250326T143254Z
UID:61191-1745674200-1745690400@quievrechain.fr
SUMMARY:[26 avril] Civili Games
DESCRIPTION:La ville de Quiévrechain vous invite aux Civili Games\, un événement exceptionnel\, le samedi 26 avril de 13h30 à 18h au stade Cheval et à la salle François Denis !\n\n\n \n\n\n🎈 Au programme :\n\n\n \n\n\n• Tournoi de foot pour les 11-15 ans et les 16-25 ans. Inscriptions dès le 7 avril via l’Espace Enfance Jeunesse au 06 71 65 06 46. Attention\, places limitées.\n\n\n• Démonstrations de hip hop et freestyle foot\n\n\n• Châteaux gonflables pour les enfants\n\n\n• Voiture tonneau et simulateur de 2 roues\n\n\n• Atelier graffiti\n\n\n• Et bien plus encore !\n\n\n \n\n\n🎁 De nombreux lots à gagner tout au long de la journée !\n\n\n \n\n\n🍔 Buvette et petite restauration sur place pour vous restaurer entre deux activités.\n\n\n \n\n\n🎟 Entrée gratuite pour tous !\n\n\n \n\n\n📆 Réservez votre date\, c’est dans 1 mois ! \n\n\n \n\n\nNe manquez pas cette journée pleine de fun et de découvertes ! Venez en famille ou entre amis pour partager un moment inoubliable.
URL:https://quievrechain.fr/event/26-avril-civili-games/
LOCATION:Salle François Denis\, Rue de la Mine\, Quiévrechain\, 59920
CATEGORIES:Jeunesse
ATTACH;FMTTYPE=image/jpeg:https://quievrechain.fr/wp-content/uploads/2025/03/CIVILI-GAMES-scaled.jpg
END:VEVENT
END:VCALENDAR