BEGIN:VCALENDAR
VERSION:2.0
PRODID:-//Ville de Quiévrechain - ECPv5.14.1//NONSGML v1.0//EN
CALSCALE:GREGORIAN
METHOD:PUBLISH
X-WR-CALNAME:Ville de Quiévrechain
X-ORIGINAL-URL:https://quievrechain.fr
X-WR-CALDESC:Events for Ville de Quiévrechain
REFRESH-INTERVAL;VALUE=DURATION:PT1H
X-Robots-Tag:noindex
X-PUBLISHED-TTL:PT1H
BEGIN:VTIMEZONE
TZID:Europe/Paris
BEGIN:DAYLIGHT
TZOFFSETFROM:+0100
TZOFFSETTO:+0200
TZNAME:CEST
DTSTART:20250330T010000
END:DAYLIGHT
BEGIN:STANDARD
TZOFFSETFROM:+0200
TZOFFSETTO:+0100
TZNAME:CET
DTSTART:20251026T010000
END:STANDARD
END:VTIMEZONE
BEGIN:VEVENT
DTSTART;TZID=Europe/Paris:20250131T170000
DTEND;TZID=Europe/Paris:20250204T210000
DTSTAMP:20260425T225501
CREATED:20250114T100643Z
LAST-MODIFIED:20250114T100643Z
UID:60839-1738342800-1738702800@quievrechain.fr
SUMMARY:[31 janvier] Soirée bien-être - Réservée aux filles
DESCRIPTION:🧘‍♀️😌 Envie d’une pause bien-être entre copines ? Ne manque pas notre soirée spéciale filles de 12 à 25 ans\, le vendredi 31 janvier 2025\, de 17h à 21h à l’Espace Enfance Jeunesse !\nAu programme : atelier détente pour se relaxer\, atelier coiffure pour se faire chouchouter\, atelier beauté des mains et bien d’autres surprises !\nEt parce qu’on pense à tout\, la restauration sur place est gratuite.\n Pour plus d’infos\, contacte-nous au 06 710 65 06 46 ou via Snap : jeunesse59920.\nViens passer un moment fun et cocooning… On t’attend !
URL:https://quievrechain.fr/event/31-janvier-soiree-bien-etre-reservee-aux-filles/
LOCATION:Espace Enfance Jeunesse
CATEGORIES:Jeunesse
ATTACH;FMTTYPE=image/png:https://quievrechain.fr/wp-content/uploads/2025/01/Soiree.png
END:VEVENT
BEGIN:VEVENT
DTSTART;TZID=Europe/Paris:20250206T113000
DTEND;TZID=Europe/Paris:20250210T133000
DTSTAMP:20260425T225501
CREATED:20250121T155124Z
LAST-MODIFIED:20250121T155124Z
UID:60878-1738841400-1739194200@quievrechain.fr
SUMMARY:[6 février] Participez au repas intergénérationnel de février !
DESCRIPTION:🌟 Repas intergénérationnel à Quiévrechain 🌟\nLe CCAS de Quiévrechain vous invite à un moment convivial autour d’un délicieux repas intergénérationnel !\n📅 Quand ? Jeudi 6 février à 11h45\n📍 Où ? À la restauration scolaire\n🍽️ Au menu :\nSoupe à l’oignon\nSauté de bœuf sauce aux herbes ou marmite de colin sauce aux herbesCarottes et pommes de terre fraîches et locales\nFlan au chocolat et un fromage\n💡 Inscriptions jusqu’au 29 janvier au service restauration scolaire de la Mairie.\n👉 Conditions :\nRéservé aux Quiévrechinois de 65 ans et +Tarif : 4\,50 €\nPlaces limitées à 20 participants\, ne tardez pas !\nNous vous attendons nombreux pour partager ce moment chaleureux ! 🧡
URL:https://quievrechain.fr/event/6-fevrier-participez-au-repas-intergenerationnel-de-fevrier/
LOCATION:Ancien collège\, 9 rue des champs\, Quiévrechain\, 59920\, France
CATEGORIES:Jeunesse
ATTACH;FMTTYPE=image/jpeg:https://quievrechain.fr/wp-content/uploads/2025/01/Repas-interge-fevrier-2025.jpg
END:VEVENT
BEGIN:VEVENT
DTSTART;TZID=Europe/Paris:20250208T140000
DTEND;TZID=Europe/Paris:20250208T180000
DTSTAMP:20260425T225501
CREATED:20250114T123907Z
LAST-MODIFIED:20250123T081854Z
UID:60847-1739023200-1739037600@quievrechain.fr
SUMMARY:[8 février] Manga Mania
DESCRIPTION:📣 Manga Mania : 1ère Édition à la bibliothèque ! 📚🎉\n\n\n \n\n\n🌸 Rejoignez-nous pour une après-midi 100% manga et créativité le samedi 8 février de 14h à 18h à la bibliothèque ! Que vous soyez fan de mangas ou curieux de découvrir cet univers\, il y en aura pour tous les goûts. 😃\n\n\n \n\n\nAu programme :\n\n\n🎨 Atelier Origami avec Romain Delaire\, de 15h30 à 17h (sessions de 15 minutes).\n\n\n🎲 Jeux de société autour du manga animés par Anissa de la ludothèque.\n\n\n📖 Lecture jeunesse : Chi\, une vie de chat à 14h15 et à 17h15.\n\n\n \n\n\n✨ Venez partager un moment ludique et convivial en famille ou entre amis. On vous attend nombreux !\n\n\n \n\n\n📍 Entrée gratuite. Rendez-vous à la bibliothèque pour plonger dans l’univers fascinant du manga.
URL:https://quievrechain.fr/event/8-fevrier-manga-mania/
LOCATION:Bibliotheque
CATEGORIES:Culture
ATTACH;FMTTYPE=image/jpeg:https://quievrechain.fr/wp-content/uploads/2025/01/Manga-mania-1-scaled.jpg
END:VEVENT
BEGIN:VEVENT
DTSTART;TZID=Europe/Paris:20250210T080000
DTEND;TZID=Europe/Paris:20250214T170000
DTSTAMP:20260425T225501
CREATED:20250107T134700Z
LAST-MODIFIED:20250107T134700Z
UID:60821-1739174400-1739552400@quievrechain.fr
SUMMARY:[10 au 14 février] Accueil de Loisirs
DESCRIPTION:🎪 Plongez dans l’univers du cirque et des acrobaties avec notre ACM ! 🤹‍♀️✨ \n\n\n \n\n\n📅 Du 10 au 14 février 2025\, nous accueillons vos enfants pour une semaine inoubliable sous le thème du cirque et des acrobaties. Au programme : des activités ludiques\, des ateliers captivants et des moments de partage pour découvrir l’art du spectacle ! \n\n\n \n\n\n🕘 Horaires : \n\n\nL’ACM se déroule de 9h à 17h. \n\n\nUn accueil périscolaire est également disponible de 8h à 9h et de 17h à 18h pour plus de flexibilité. \n\n\n \n\n\n👦👧 Pour qui ? \n\n\nCet accueil est réservé aux enfants de 3 à 12 ans\, prêts à découvrir de nouvelles aventures ! \n\n\n \n\n\n🍽️ Repas : \n\n\nMerci de prévoir les repas de vos enfants. Ils restent à la charge des familles. \n\n\n \n\n\n✍️ Inscriptions : \n\n\nLes inscriptions se déroulent du 10 au 17 janvier 2025. Rendez-vous directement sur Myperischool pour réserver vos places. \n\n\n👉+ d’informations sur Ville de Quiévrechain – Service Enfance Jeunesse\n\n\n \n\n\n🎭 Donnez à vos enfants l’occasion de vivre une expérience enrichissante et amusante dans un cadre chaleureux et sécurisé. Places limitées\, alors ne tardez pas !
URL:https://quievrechain.fr/event/10-au-14-fevrier-accueil-de-loisirs/
LOCATION:Espace Enfance Jeunesse
CATEGORIES:Jeunesse
ATTACH;FMTTYPE=image/jpeg:https://quievrechain.fr/wp-content/uploads/2025/01/photo_2025-01-06_16-34-16.jpg
END:VEVENT
BEGIN:VEVENT
DTSTART;TZID=Europe/Paris:20250212T140000
DTEND;TZID=Europe/Paris:20250212T153000
DTSTAMP:20260425T225501
CREATED:20250203T100644Z
LAST-MODIFIED:20250203T100644Z
UID:60959-1739368800-1739374200@quievrechain.fr
SUMMARY:[12 février] L'heure du conte : La Banquise
DESCRIPTION:❄️🐧 L’heure du conte : La Banquise 🌊\nMercredi 12 février de 14h à 15h30\, plongez dans l’univers glacé de la banquise ! Un moment magique pour les enfants de 5 à 8 ans à la bibliothèque. 📖✨\n🎟️ Attention\, les places sont limitées et sur réservation !\nVenez découvrir les secrets de ce monde gelé et rencontrer ses habitants fascinants !
URL:https://quievrechain.fr/event/12-fevrier-lheure-du-conte-la-banquise/
LOCATION:Bibliotheque
CATEGORIES:Jeunesse
ATTACH;FMTTYPE=image/jpeg:https://quievrechain.fr/wp-content/uploads/2025/02/Atelier-lheure-du-conte-Fevrier-2025.jpg
END:VEVENT
BEGIN:VEVENT
DTSTART;TZID=Europe/Paris:20250215T133000
DTEND;TZID=Europe/Paris:20250215T173000
DTSTAMP:20260425T225501
CREATED:20250203T102905Z
LAST-MODIFIED:20250203T102936Z
UID:60967-1739626200-1739640600@quievrechain.fr
SUMMARY:[15 février] ⚽️ Tournoi Futsal pour les 15-25 ans ⚽️
DESCRIPTION:⚽️ Tournoi Futsal pour les 15-25 ans ⚽️ \nTu as entre 15 et 25 ans ? Tu aimes le futsal et tu veux te mesurer aux autres dans une ambiance conviviale ? C’est le moment de chausser tes baskets ! \n📅 Quand ? Le samedi 15 février 2025\, à partir de 13h30\n📍 Où ? Complexe sportif de la Corderie\n💶 Participation : 1€\n📝 Inscriptions obligatoires ! \nPar téléphone : 06-71-65-06-46\nÀ l’Espace Jeunesse\, rue de la Mine\nOu via Snap : JEUNESSE59920\nVenez nombreux ! 🔥
URL:https://quievrechain.fr/event/15-fevrier-%e2%9a%bd%ef%b8%8f-tournoi-futsal-pour-les-15-25-ans-%e2%9a%bd%ef%b8%8f/
LOCATION:Complexe Sportif de la Corderie\, Quiévrechain\, 59920
CATEGORIES:Jeunesse,Sports
ATTACH;FMTTYPE=image/jpeg:https://quievrechain.fr/wp-content/uploads/2025/02/Futsal-tournoi-15-25-ans.jpg
END:VEVENT
BEGIN:VEVENT
DTSTART;TZID=Europe/Paris:20250227T143000
DTEND;TZID=Europe/Paris:20250227T170000
DTSTAMP:20260425T225501
CREATED:20250128T091107Z
LAST-MODIFIED:20250224T083901Z
UID:60943-1740666600-1740675600@quievrechain.fr
SUMMARY:[27 février] Atelier jeux anciens
DESCRIPTION:La ville de Quiévrechain\, en partenariat avec l’association France Alzheimer propose un atelier « jeux anciens » avec la présence de la ludothèque et de la bibliothèque le jeudi 27 février de 14h30 à 17h à la salle des fêtes.\n\n\n👉Atelier gratuit. Inscription en mairie.
URL:https://quievrechain.fr/event/27-fevrier-atelier-jeux-anciens/
LOCATION:Salle des fêtes\, Place Roger Salengro\, Quiévrechain\, France
CATEGORIES:Quotidien
ATTACH;FMTTYPE=image/jpeg:https://quievrechain.fr/wp-content/uploads/2025/01/atelier-jeux-anciens-quievrechain.jpg
END:VEVENT
END:VCALENDAR