BEGIN:VCALENDAR
VERSION:2.0
PRODID:-//Ville de Quiévrechain - ECPv5.14.1//NONSGML v1.0//EN
CALSCALE:GREGORIAN
METHOD:PUBLISH
X-WR-CALNAME:Ville de Quiévrechain
X-ORIGINAL-URL:https://quievrechain.fr
X-WR-CALDESC:Events for Ville de Quiévrechain
REFRESH-INTERVAL;VALUE=DURATION:PT1H
X-Robots-Tag:noindex
X-PUBLISHED-TTL:PT1H
BEGIN:VTIMEZONE
TZID:Europe/Paris
BEGIN:DAYLIGHT
TZOFFSETFROM:+0100
TZOFFSETTO:+0200
TZNAME:CEST
DTSTART:20240331T010000
END:DAYLIGHT
BEGIN:STANDARD
TZOFFSETFROM:+0200
TZOFFSETTO:+0100
TZNAME:CET
DTSTART:20241027T010000
END:STANDARD
END:VTIMEZONE
BEGIN:VEVENT
DTSTART;TZID=Europe/Paris:20241028T090000
DTEND;TZID=Europe/Paris:20241103T170000
DTSTAMP:20260426T033020
CREATED:20241004T143921Z
LAST-MODIFIED:20241004T143921Z
UID:60408-1730106000-1730653200@quievrechain.fr
SUMMARY:[28 octobre au 3 novembre] Toussaint : Un service gratuit de voiturette dans le cimetière
DESCRIPTION:Durant la semaine de la Toussaint\, du 28 octobre au 3 novembre\, la municipalité mettra en place un service gratuit de voiturettes pour faciliter vos déplacements au sein du cimetière.\nCe dispositif vise à améliorer l’accessibilité pour tous\, tandis que l’accès aux voitures reste strictement interdit à l’intérieur de l’enceinte.\nPour connaître les horaires du service ou obtenir plus d’informations\, contactez la mairie au 03 27 45 42 24.
URL:https://quievrechain.fr/event/28-octobre-au-3-novembre-toussaint-un-service-gratuit-de-voiturette-dans-le-cimetiere/
LOCATION:Cimetière
CATEGORIES:Quotidien
ATTACH;FMTTYPE=image/png:https://quievrechain.fr/wp-content/uploads/2024/10/Toussaint-voiturettes-a4.png
END:VEVENT
BEGIN:VEVENT
DTSTART;TZID=Europe/Paris:20241107T143000
DTEND;TZID=Europe/Paris:20241107T163000
DTSTAMP:20260426T033020
CREATED:20241025T093444Z
LAST-MODIFIED:20241025T100422Z
UID:60495-1730989800-1730997000@quievrechain.fr
SUMMARY:[7 novembre] Atelier Siel Bleu - Sport et nutrition
DESCRIPTION:Siel Bleu organise un atelier dédié aux séniors sur le thème « Sport et Nutrition » ! Venez découvrir comment allier une activité physique adaptée et une alimentation équilibrée pour préserver votre bien-être au quotidien. 🌱💪 \n🗓 Quand ? Jeudi 7 novembre\, de 14h30 à 16h30\n📍 Où ? Salle des fêtes\n📞 Inscriptions auprès du CCAS \nRejoignez-nous pour un moment d’échange enrichissant ! 😊
URL:https://quievrechain.fr/event/7-novembre-atelier-siel-bleu-sport-et-nutrition/
LOCATION:Salle des fêtes\, Place Roger Salengro\, Quiévrechain\, France
CATEGORIES:Santé
ATTACH;FMTTYPE=image/png:https://quievrechain.fr/wp-content/uploads/2024/10/Sport-et-nutrition-Siel-Bleu.png
END:VEVENT
BEGIN:VEVENT
DTSTART;TZID=Europe/Paris:20241109T090000
DTEND;TZID=Europe/Paris:20241109T180000
DTSTAMP:20260426T033020
CREATED:20241025T083745Z
LAST-MODIFIED:20241025T083834Z
UID:60487-1731142800-1731175200@quievrechain.fr
SUMMARY:[9 novembre] Opération caddie
DESCRIPTION:Le Secours Populaire de Quiévrechain organise une « opération caddie » le samedi 9 novembre de 9h à 18h au Supermarché Match. Merci pour vos aide 🙏
URL:https://quievrechain.fr/event/9-novembre-operation-caddie/
LOCATION:Supermarché Match
CATEGORIES:Quotidien
ATTACH;FMTTYPE=image/jpeg:https://quievrechain.fr/wp-content/uploads/2024/10/operation-caddie.jpg
END:VEVENT
BEGIN:VEVENT
DTSTART;TZID=Europe/Paris:20241116T100000
DTEND;TZID=Europe/Paris:20241116T190000
DTSTAMP:20260426T033020
CREATED:20241016T145735Z
LAST-MODIFIED:20241016T145735Z
UID:60429-1731751200-1731783600@quievrechain.fr
SUMMARY:[16 novembre] Bourse aux jouets et livres du CAOB
DESCRIPTION:L’association CAOB est ravie de vous inviter à sa toute première bourse aux jouets et livres\, qui aura lieu le samedi 16 novembre de 10h à 19h à la salle des fêtes de Quiévrechain. \n📝 Inscriptions les 18 et 19 octobre en Mairie.\n💶 Prix : 4€ les 3 mètres.\n🍽️ Buvette et petite restauration sur place pour vous régaler tout au long de la journée ! \n📞 Plus d’infos : 07 75 78 33 61\n📧 Ou par mail : caob.quievrechain@hotmail.com \nVenez nombreux pour dénicher des trésors et passer un bon moment en famille ! 🎁📚
URL:https://quievrechain.fr/event/16-novembre-bourse-aux-jouets-et-livres-du-caob/
LOCATION:Salle des fêtes\, Place Roger Salengro\, Quiévrechain\, France
CATEGORIES:Brocante
ATTACH;FMTTYPE=image/png:https://quievrechain.fr/wp-content/uploads/2024/10/Red-And-White-Illustration-Christmas-Toy-Drive-Flyer1-copie-2.png
END:VEVENT
BEGIN:VEVENT
DTSTART;TZID=Europe/Paris:20241118T150000
DTEND;TZID=Europe/Paris:20241118T190000
DTSTAMP:20260426T033020
CREATED:20241105T154043Z
LAST-MODIFIED:20241105T154043Z
UID:60528-1731942000-1731956400@quievrechain.fr
SUMMARY:[18 novembre] Don du sang
DESCRIPTION:🩸 Prochain don du sang le lundi 18 novembre de 15h à 19h à la salle des fêtes de Quiévrechain.  \n👉 Vous pouvez prendre rendez-vous ici.
URL:https://quievrechain.fr/event/18-novembre-don-du-sang/
LOCATION:Salle des fêtes\, Place Roger Salengro\, Quiévrechain\, France
CATEGORIES:Santé
ATTACH;FMTTYPE=image/jpeg:https://quievrechain.fr/wp-content/uploads/2024/10/Don-du-sang-FB.jpg
END:VEVENT
BEGIN:VEVENT
DTSTART;TZID=Europe/Paris:20241122T190000
DTEND;TZID=Europe/Paris:20241122T210000
DTSTAMP:20260426T033020
CREATED:20241120T105251Z
LAST-MODIFIED:20241120T105251Z
UID:60606-1732302000-1732309200@quievrechain.fr
SUMMARY:[22 novembre] Concert de la Sainte Cécile par l’école de musique de Quiévrechain
DESCRIPTION:🎶 Concert de la Sainte Cécile 🎶 \nLes professeurs de l’École Municipale de Musique de Quiévrechain vous invitent à une soirée musicale exceptionnelle ! 🎻🎹 \n📅 Vendredi 22 novembre\n🕖 19h\n📍 Église Saint-Martin \nUn moment magique à ne pas manquer pour célébrer la patronne des musiciens ! 🎼✨\nEntrée libre. Venez nombreux ! 😊
URL:https://quievrechain.fr/event/22-novembre-concert-de-la-sainte-cecile-par-lecole-de-musique-de-quievrechain/
LOCATION:Eglise Saint-Martin\, Rue Valériani\, Quiévrechain\, 59920
CATEGORIES:Culture
ATTACH;FMTTYPE=image/jpeg:https://quievrechain.fr/wp-content/uploads/2024/11/Concert-ecole-de-musique.jpg
END:VEVENT
BEGIN:VEVENT
DTSTART;TZID=Europe/Paris:20241123T160000
DTEND;TZID=Europe/Paris:20241123T193000
DTSTAMP:20260426T033020
CREATED:20241112T143407Z
LAST-MODIFIED:20241112T143407Z
UID:60568-1732377600-1732390200@quievrechain.fr
SUMMARY:[23 novembre] Concert de la Sainte Cécile avec l'Aunelle Orchestra
DESCRIPTION:🎶 Concert de la Sainte Cécile avec l’Aunelle Orchestra 🎶\n\n\n \n\n\nRendez-vous le 23 novembre à 16h à la salle des fêtes de Quiévrechain pour célébrer la Sainte Cécile avec l’Aunelle Orchestra ! Venez profiter d’un concert gratuit et d’une ambiance conviviale pour cette fête en l’honneur de la patronne des musiciens. 🎺🎷🥁\n\n\n \n\n\nUne buvette et une petite restauration seront à votre disposition sur place. Venez nombreux pour un moment musical et festif ! 🎼✨
URL:https://quievrechain.fr/event/23-novembre-concert-de-la-sainte-cecile-avec-launelle-orchestra/
LOCATION:Salle des fêtes\, Place Roger Salengro\, Quiévrechain\, France
CATEGORIES:Spectacle
ATTACH;FMTTYPE=image/jpeg:https://quievrechain.fr/wp-content/uploads/2024/11/concert-aunelle-orchestra.jpg
END:VEVENT
BEGIN:VEVENT
DTSTART;TZID=Europe/Paris:20241125T190000
DTEND;TZID=Europe/Paris:20241125T210000
DTSTAMP:20260426T033020
CREATED:20241121T142101Z
LAST-MODIFIED:20241127T131437Z
UID:60643-1732561200-1732568400@quievrechain.fr
SUMMARY:[25 novembre] Conseil Municipal
DESCRIPTION:Prochain Conseil Municipal : Lundi 25 novembre à 19h dans la salle des fêtes de Quiévrechain.\n👉 L’ordre du jour est à découvrir ici : https://quievrechain.fr/comptes-rendus/
URL:https://quievrechain.fr/event/25-novembre-conseil-municipal/
LOCATION:Salle des fêtes\, Place Roger Salengro\, Quiévrechain\, France
CATEGORIES:Conseil Municipal
ATTACH;FMTTYPE=image/png:https://quievrechain.fr/wp-content/uploads/2024/11/CM-Novembre-2024.png
END:VEVENT
BEGIN:VEVENT
DTSTART;TZID=Europe/Paris:20241129T090000
DTEND;TZID=Europe/Paris:20241130T180000
DTSTAMP:20260426T033020
CREATED:20241124T180058Z
LAST-MODIFIED:20241122T130815Z
UID:60671-1732870800-1732989600@quievrechain.fr
SUMMARY:[29 et 30 novembre] Opération solidaire pour le Téléthon !
DESCRIPTION:🥞 Opération solidaire pour le Téléthon ! 🥞 \nLe Service Éducatif de l’Établissement Pénitentiaire pour Mineurs vous invite à participer à une belle action : une vente de crêpes à seulement 0\,50€ la crêpe ! \n📅 Quand ? \nVendredi 29 et samedi 30 novembre\nDe 9h à 18h \n📍 Où ?\nÀ l’entrée du supermarché Match \nChaque crêpe achetée contribue à soutenir le Téléthon. Venez nombreux et montrez votre solidarité ! 💛
URL:https://quievrechain.fr/event/29-et-30-novembre-operation-solidaire-pour-le-telethon/
LOCATION:Supermarché Match
CATEGORIES:Solidarité
ATTACH;FMTTYPE=image/jpeg:https://quievrechain.fr/wp-content/uploads/2024/11/Affiche-telethon-pour-la-vente-de-crepes-2024-scaled.jpg
END:VEVENT
END:VCALENDAR