BEGIN:VCALENDAR
VERSION:2.0
PRODID:-//Ville de Quiévrechain - ECPv5.14.1//NONSGML v1.0//EN
CALSCALE:GREGORIAN
METHOD:PUBLISH
X-WR-CALNAME:Ville de Quiévrechain
X-ORIGINAL-URL:https://quievrechain.fr
X-WR-CALDESC:Events for Ville de Quiévrechain
REFRESH-INTERVAL;VALUE=DURATION:PT1H
X-Robots-Tag:noindex
X-PUBLISHED-TTL:PT1H
BEGIN:VTIMEZONE
TZID:Europe/Paris
BEGIN:DAYLIGHT
TZOFFSETFROM:+0100
TZOFFSETTO:+0200
TZNAME:CEST
DTSTART:20240331T010000
END:DAYLIGHT
BEGIN:STANDARD
TZOFFSETFROM:+0200
TZOFFSETTO:+0100
TZNAME:CET
DTSTART:20241027T010000
END:STANDARD
END:VTIMEZONE
BEGIN:VEVENT
DTSTART;TZID=Europe/Paris:20240927T190000
DTEND;TZID=Europe/Paris:20241003T210000
DTSTAMP:20260426T050522
CREATED:20240924T145128Z
LAST-MODIFIED:20240924T145128Z
UID:60318-1727463600-1727989200@quievrechain.fr
SUMMARY:[27 septembre] Conseil Municipal
DESCRIPTION:Conseil Municipal ce vendredi 27 septembre à 19h à l’hôtel de ville. \n\n\nRetrouvez l’ordre du jour : https://quievrechain.fr/comptes-rendus/\n\n 
URL:https://quievrechain.fr/event/27-septembre-conseil-municipal/
LOCATION:Hotel de Ville\, Place Roger Salengro\, Quiévrechain\, France
CATEGORIES:Conseil Municipal
ATTACH;FMTTYPE=image/png:https://quievrechain.fr/wp-content/uploads/2024/09/Conseil-Municipal-avril-20241.png
END:VEVENT
BEGIN:VEVENT
DTSTART;VALUE=DATE:20240930
DTEND;VALUE=DATE:20241007
DTSTAMP:20260426T050522
CREATED:20240905T132839Z
LAST-MODIFIED:20240905T134933Z
UID:60104-1727654400-1728259199@quievrechain.fr
SUMMARY:[30 septembre au 6 octobre] Semaine Bleue
DESCRIPTION:Le thème de cette année\, « Bouger ensemble pour entretenir la flamme« \, invite chacun à participer à diverses activités visant à favoriser le bien-être physique et mental. Que ce soit à travers des ateliers créatifs\, des sorties culturelles ou des moments de détente\, cette semaine s’annonce riche en découvertes et en partages. \nLundi 30 septembre – 14h30 à 17h – Salle des fêtes\nAtelier Photo : Réalisation de portraits avec fond noir\, remise des photos encadrées en fin d’atelier.\nPrésence d’une esthéticienne et d’une coiffeuse.\nPlaces limitées à 20 personnes. \n\nMardi 1er octobre -12h30 à 17h30\nSortie culturelle : Visite guidée de La Piscine – Musée d’Art et d’Industrie André Diligent Roubaix\nItinéraire olfactif\, découverte des œuvres du musée par les senteurs créées par Christian Astuguevieille.\nDépart de Quiévrechain à 12h30 Retour à 17h30\nPlaces limitées à 40 personnes \n\nMercredi 2 octobre dès 15h – Salle des fêtes\nSpectacle « L’Économie de la tendresse » : Un huis clos entre deux détenues offrant une réflexion sur la tendresse et la vie en prison.\nUn spectacle à la fois drôle et touchant.\nOuvert à tous\, à partir de 12 ans. Entrée gratuite. \nJeudi 3 octobre – 14h30 à 17h – Salle des fêtes\nAtelier culinaire « Le tourbillon des saveurs »\nRéalisation d’un cake salé pour apéritif et une entrée froide.\nMatériel nécessaire : Tablier\, saladier\, fouet\, planche à découper\, couteau\, sac pour le transport des aliments.\nPlaces limitées à 30 personnes \nVendredi 4 octobre – 14h30 à 17h – Salle des fêtes\nAtelier création de broche avec des fleurs séchées\nPlaces limitées à 30 personnes \n\nDimanche 6 octobre – Dès 15h – Salle des fêtes\nThé dansant avec le groupe Palissandre\nBuvette-petite restauration via la participation de l’école Jean-Marie Brison.\nPrix : 3 € – Gratuit pour les moins de 12 ans. \n\n\n\n\n\nChaque jour\, un goûter sera offert.\nLes inscriptions pour les ateliers se font du 09/09 au 24/09 à l’accueil en mairie.
URL:https://quievrechain.fr/event/30-septembre-au-6-octobre-semaine-bleue/
CATEGORIES:Culture
ATTACH;FMTTYPE=image/jpeg:https://quievrechain.fr/wp-content/uploads/2024/09/semaine-bleue-1.jpg
END:VEVENT
BEGIN:VEVENT
DTSTART;TZID=Europe/Paris:20241002T150000
DTEND;TZID=Europe/Paris:20241002T173000
DTSTAMP:20260426T050522
CREATED:20240927T133656Z
LAST-MODIFIED:20240927T133656Z
UID:60339-1727881200-1727890200@quievrechain.fr
SUMMARY:[02 octobre] Spectacle Théâtral : "L'Économie de la Tendresse" 🎭
DESCRIPTION:🎭 Spectacle Théâtral : « L’Économie de la Tendresse » 🎭\n\n\n \n\n\n📅 Le 2 octobre à 15h 📍 Salle des Fêtes de Quiévrechain\n\n\n \n\n\nDans le cadre de la Semaine Bleue\, venez découvrir la pièce « L’Économie de la Tendresse »\, écrite et mise en scène par Yves Lienard.\n\n\n \n\n\nUne réflexion profonde et émouvante sur les relations humaines\, pleine de délicatesse et d’humour. \n\n\n \n\n\nEntrée gratuite et ouverte à tous ! Un moment à partager en famille ou entre amis\, pour célébrer la solidarité et la convivialité.
URL:https://quievrechain.fr/event/02-octobre-spectacle-theatral-leconomie-de-la-tendresse-%f0%9f%8e%ad/
LOCATION:Salle des fêtes\, Place Roger Salengro\, Quiévrechain\, France
CATEGORIES:Spectacle
ATTACH;FMTTYPE=image/jpeg:https://quievrechain.fr/wp-content/uploads/2024/09/Theatre.jpg
END:VEVENT
BEGIN:VEVENT
DTSTART;TZID=Europe/Paris:20241006T150000
DTEND;TZID=Europe/Paris:20241006T220000
DTSTAMP:20260426T050522
CREATED:20240924T134645Z
LAST-MODIFIED:20240924T134645Z
UID:60308-1728226800-1728252000@quievrechain.fr
SUMMARY:[6 octobre] Thé dansant
DESCRIPTION:🎶 Thé Dansant à Quiévrechain 🎶 \nLa Ville de Quiévrechain et son CCAS vous invitent à un après-midi festif et convivial ! \n📅 Dimanche 6 octobre 2024\n⏰ Dès 15h\n📍 Salle des fêtes \n💃 Venez danser au son du groupe Palissandre et passer un moment chaleureux entre amis ou en famille ! \n🍰 Buvette et petite restauration proposées par l’école Jean-Marie Brison. \n🎟️ Tarif : 3 € – Gratuit pour les moins de 12 ans.\nAchetez vos tickets dès aujourd’hui ou directement sur place.
URL:https://quievrechain.fr/event/6-octobre-the-dansant/
LOCATION:Salle des fêtes\, Place Roger Salengro\, Quiévrechain\, France
CATEGORIES:Culture
ATTACH;FMTTYPE=image/jpeg:https://quievrechain.fr/wp-content/uploads/2024/09/the-dansant-v2-copie.jpg
END:VEVENT
BEGIN:VEVENT
DTSTART;VALUE=DATE:20241009
DTEND;VALUE=DATE:20241017
DTSTAMP:20260426T050522
CREATED:20241004T144625Z
LAST-MODIFIED:20241004T144625Z
UID:59689-1728432000-1729123199@quievrechain.fr
SUMMARY:[9-16 octobre] Balayeuse mécanique
DESCRIPTION:🚨 INFO BALAYEUSE – OCTOBRE 2024 🚨 \nLa balayeuse passera dans notre ville aux dates suivantes : \n🧹 Mercredi 9 octobre – Côté pair\n🧹 Mercredi 16 octobre – Côté impair \nMerci de bien faire attention à vous garer du bon côté pour permettre le nettoyage efficace des rues et éviter tout désagrément. 🚗✅ \nVotre coopération est essentielle pour garder notre ville propre ! 🌟
URL:https://quievrechain.fr/event/9-16-octobre-balayeuse-mecanique/
CATEGORIES:Environnement
ATTACH;FMTTYPE=image/png:https://quievrechain.fr/wp-content/uploads/2024/10/Balayeuse-mecanique-3.png
END:VEVENT
BEGIN:VEVENT
DTSTART;VALUE=DATE:20241019
DTEND;VALUE=DATE:20241028
DTSTAMP:20260426T050522
CREATED:20241022T153641Z
LAST-MODIFIED:20241022T153641Z
UID:60475-1729296000-1730073599@quievrechain.fr
SUMMARY:[19-27 octobre] Fête foraine
DESCRIPTION:Ce samedi 19 octobre\, c’est le retour de la fête foraine à Quiévrechain. Jusqu’au 27 octobre\, place Roger Salengro\, venez vous amuser 🎃👻 \n👉Samedi 19 : 1 ticket acheté = 1 ticket gratuit (sur présentation du bon correspondant à télécharger ici : https://quievrechain.fr/wp-content/uploads/2024/10/Tickets-Samedi19octobre2024.pdf )\n👉Mercredi 23 : Tarifs réduits sur tous les manèges (sur présentation du bon correspondant à télécharger ici : https://quievrechain.fr/wp-content/uploads/2024/10/Tickets23octobre2024.pdf )\n👉Samedi 26 : Après midi Halloween (manèges à tarifs exceptionnels pour tous les enfants (-12 ans) déguisés) : inscription de 16h à 17h30 sur le podium avec la participation du COAB (remise d’une surprise)\n👉Dimanche 27 : Tombola\, tirage à 19h avec la participation du CAOB.
URL:https://quievrechain.fr/event/19-27-octobre-fete-foraine/
LOCATION:Place Roger Salengro\, Place Roger Salengro\, Quiévrechain\, 59920\, France
CATEGORIES:Festivités
ATTACH;FMTTYPE=image/jpeg:https://quievrechain.fr/wp-content/uploads/2024/10/fete-foraine-2024-scaled.jpg
END:VEVENT
BEGIN:VEVENT
DTSTART;TZID=Europe/Paris:20241019T090000
DTEND;TZID=Europe/Paris:20241019T120000
DTSTAMP:20260426T050522
CREATED:20240923T090012Z
LAST-MODIFIED:20241022T153430Z
UID:60289-1729328400-1729339200@quievrechain.fr
SUMMARY:[19 octobre] Octobre Rose
DESCRIPTION:Octobre rose Samedi 19 octobre rejoignez-nous pour une marche solidaire dans le cadre d’Octobre Rose\, une campagne annuelle dédiée à la sensibilisation au dépistage du cancer du sein. Montrez votre soutien en portant une touche de rose\, de 9h à 12h au parc de l’Aunelle ! \nParticipez à l’événement aux côtés de la Chorale dès 9h à la maison des pêcheurs\,10h avec l’Aunelle Orchestra\, 11h avec Danses Aunelle\, réalisez des rubans roses avec le Centre Social\, et ne manquez pas le stand de sensibilisation (animé par la Ligue contre le cancer et Emera). \nDe 9h30 à 10h et de 10h30 à 11h\, rendez-vous face à l’étang avec l’association Sports et Loisirs pour tous ou faites un peu de marche nordique avec Siel Bleu pour montrer votre soutien ! Participation : 1 €. Buvette et petite restauration sur place.
URL:https://quievrechain.fr/event/19-octobre-octobre-rose/
LOCATION:Parc de l’Aunelle\, Rue de l'Abattoir\, Quiévrechain\, France
CATEGORIES:Santé
ATTACH;FMTTYPE=image/png:https://quievrechain.fr/wp-content/uploads/2024/09/octobre-rose-ok-2.png
END:VEVENT
BEGIN:VEVENT
DTSTART;TZID=Europe/Paris:20241025T140000
DTEND;TZID=Europe/Paris:20241025T200000
DTSTAMP:20260426T050522
CREATED:20241017T080719Z
LAST-MODIFIED:20241017T083327Z
UID:60454-1729864800-1729886400@quievrechain.fr
SUMMARY:[25 octobre] Escape Game – La Maison des cauchemars
DESCRIPTION:🎃🕸 La Maison des Cauchemars 🕸🎃 \nPrêts à vivre une expérience terrifiante en famille ou entre amis ? Venez affronter vos peurs et entrer dans La Maison des Cauchemars ! 👻 \n📅 Date : Vendredi 25 octobre 2024\n📍 Lieu : Maison des jeunes\, Espace Enfance Jeunesse\, Rue de la Mine\n🕒 Horaires : 14h – 20h\n🎯 Public : Familles\, ados\, adultes (5 personnes maximum par passage)\n💸 Tarif : 1€ par personne\n⏳ Durée : 30 minutes de frissons garantis ! \n📞 Informations et réservations (souhaitées) au 06 71 65 06 46 \nOserez-vous traverser la Maison des Cauchemars ? 😱 Venez nombreux et vivez une aventure inoubliable ! 🔥
URL:https://quievrechain.fr/event/25-octobre-escape-game-la-maison-des-cauchemars/
LOCATION:Espace Enfance Jeunesse
CATEGORIES:Jeunesse
ATTACH;FMTTYPE=image/png:https://quievrechain.fr/wp-content/uploads/2024/10/Escape-game1.png
END:VEVENT
BEGIN:VEVENT
DTSTART;TZID=Europe/Paris:20241028T090000
DTEND;TZID=Europe/Paris:20241103T170000
DTSTAMP:20260426T050522
CREATED:20241004T143921Z
LAST-MODIFIED:20241004T143921Z
UID:60408-1730106000-1730653200@quievrechain.fr
SUMMARY:[28 octobre au 3 novembre] Toussaint : Un service gratuit de voiturette dans le cimetière
DESCRIPTION:Durant la semaine de la Toussaint\, du 28 octobre au 3 novembre\, la municipalité mettra en place un service gratuit de voiturettes pour faciliter vos déplacements au sein du cimetière.\nCe dispositif vise à améliorer l’accessibilité pour tous\, tandis que l’accès aux voitures reste strictement interdit à l’intérieur de l’enceinte.\nPour connaître les horaires du service ou obtenir plus d’informations\, contactez la mairie au 03 27 45 42 24.
URL:https://quievrechain.fr/event/28-octobre-au-3-novembre-toussaint-un-service-gratuit-de-voiturette-dans-le-cimetiere/
LOCATION:Cimetière
CATEGORIES:Quotidien
ATTACH;FMTTYPE=image/png:https://quievrechain.fr/wp-content/uploads/2024/10/Toussaint-voiturettes-a4.png
END:VEVENT
BEGIN:VEVENT
DTSTART;TZID=Europe/Paris:20241031T190000
DTEND;TZID=Europe/Paris:20241031T230000
DTSTAMP:20260426T050522
CREATED:20241021T081249Z
LAST-MODIFIED:20241021T081249Z
UID:60461-1730401200-1730415600@quievrechain.fr
SUMMARY:[31 octobre] Soirée dansante d'halloween
DESCRIPTION: Soirée Halloween à Quiévrechain\, organisée par l’association Quiévrechain Pêche Compétition ! Rendez-vous pour une soirée dansante le 31 octobre à partir de 19h\, à la salle des fêtes de Quiévrechain ! Entrée : 2€ (Gratuit pour les moins de 10 ans).Buvette et petite restauration sur place. Déguisement facultatif\, mais pourquoi pas ajouter un peu de fun avec un costume ? Venez nombreux pour passer une soirée monstrueusement amusante ! 
URL:https://quievrechain.fr/event/31-octobre-soiree-dansante-dhalloween/
LOCATION:Salle des fêtes\, Place Roger Salengro\, Quiévrechain\, France
CATEGORIES:Festivités
ATTACH;FMTTYPE=image/jpeg:https://quievrechain.fr/wp-content/uploads/2024/10/462589075_525320400216518_3096184502273858941_n.jpg
END:VEVENT
END:VCALENDAR