BEGIN:VCALENDAR
VERSION:2.0
PRODID:-//Ville de Quiévrechain - ECPv5.14.1//NONSGML v1.0//EN
CALSCALE:GREGORIAN
METHOD:PUBLISH
X-WR-CALNAME:Ville de Quiévrechain
X-ORIGINAL-URL:https://quievrechain.fr
X-WR-CALDESC:Events for Ville de Quiévrechain
REFRESH-INTERVAL;VALUE=DURATION:PT1H
X-Robots-Tag:noindex
X-PUBLISHED-TTL:PT1H
BEGIN:VTIMEZONE
TZID:Europe/Paris
BEGIN:DAYLIGHT
TZOFFSETFROM:+0100
TZOFFSETTO:+0200
TZNAME:CEST
DTSTART:20220327T010000
END:DAYLIGHT
BEGIN:STANDARD
TZOFFSETFROM:+0200
TZOFFSETTO:+0100
TZNAME:CET
DTSTART:20221030T010000
END:STANDARD
END:VTIMEZONE
BEGIN:VEVENT
DTSTART;TZID=Europe/Paris:20220625T183000
DTEND;TZID=Europe/Paris:20220626T180000
DTSTAMP:20260426T035729
CREATED:20220523T071916Z
LAST-MODIFIED:20220523T072738Z
UID:56003-1656181800-1656266400@quievrechain.fr
SUMMARY:[25 et 26 juin] Fête de la musique
DESCRIPTION:Fête de la musique à Quiévrechain le samedi 25 juin dès 18h30. Dans un cadre bucolique\, assistez au grand concert gratuit\, par l’école de musique municipale (à 18h30) et par le trio Bétchète (à 19h). Et pourquoi ne pas apporter votre pique-nique et votre couverture pour un déjeuner sur l’herbe ? Buvette et petite restauration sur place. \nMais aussi le dimanche 26 juin à 16h. PianO du lac : Trio Bétchète avec Cécile Wou- ters (piano)\, Marie Séguier (flûte et chant)\, Ariane Cohen-Adad (violon\, alto et chant) vous proposent un concert où se mêlent compositions originales\, musique classique et musique traditionnelle de notre région Voir moins
URL:https://quievrechain.fr/event/25-et-26-juin-fete-de-la-musique/
LOCATION:Parc de l’Aunelle\, Rue de l'Abattoir\, Quiévrechain\, France
CATEGORIES:Culture,Spectacle
ATTACH;FMTTYPE=image/jpeg:https://quievrechain.fr/wp-content/uploads/282235590_1950571601801147_560078740438490237_n.jpg
END:VEVENT
BEGIN:VEVENT
DTSTART;TZID=Europe/Paris:20220625T193000
DTEND;TZID=Europe/Paris:20220626T150000
DTSTAMP:20260426T035729
CREATED:20220609T121220Z
LAST-MODIFIED:20220609T121234Z
UID:56075-1656185400-1656255600@quievrechain.fr
SUMMARY:[25 et 26 juin] Gala de danse de l'espace danses - Les Petits chaussons
DESCRIPTION:Les 26 et 26 juin prochain\, retrouvez le gala annuel de l’espace danses – Les Petits chaussons dans la salle ses fêtes. Les danseuses vous entraineront dans leur univers avec délicatesse et féerie. Rendez-vous samedi à partir de 19h30 ou dimanche dès 15h30. Informations et réservations auprès de l’école de danse\, au centre socio-éducatif «Louis Hénocq»\, au 03.27.45.43.83 ou par mail : espacedanses@orange.fr
URL:https://quievrechain.fr/event/25-et-26-juin-gala-de-danse-de-lespace-danses-les-petits-chaussons/
CATEGORIES:Culture,Spectacle
ATTACH;FMTTYPE=image/jpeg:https://quievrechain.fr/wp-content/uploads/2022/06/photo-danse.jpg
ORGANIZER;CN="Espace%20danses%20-%20Les%20Petits%20chaussons":MAILTO:espacedanses@orange.fr
END:VEVENT
END:VCALENDAR