BEGIN:VCALENDAR
VERSION:2.0
PRODID:-//Ville de Quiévrechain - ECPv5.14.1//NONSGML v1.0//EN
CALSCALE:GREGORIAN
METHOD:PUBLISH
X-WR-CALNAME:Ville de Quiévrechain
X-ORIGINAL-URL:https://quievrechain.fr
X-WR-CALDESC:Events for Ville de Quiévrechain
REFRESH-INTERVAL;VALUE=DURATION:PT1H
X-Robots-Tag:noindex
X-PUBLISHED-TTL:PT1H
BEGIN:VTIMEZONE
TZID:Europe/Paris
BEGIN:DAYLIGHT
TZOFFSETFROM:+0100
TZOFFSETTO:+0200
TZNAME:CEST
DTSTART:20220327T010000
END:DAYLIGHT
BEGIN:STANDARD
TZOFFSETFROM:+0200
TZOFFSETTO:+0100
TZNAME:CET
DTSTART:20221030T010000
END:STANDARD
END:VTIMEZONE
BEGIN:VEVENT
DTSTART;TZID=Europe/Paris:20220604T183000
DTEND;TZID=Europe/Paris:20220604T183000
DTSTAMP:20260426T035642
CREATED:20220518T170041Z
LAST-MODIFIED:20220519T072856Z
UID:55990-1654367400-1654367400@quievrechain.fr
SUMMARY:[4 juin] Quiev Musical School
DESCRIPTION:🎶 Découvrez la comédie musicale « Quiev Musical School« \, interprétée par l’école municipale de musique de Quiévrechain\, qui revisite les films High School Musical et la série Glee. \n➡ Rendez-vous le samedi 4 juin\, à 18h30\, à la salle des fêtes.\n➡ Entrée gratuite\, buvette et petite restauration sur place. Plus d’informations au 03 27 40 48 87.
URL:https://quievrechain.fr/event/4-juin-quiev-musical-school/
LOCATION:Salle des fêtes\, Place Roger Salengro\, Quiévrechain\, France
CATEGORIES:Spectacle
ATTACH;FMTTYPE=image/png:https://quievrechain.fr/wp-content/uploads/comedie-musicale-web.png
END:VEVENT
END:VCALENDAR