BEGIN:VCALENDAR
VERSION:2.0
PRODID:-//Ville de Quiévrechain - ECPv5.14.1//NONSGML v1.0//EN
CALSCALE:GREGORIAN
METHOD:PUBLISH
X-WR-CALNAME:Ville de Quiévrechain
X-ORIGINAL-URL:https://quievrechain.fr
X-WR-CALDESC:Events for Ville de Quiévrechain
REFRESH-INTERVAL;VALUE=DURATION:PT1H
X-Robots-Tag:noindex
X-PUBLISHED-TTL:PT1H
BEGIN:VTIMEZONE
TZID:Europe/Paris
BEGIN:DAYLIGHT
TZOFFSETFROM:+0100
TZOFFSETTO:+0200
TZNAME:CEST
DTSTART:20250330T010000
END:DAYLIGHT
BEGIN:STANDARD
TZOFFSETFROM:+0200
TZOFFSETTO:+0100
TZNAME:CET
DTSTART:20251026T010000
END:STANDARD
END:VTIMEZONE
BEGIN:VEVENT
DTSTART;VALUE=DATE:20251006
DTEND;VALUE=DATE:20251011
DTSTAMP:20260421T224025
CREATED:20250826T143701Z
LAST-MODIFIED:20250826T143701Z
UID:61917-1759708800-1760140799@quievrechain.fr
SUMMARY:[6 au 10 octobre] Semaine Bleue
DESCRIPTION:🍂✨ La Semaine Bleue déroule ses promesses d’automne à Quiévrechain !\n\n\n \n\n\nDu 6 au 10 octobre\, la commune met à l’honneur ses aînés de 65 ans et + avec un programme riche en découvertes et en convivialité.\n\n\n \n\n\n📅 Lundi 6 octobre – 14h30\, Salle des fêtes\n\n\n🎲 Grand loto : tentez votre chance et repartez avec de nombreux lots !\n\n\n \n\n\n📅 Mardi 7 octobre – Départ 14h\, retour 18h\, Place Roger Salengro\n\n\n🌱 Sortie aux Vergers Tellier : visite de l’exploitation et dégustation. (50 pers. max)\n\n\n \n\n\n📅 Mercredi 8 octobre – 14h30\, Salle des fêtes\n\n\n👩‍🍳 Atelier culinaire avec David Covin (Tourbillon des saveurs).\n\n\n(30 pers. max – prévoir tablier\, couteau\, planche\, batteur\, saladier\, sac pour le transport)\n\n\n \n\n\n📅 Jeudi 9 octobre – 9h30 et 14h30\, Salle des fêtes\n\n\n🌸 Ateliers fondants parfumés avec “Éclat au cœur fondant”.\n\n\n(15 pers. max – prévoir tablier\, gants de jardinage\, sac pour le transport)\n\n\n \n\n\n📅 Vendredi 10 octobre – 14h30\, Salle des fêtes\n\n\n💐 Atelier floral avec “Lilas Rose” : apprenez l’art de la composition florale.\n\n\n(30 pers. max – prévoir tablier\, gants\, ciseaux\, sécateur\, sac pour le transport)\n\n\n \n\n\nℹ️ Inscriptions au CCAS du 2 au 27 septembre – Places limitées selon les ateliers !\n\n\n👉 Ne tardez pas pour réserver votre place et partager cette belle semaine conviviale 💛
URL:https://quievrechain.fr/event/6-au-10-octobre-semaine-bleue/
LOCATION:Salle des fêtes\, Place Roger Salengro\, Quiévrechain\, France
CATEGORIES:Solidarité
ATTACH;FMTTYPE=image/jpeg:https://quievrechain.fr/wp-content/uploads/2025/08/affiche-semaine-bleue-scaled.jpg
END:VEVENT
END:VCALENDAR