BEGIN:VCALENDAR
VERSION:2.0
PRODID:-//Ville de Quiévrechain - ECPv5.14.1//NONSGML v1.0//EN
CALSCALE:GREGORIAN
METHOD:PUBLISH
X-WR-CALNAME:Ville de Quiévrechain
X-ORIGINAL-URL:https://quievrechain.fr
X-WR-CALDESC:Events for Ville de Quiévrechain
REFRESH-INTERVAL;VALUE=DURATION:PT1H
X-Robots-Tag:noindex
X-PUBLISHED-TTL:PT1H
BEGIN:VTIMEZONE
TZID:Europe/Paris
BEGIN:DAYLIGHT
TZOFFSETFROM:+0100
TZOFFSETTO:+0200
TZNAME:CEST
DTSTART:20250330T010000
END:DAYLIGHT
BEGIN:STANDARD
TZOFFSETFROM:+0200
TZOFFSETTO:+0100
TZNAME:CET
DTSTART:20251026T010000
END:STANDARD
END:VTIMEZONE
BEGIN:VEVENT
DTSTART;TZID=Europe/Paris:20251205T090000
DTEND;TZID=Europe/Paris:20251206T180000
DTSTAMP:20260421T174255
CREATED:20251205T093606Z
LAST-MODIFIED:20251205T093606Z
UID:62336-1764925200-1765044000@quievrechain.fr
SUMMARY:[5 et 6 décembre] Opération solidaire pour le Téléthon !
DESCRIPTION:🥞 Opération solidaire pour le Téléthon ! 🥞 \nLe Service Éducatif de l’Établissement Pénitentiaire pour Mineurs vous invite à participer à une belle action : une vente de crêpes à seulement 0\,50€ la crêpe ! \n📅 Quand ? \nVendredi 5 et samedi 6 décembre\nDe 9h à 18h \n📍 Où ?\nÀ l’entrée du supermarché Match \nChaque crêpe achetée contribue à soutenir le Téléthon. Venez nombreux et montrez votre solidarité ! 💛
URL:https://quievrechain.fr/event/5-et-6-decembre-operation-solidaire-pour-le-telethon/
LOCATION:Supermarché Match
CATEGORIES:Solidarité
ATTACH;FMTTYPE=image/jpeg:https://quievrechain.fr/wp-content/uploads/2025/12/2025-10-21-Affiche-Telethon-scaled.jpg
END:VEVENT
BEGIN:VEVENT
DTSTART;TZID=Europe/Paris:20251219T120000
DTEND;TZID=Europe/Paris:20251219T140000
DTSTAMP:20260421T174255
CREATED:20251114T141855Z
LAST-MODIFIED:20251114T141902Z
UID:62248-1766145600-1766152800@quievrechain.fr
SUMMARY:[19 décembre] Le repas intergénérationnel de Noël
DESCRIPTION:🎄 Le repas intergénérationnel est de retour ! \n\n\n \n\n\nOn se retrouve vendredi 19 décembre pour un moment gourmand et convivial\, histoire de bien lancer les fêtes tous ensemble. Au menu :\n\n\n• Salade de perles de pâtes au saumon fumé\n\n\n• Sauté de chapon\, sauce aux marrons et pain d’épices\n\n\n• Pommes de terre pops et petits pois carottes\n\n\n• Et bien sûr… la traditionnelle bûche de Noël pour finir en douceur 🎅\n\n\n \n\n\n👉 Inscriptions du 19 novembre au 10 décembre auprès du service restauration.\n\n\n👉 Réservé aux Quiévrechinois de 65 ans et + \n\n\n👉 Tarif : 4\,50 €\n\n\n \n\n\nUn bon repas\, une bonne ambiance… on vous attend nombreux pour partager ce moment chaleureux ! 🍽️✨
URL:https://quievrechain.fr/event/19-decembre-le-repas-intergenerationnel-de-noel/
LOCATION:Ancien collège\, 9 rue des champs\, Quiévrechain\, 59920\, France
CATEGORIES:Solidarité
ATTACH;FMTTYPE=image/jpeg:https://quievrechain.fr/wp-content/uploads/2025/11/repas-interge-decembre-2025.jpg
END:VEVENT
END:VCALENDAR