BEGIN:VCALENDAR
VERSION:2.0
PRODID:-//Ville de Quiévrechain - ECPv5.14.1//NONSGML v1.0//EN
CALSCALE:GREGORIAN
METHOD:PUBLISH
X-WR-CALNAME:Ville de Quiévrechain
X-ORIGINAL-URL:https://quievrechain.fr
X-WR-CALDESC:Events for Ville de Quiévrechain
REFRESH-INTERVAL;VALUE=DURATION:PT1H
X-Robots-Tag:noindex
X-PUBLISHED-TTL:PT1H
BEGIN:VTIMEZONE
TZID:Europe/Paris
BEGIN:DAYLIGHT
TZOFFSETFROM:+0100
TZOFFSETTO:+0200
TZNAME:CEST
DTSTART:20260329T010000
END:DAYLIGHT
BEGIN:STANDARD
TZOFFSETFROM:+0200
TZOFFSETTO:+0100
TZNAME:CET
DTSTART:20261025T010000
END:STANDARD
END:VTIMEZONE
BEGIN:VEVENT
DTSTART;TZID=Europe/Paris:20260414T140000
DTEND;TZID=Europe/Paris:20260414T170000
DTSTAMP:20260420T032008
CREATED:20260409T131158Z
LAST-MODIFIED:20260409T131158Z
UID:62981-1776175200-1776186000@quievrechain.fr
SUMMARY:[14 avril] Sensibilisation à la santé mentale
DESCRIPTION:🧠 Et si on prenait un moment pour parler… santé mentale ?\n\n\n \n\n\nRendez-vous le mardi 14 avril dès 14h à la Maison des Jeunes pour un après-midi de sensibilisation ouvert à tous.\n\n\n \n\n\nAu programme : ateliers ludiques\, jeux de société\, échanges et moments de partage…\n\n\n \n\n\nUn temps convivial pour mieux comprendre\, échanger sans tabou et prendre soin de soi et des autres.\n\n\n \n\n\n👉 Événement organisé par Unis Cité\, l’association EMERA et le service enfance jeunesse de Quiévrechain.
URL:https://quievrechain.fr/event/14-avril-sensibilisation-a-la-sante-mentale/
LOCATION:Espace Enfance Jeunesse
CATEGORIES:Santé
ATTACH;FMTTYPE=image/jpeg:https://quievrechain.fr/wp-content/uploads/2026/04/Escape-Game-14-avril-sente-mentale1-scaled.jpg
END:VEVENT
END:VCALENDAR