BEGIN:VCALENDAR
VERSION:2.0
PRODID:-//Ville de Quiévrechain - ECPv5.14.1//NONSGML v1.0//EN
CALSCALE:GREGORIAN
METHOD:PUBLISH
X-WR-CALNAME:Ville de Quiévrechain
X-ORIGINAL-URL:https://quievrechain.fr
X-WR-CALDESC:Events for Ville de Quiévrechain
REFRESH-INTERVAL;VALUE=DURATION:PT1H
X-Robots-Tag:noindex
X-PUBLISHED-TTL:PT1H
BEGIN:VTIMEZONE
TZID:Europe/Paris
BEGIN:DAYLIGHT
TZOFFSETFROM:+0100
TZOFFSETTO:+0200
TZNAME:CEST
DTSTART:20260329T010000
END:DAYLIGHT
BEGIN:STANDARD
TZOFFSETFROM:+0200
TZOFFSETTO:+0100
TZNAME:CET
DTSTART:20261025T010000
END:STANDARD
END:VTIMEZONE
BEGIN:VEVENT
DTSTART;TZID=Europe/Paris:20260210T113000
DTEND;TZID=Europe/Paris:20260210T133000
DTSTAMP:20260420T062025
CREATED:20260113T102833Z
LAST-MODIFIED:20260113T102833Z
UID:62496-1770723000-1770730200@quievrechain.fr
SUMMARY:[10 février] Repas intergénérationnel
DESCRIPTION:Le repas intergénérationnel revient à Quiévrechain 🥳👉 Mardi 10 février à 11h45\, on se retrouve autour d’un bon repas\, dans la bonne humeur\, pour échanger\, discuter… et surtout se régaler ! \n💶 4\,50 € le repas (pour les 65 ans et +)🥕 Au menu : produits locaux et saveurs de saison📌 Inscription obligatoire du 14 janvier au 4 février auprès du service restauration scolaire. \nUn joli moment de partage entre générations… et une excellente excuse pour ne pas faire la vaisselle 😉📞 Infos : 03 27 45 42 24
URL:https://quievrechain.fr/event/10-fevrier-repas-intergenerationnel/
LOCATION:Ancien collège\, 9 rue des champs\, Quiévrechain\, 59920\, France
CATEGORIES:Santé
ATTACH;FMTTYPE=image/jpeg:https://quievrechain.fr/wp-content/uploads/2026/01/Repas-interge-fevrier-2026-scaled.jpg
END:VEVENT
END:VCALENDAR