BEGIN:VCALENDAR
VERSION:2.0
PRODID:-//Ville de Quiévrechain - ECPv5.14.1//NONSGML v1.0//EN
CALSCALE:GREGORIAN
METHOD:PUBLISH
X-WR-CALNAME:Ville de Quiévrechain
X-ORIGINAL-URL:https://quievrechain.fr
X-WR-CALDESC:Events for Ville de Quiévrechain
REFRESH-INTERVAL;VALUE=DURATION:PT1H
X-Robots-Tag:noindex
X-PUBLISHED-TTL:PT1H
BEGIN:VTIMEZONE
TZID:Europe/Paris
BEGIN:DAYLIGHT
TZOFFSETFROM:+0100
TZOFFSETTO:+0200
TZNAME:CEST
DTSTART:20250330T010000
END:DAYLIGHT
BEGIN:STANDARD
TZOFFSETFROM:+0200
TZOFFSETTO:+0100
TZNAME:CET
DTSTART:20251026T010000
END:STANDARD
END:VTIMEZONE
BEGIN:VEVENT
DTSTART;TZID=Europe/Paris:20251014T113000
DTEND;TZID=Europe/Paris:20251014T133000
DTSTAMP:20260424T111536
CREATED:20250827T122245Z
LAST-MODIFIED:20251010T090244Z
UID:61925-1760441400-1760448600@quievrechain.fr
SUMMARY:[14 octobre] Repas intergénérationnel
DESCRIPTION:🥘 Repas intergénérationnel à Quiévrechain !\n\n\n \n\n\nLe mardi 14 octobre\, le CCAS de Quiévrechain vous propose de partager un moment convivial autour d’un « repas Ch’ti »\n\n\n🍲 Potage au potiron local\n\n\n🥩 Carbonade flamande et frites\n\n\n🧀 Fromage\n\n\n🍏 Compote de pommes bio\n\n\n \n\n\n👉 Tarif : 4\,50 € pour les Quiévrechinois de +65 ans\n\n\n \n\n\n📅 Inscription obligatoire auprès du service restauration scolaire entre le 17 septembre et le 8 octobre 2025.\n\n\n \n\n\n🚐 Besoin d’un transport ou d’une aide à domicile ? C’est possible selon votre état de santé.\n\n\n📞 Infos & réservations : 03 27 45 42 24\n\n\n \n\n\nUn repas qui réunit toutes les générations… et qui sent bon la convivialité ! 💚
URL:https://quievrechain.fr/event/14-octobre-repas-intergenerationnel/
LOCATION:Ancien collège\, 9 rue des champs\, Quiévrechain\, 59920\, France
CATEGORIES:Santé
ATTACH;FMTTYPE=image/jpeg:https://quievrechain.fr/wp-content/uploads/2025/08/Repas-intergenerationnel-du-14-octobre-2025.jpg
END:VEVENT
BEGIN:VEVENT
DTSTART;TZID=Europe/Paris:20251020T150000
DTEND;TZID=Europe/Paris:20251020T190000
DTSTAMP:20260424T111536
CREATED:20251007T073153Z
LAST-MODIFIED:20251007T073153Z
UID:62121-1760972400-1760986800@quievrechain.fr
SUMMARY:[20 octobre] Don du sang
DESCRIPTION:🩸 Don du sang à Quiévrechain ! 🩸 \n\n\n\nEt si vous preniez une petite heure pour sauver des vies ?\n\n\n👉 Rendez-vous lundi 20 octobre 2025 à la salle des fêtes\, de 15h à 19h\, pour une nouvelle collecte de sang.\n\n\n \n\n\nChaque goutte compte\, chaque don fait la différence.\n\n\nVenez seul\, entre amis ou en famille — l’important\, c’est de venir ! 💪\n\n\n \n\n\nPartagez l’info\, motivez votre entourage et aidez-nous à faire de cette collecte un beau moment de solidarité. ❤️ Merci à tous pour votre générosité !
URL:https://quievrechain.fr/event/20-octobre-don-du-sang/
LOCATION:Salle des fêtes\, Place Roger Salengro\, Quiévrechain\, France
CATEGORIES:Santé
ATTACH;FMTTYPE=image/jpeg:https://quievrechain.fr/wp-content/uploads/2025/10/16_2025-10-20_1005837_QUIEVRECHAIN.jpg
END:VEVENT
END:VCALENDAR