BEGIN:VCALENDAR
VERSION:2.0
PRODID:-//Ville de Quiévrechain - ECPv5.14.1//NONSGML v1.0//EN
CALSCALE:GREGORIAN
METHOD:PUBLISH
X-WR-CALNAME:Ville de Quiévrechain
X-ORIGINAL-URL:https://quievrechain.fr
X-WR-CALDESC:Events for Ville de Quiévrechain
REFRESH-INTERVAL;VALUE=DURATION:PT1H
X-Robots-Tag:noindex
X-PUBLISHED-TTL:PT1H
BEGIN:VTIMEZONE
TZID:Europe/Paris
BEGIN:DAYLIGHT
TZOFFSETFROM:+0100
TZOFFSETTO:+0200
TZNAME:CEST
DTSTART:20250330T010000
END:DAYLIGHT
BEGIN:STANDARD
TZOFFSETFROM:+0200
TZOFFSETTO:+0100
TZNAME:CET
DTSTART:20251026T010000
END:STANDARD
END:VTIMEZONE
BEGIN:VEVENT
DTSTART;TZID=Europe/Paris:20250505T150000
DTEND;TZID=Europe/Paris:20250505T190000
DTSTAMP:20260424T174601
CREATED:20250414T131800Z
LAST-MODIFIED:20250414T131800Z
UID:61267-1746457200-1746471600@quievrechain.fr
SUMMARY:[5 mai] Don du sang
DESCRIPTION:🩸 Collecte de Sang à Quiévrechain 🩸\n\n\nRejoignez-nous le lundi 5 mai de 15h à 19h à la salle des fêtes pour donner votre sang ! Organisé par l’EFS. Prenez RDV ici : https://efs.link/LRr4p\n\n\nVotre don peut sauver des vies ! ❤️
URL:https://quievrechain.fr/event/5-mai-don-du-sang/
LOCATION:Salle des fêtes\, Place Roger Salengro\, Quiévrechain\, France
CATEGORIES:Santé
ATTACH;FMTTYPE=image/jpeg:https://quievrechain.fr/wp-content/uploads/2025/04/485072906_638520142229876_1046553330835023170_n.jpg
END:VEVENT
END:VCALENDAR