BEGIN:VCALENDAR
VERSION:2.0
PRODID:-//Ville de Quiévrechain - ECPv5.14.1//NONSGML v1.0//EN
CALSCALE:GREGORIAN
METHOD:PUBLISH
X-WR-CALNAME:Ville de Quiévrechain
X-ORIGINAL-URL:https://quievrechain.fr
X-WR-CALDESC:Events for Ville de Quiévrechain
REFRESH-INTERVAL;VALUE=DURATION:PT1H
X-Robots-Tag:noindex
X-PUBLISHED-TTL:PT1H
BEGIN:VTIMEZONE
TZID:Europe/Paris
BEGIN:DAYLIGHT
TZOFFSETFROM:+0100
TZOFFSETTO:+0200
TZNAME:CEST
DTSTART:20260329T010000
END:DAYLIGHT
BEGIN:STANDARD
TZOFFSETFROM:+0200
TZOFFSETTO:+0100
TZNAME:CET
DTSTART:20261025T010000
END:STANDARD
END:VTIMEZONE
BEGIN:VEVENT
DTSTART;VALUE=DATE:20260323
DTEND;VALUE=DATE:20260501
DTSTAMP:20260420T011755
CREATED:20260303T140212Z
LAST-MODIFIED:20260303T140212Z
UID:62712-1774224000-1777593599@quievrechain.fr
SUMMARY:[23 mars - 30 avril] Inscriptions au concours des maisons fleuries
DESCRIPTION:La Ville de Quiévrechain lance son traditionnel concours des maisons fleuries 🌸🌿\nVous aimez embellir votre jardin\, votre façade ou votre balcon ? C’est le moment de mettre en valeur votre créativité et votre passion pour les fleurs !\n \n👉 Du 23 mars au 30 avril\, en mairie\nTéléchargez le bon de participation en >cliquant ici<.\nLe jury\, composé d’élus et de techniciens municipaux\, passera dans la ville durant la seconde quinzaine de juin afin d’évaluer les candidats.\n \nAlors\, prêts à faire fleurir la ville ? 🌺✨\nN’attendez plus pour vous inscrire et participez à l’embellissement de Quiévrechain !
URL:https://quievrechain.fr/event/23-mars-30-avril-inscriptions-au-concours-des-maisons-fleuries/
LOCATION:Hotel de Ville\, Place Roger Salengro\, Quiévrechain\, France
CATEGORIES:Quotidien
ATTACH;FMTTYPE=image/png:https://quievrechain.fr/wp-content/uploads/2026/03/Affiche.png
END:VEVENT
BEGIN:VEVENT
DTSTART;TZID=Europe/Paris:20260408T100000
DTEND;TZID=Europe/Paris:20260408T120000
DTSTAMP:20260420T011755
CREATED:20260224T145248Z
LAST-MODIFIED:20260313T142824Z
UID:62670-1775642400-1775649600@quievrechain.fr
SUMMARY:[8 avril] Ateliers informatiques pour les Quiévrechinois !
DESCRIPTION:Vous souhaitez mieux comprendre et utiliser les outils informatiques ?\n\n\nParticipez à nos ateliers gratuits organisés spécialement pour vous !\n \n\n\n Les mercredis 8\, 15\, 22\, 29 avril !\n Durant la matinée (horaire donné lors de l’inscription)\n À Quiévrechain\n \n\n\nCes ateliers sont destinés aux Quiévrechinois qui souhaitent se sentir plus à l’aise avec l’informatique au quotidien.\n\n\n Inscription obligatoire auprès du CCAS : 03 27 45 42 24
URL:https://quievrechain.fr/event/8-avril-ateliers-informatiques-pour-les-quievrechinois/
LOCATION:Hotel de Ville\, Place Roger Salengro\, Quiévrechain\, France
CATEGORIES:Quotidien
ATTACH;FMTTYPE=image/jpeg:https://quievrechain.fr/wp-content/uploads/2026/03/Ateliers-informatiques-2026-1.jpg
END:VEVENT
END:VCALENDAR