BEGIN:VCALENDAR
VERSION:2.0
PRODID:-//Ville de Quiévrechain - ECPv5.14.1//NONSGML v1.0//EN
CALSCALE:GREGORIAN
METHOD:PUBLISH
X-WR-CALNAME:Ville de Quiévrechain
X-ORIGINAL-URL:https://quievrechain.fr
X-WR-CALDESC:Events for Ville de Quiévrechain
REFRESH-INTERVAL;VALUE=DURATION:PT1H
X-Robots-Tag:noindex
X-PUBLISHED-TTL:PT1H
BEGIN:VTIMEZONE
TZID:Europe/Paris
BEGIN:DAYLIGHT
TZOFFSETFROM:+0100
TZOFFSETTO:+0200
TZNAME:CEST
DTSTART:20250330T010000
END:DAYLIGHT
BEGIN:STANDARD
TZOFFSETFROM:+0200
TZOFFSETTO:+0100
TZNAME:CET
DTSTART:20251026T010000
END:STANDARD
END:VTIMEZONE
BEGIN:VEVENT
DTSTART;TZID=Europe/Paris:20251204T143000
DTEND;TZID=Europe/Paris:20251204T170000
DTSTAMP:20260420T071620
CREATED:20251104T092939Z
LAST-MODIFIED:20251104T092939Z
UID:62214-1764858600-1764867600@quievrechain.fr
SUMMARY:[4 décembre] Atelier Pâtisserie de Noël à Quiévrechain
DESCRIPTION:🍰 Atelier Pâtisserie de Noël à Quiévrechain ! 🎄\n\n\n \n\n\nLe jeudi 4 décembre\, de 14h30 à 17h\, rendez-vous à la salle des fêtes pour un atelier gourmand organisé par le CCAS et la Ville de Quiévrechain.\n\n\nAu programme : la réalisation d’une délicieuse bûche de Noël avec Le Fournil de Charlène ! 👩‍🍳✨\n\n\n \n\n\n👉 Atelier gratuit\, réservé aux 65 ans et +.\n\n\n📅 Inscriptions du 6 au 27 novembre auprès du CCAS au 03 27 45 42 24.\n\n\n \n\n\nUne belle occasion de partager un moment convivial… et sucré ! 🍫
URL:https://quievrechain.fr/event/4-decembre-atelier-patisserie-de-noel-a-quievrechain/
LOCATION:Salle des fêtes\, Place Roger Salengro\, Quiévrechain\, France
CATEGORIES:Quotidien
ATTACH;FMTTYPE=image/jpeg:https://quievrechain.fr/wp-content/uploads/2025/11/2025-10-21-Atelier-patisserie-CCAS.jpg
END:VEVENT
END:VCALENDAR