BEGIN:VCALENDAR
VERSION:2.0
PRODID:-//Ville de Quiévrechain - ECPv5.14.1//NONSGML v1.0//EN
CALSCALE:GREGORIAN
METHOD:PUBLISH
X-WR-CALNAME:Ville de Quiévrechain
X-ORIGINAL-URL:https://quievrechain.fr
X-WR-CALDESC:Events for Ville de Quiévrechain
REFRESH-INTERVAL;VALUE=DURATION:PT1H
X-Robots-Tag:noindex
X-PUBLISHED-TTL:PT1H
BEGIN:VTIMEZONE
TZID:Europe/Paris
BEGIN:DAYLIGHT
TZOFFSETFROM:+0100
TZOFFSETTO:+0200
TZNAME:CEST
DTSTART:20250330T010000
END:DAYLIGHT
BEGIN:STANDARD
TZOFFSETFROM:+0200
TZOFFSETTO:+0100
TZNAME:CET
DTSTART:20251026T010000
END:STANDARD
END:VTIMEZONE
BEGIN:VEVENT
DTSTART;TZID=Europe/Paris:20250625T100000
DTEND;TZID=Europe/Paris:20250625T110000
DTSTAMP:20260420T170314
CREATED:20250505T092214Z
LAST-MODIFIED:20250505T092214Z
UID:61428-1750845600-1750849200@quievrechain.fr
SUMMARY:[25 juin] Ateliers informatiques pour les 55 ans et + !
DESCRIPTION:💻 Ateliers informatiques pour les 55 ans et + à Quiévrechain ! 📱 \nVous souhaitez mieux comprendre et utiliser les outils informatiques ?Participez à nos ateliers gratuits organisés spécialement pour vous ! \n📅 Les mercredis 4\, 11\, 18 et 25 juin🕙 De 10h à 11h📍 À Quiévrechain \nCes ateliers sont destinés aux personnes de 55 ans et plus qui souhaitent se sentir plus à l’aise avec l’informatique au quotidien. \n📞 Inscription obligatoire auprès du CCAS : 03 27 45 42 24 \n👉 Places limitées\, ne tardez pas à vous inscrire !
URL:https://quievrechain.fr/event/25-juin-ateliers-informatiques-pour-les-55-ans-et/
LOCATION:Hotel de Ville\, Place Roger Salengro\, Quiévrechain\, France
CATEGORIES:Quotidien
ATTACH;FMTTYPE=image/jpeg:https://quievrechain.fr/wp-content/uploads/2025/05/ateliers-informatiques.jpg
END:VEVENT
END:VCALENDAR