BEGIN:VCALENDAR
VERSION:2.0
PRODID:-//Ville de Quiévrechain - ECPv5.14.1//NONSGML v1.0//EN
CALSCALE:GREGORIAN
METHOD:PUBLISH
X-WR-CALNAME:Ville de Quiévrechain
X-ORIGINAL-URL:https://quievrechain.fr
X-WR-CALDESC:Events for Ville de Quiévrechain
REFRESH-INTERVAL;VALUE=DURATION:PT1H
X-Robots-Tag:noindex
X-PUBLISHED-TTL:PT1H
BEGIN:VTIMEZONE
TZID:Europe/Paris
BEGIN:DAYLIGHT
TZOFFSETFROM:+0100
TZOFFSETTO:+0200
TZNAME:CEST
DTSTART:20250330T010000
END:DAYLIGHT
BEGIN:STANDARD
TZOFFSETFROM:+0200
TZOFFSETTO:+0100
TZNAME:CET
DTSTART:20251026T010000
END:STANDARD
END:VTIMEZONE
BEGIN:VEVENT
DTSTART;TZID=Europe/Paris:20250327T143000
DTEND;TZID=Europe/Paris:20250327T170000
DTSTAMP:20260420T194108
CREATED:20250304T101525Z
LAST-MODIFIED:20250304T101611Z
UID:61106-1743085800-1743094800@quievrechain.fr
SUMMARY:[27 mars] Fêtons la Saint Patrick (+ de 60 ans)
DESCRIPTION:Le jeudi 27 mars\, de 14h30 à 17h\, participez à un jeu d’énigmes spécialement pensé pour les + de 60 ans ! Observez\, réfléchissez et amusez-vous dans une ambiance conviviale. \n📍 Salle des fêtes\n💰 Gratuit\n🛠️ Animation proposée par le service Enfance Jeunesse \nUn après-midi ludique pour se retrouver\, partager et s’amuser !\n👉 Plus d’informations au 03 27 45 42 24
URL:https://quievrechain.fr/event/27-mars-fetons-la-saint-patrick/
LOCATION:Salle des fêtes\, Place Roger Salengro\, Quiévrechain\, France
CATEGORIES:Quotidien
ATTACH;FMTTYPE=image/png:https://quievrechain.fr/wp-content/uploads/2025/03/Escape-Game-St-Patrick-Seniors.png
END:VEVENT
END:VCALENDAR