BEGIN:VCALENDAR
VERSION:2.0
PRODID:-//Ville de Quiévrechain - ECPv5.14.1//NONSGML v1.0//EN
CALSCALE:GREGORIAN
METHOD:PUBLISH
X-WR-CALNAME:Ville de Quiévrechain
X-ORIGINAL-URL:https://quievrechain.fr
X-WR-CALDESC:Events for Ville de Quiévrechain
REFRESH-INTERVAL;VALUE=DURATION:PT1H
X-Robots-Tag:noindex
X-PUBLISHED-TTL:PT1H
BEGIN:VTIMEZONE
TZID:Europe/Paris
BEGIN:DAYLIGHT
TZOFFSETFROM:+0100
TZOFFSETTO:+0200
TZNAME:CEST
DTSTART:20260329T010000
END:DAYLIGHT
BEGIN:STANDARD
TZOFFSETFROM:+0200
TZOFFSETTO:+0100
TZNAME:CET
DTSTART:20261025T010000
END:STANDARD
END:VTIMEZONE
BEGIN:VEVENT
DTSTART;TZID=Europe/Paris:20260406T100000
DTEND;TZID=Europe/Paris:20260406T120000
DTSTAMP:20260419T140644
CREATED:20260303T135533Z
LAST-MODIFIED:20260303T135613Z
UID:62705-1775469600-1775476800@quievrechain.fr
SUMMARY:[6 avril] Chasse aux œufs
DESCRIPTION:Les petits Quiévrechinois de 3 à 9 ans sont invités à participer à la grande chasse aux œufs du lundi 6 avril 2026  \n Rendez-vous à 10h\, dans le jardin de la Salle des Fêtes\n Inscriptions du 10 mars au 4 avril en mairie. Participation : 1€\nÉvénement réservé aux Quiévrechinois. \nPréparez vos petits paniers et venez partager un moment gourmand et convivial
URL:https://quievrechain.fr/event/6-avril-chasse-aux-oeufs/
LOCATION:Salle des fêtes\, Place Roger Salengro\, Quiévrechain\, France
CATEGORIES:Festivités,Jeunesse
ATTACH;FMTTYPE=image/png:https://quievrechain.fr/wp-content/uploads/2026/03/CHASSE-AUX-OEUFS.png
END:VEVENT
END:VCALENDAR