BEGIN:VCALENDAR
VERSION:2.0
PRODID:-//Ville de Quiévrechain - ECPv5.14.1//NONSGML v1.0//EN
CALSCALE:GREGORIAN
METHOD:PUBLISH
X-WR-CALNAME:Ville de Quiévrechain
X-ORIGINAL-URL:https://quievrechain.fr
X-WR-CALDESC:Events for Ville de Quiévrechain
REFRESH-INTERVAL;VALUE=DURATION:PT1H
X-Robots-Tag:noindex
X-PUBLISHED-TTL:PT1H
BEGIN:VTIMEZONE
TZID:Europe/Paris
BEGIN:DAYLIGHT
TZOFFSETFROM:+0100
TZOFFSETTO:+0200
TZNAME:CEST
DTSTART:20260329T010000
END:DAYLIGHT
BEGIN:STANDARD
TZOFFSETFROM:+0200
TZOFFSETTO:+0100
TZNAME:CET
DTSTART:20261025T010000
END:STANDARD
END:VTIMEZONE
BEGIN:VEVENT
DTSTART;TZID=Europe/Paris:20260206T183000
DTEND;TZID=Europe/Paris:20260206T210000
DTSTAMP:20260419T151819
CREATED:20260119T104309Z
LAST-MODIFIED:20260119T104309Z
UID:62529-1770402600-1770411600@quievrechain.fr
SUMMARY:[6 février] ⚽️ Tournoi Futsal pour les 15-25 ans ⚽️
DESCRIPTION:⚽🔥 Le service Enfance Jeunesse organise une soirée futsal au complexe sportif de la Corderie\, dédiée aux jeunes de 15 à 25 ans ! \n📅 Vendredi 6 février\n⏰ De 18h30 à 21h\n📍 Complexe sportif de la Corderie \nViens jouer\, t’amuser et partager un moment sportif entre amis 💪⚽ \n👉 Inscription obligatoire au 06 71 65 06 46
URL:https://quievrechain.fr/event/6-fevrier-%e2%9a%bd%ef%b8%8f-tournoi-futsal-pour-les-15-25-ans-%e2%9a%bd%ef%b8%8f/
LOCATION:Complexe Sportif de la Corderie\, Quiévrechain\, 59920
CATEGORIES:Jeunesse,Sports
ATTACH;FMTTYPE=image/jpeg:https://quievrechain.fr/wp-content/uploads/2026/01/Futsal-6-fevrier-2026.jpg
END:VEVENT
BEGIN:VEVENT
DTSTART;TZID=Europe/Paris:20260213T173000
DTEND;TZID=Europe/Paris:20260217T203000
DTSTAMP:20260419T151819
CREATED:20260121T094004Z
LAST-MODIFIED:20260121T094004Z
UID:62559-1771003800-1771360200@quievrechain.fr
SUMMARY:[13 février] Soirée bien-être - Réservée aux filles
DESCRIPTION:Besoin de décompresser\, de faire une pause et de penser à toi ?\nLa PS Jeunes t’invite à une soirée bien-être pour te détendre\, découvrir de nouvelles activités et passer un bon moment dans une ambiance zen\, 100% fille (12-25 ans) 🌿✨ \n📅 Vendredi 13 février de 17h30 à 20h30\n📍 Espace Enfance Jeunesse \n👉 Inscription obligatoire auprès de la PS Jeunes ou au 06 71 65 06 46\nViens te poser\, te relaxer… et repartir boosté 😌💫 \nLa Maison des Jeunes accueillera les garçons avec un tournoi de ping pong !
URL:https://quievrechain.fr/event/13-fevrier-soiree-bien-etre-reservee-aux-filles/
LOCATION:Espace Enfance Jeunesse
CATEGORIES:Jeunesse
ATTACH;FMTTYPE=image/jpeg:https://quievrechain.fr/wp-content/uploads/2026/01/Soiree-bien-etre-13-fevrier-scaled.jpg
END:VEVENT
BEGIN:VEVENT
DTSTART;TZID=Europe/Paris:20260214T150000
DTEND;TZID=Europe/Paris:20260214T170000
DTSTAMP:20260419T151819
CREATED:20260121T094432Z
LAST-MODIFIED:20260121T094432Z
UID:62564-1771081200-1771088400@quievrechain.fr
SUMMARY:[14 février] Les dragons tombent amoureux des jeux - Ludothèque
DESCRIPTION:Les dragons aussi peuvent tomber amoureux 🥰🔥\nLa ludothèque propose un atelier ludique et créatif autour du thème « Les dragons tombent amoureux des jeux»\, pour les enfants de 3 à 6 ans. \nRendez-vous le samedi 14 février\, de 15h à 17h\, à l’Espace Enfance Jeunesse ! \n👨‍👩‍👧 Présence des parents obligatoire\n👉 Inscription obligatoire au 07 87 83 67 06 \nUn moment de jeu\, de partage et de complicité à vivre en famille ✨🎲
URL:https://quievrechain.fr/event/14-fevrier-les-dragons-tombent-amoureux-des-jeux-ludotheque/
LOCATION:Espace Enfance Jeunesse
CATEGORIES:Jeunesse
ATTACH;FMTTYPE=image/jpeg:https://quievrechain.fr/wp-content/uploads/2026/01/Dragons-scaled.jpg
END:VEVENT
END:VCALENDAR