BEGIN:VCALENDAR
VERSION:2.0
PRODID:-//Ville de Quiévrechain - ECPv5.14.1//NONSGML v1.0//EN
CALSCALE:GREGORIAN
METHOD:PUBLISH
X-WR-CALNAME:Ville de Quiévrechain
X-ORIGINAL-URL:https://quievrechain.fr
X-WR-CALDESC:Events for Ville de Quiévrechain
REFRESH-INTERVAL;VALUE=DURATION:PT1H
X-Robots-Tag:noindex
X-PUBLISHED-TTL:PT1H
BEGIN:VTIMEZONE
TZID:Europe/Paris
BEGIN:DAYLIGHT
TZOFFSETFROM:+0100
TZOFFSETTO:+0200
TZNAME:CEST
DTSTART:20260329T010000
END:DAYLIGHT
BEGIN:STANDARD
TZOFFSETFROM:+0200
TZOFFSETTO:+0100
TZNAME:CET
DTSTART:20261025T010000
END:STANDARD
END:VTIMEZONE
BEGIN:VEVENT
DTSTART;VALUE=DATE:20260216
DTEND;VALUE=DATE:20260217
DTSTAMP:20260421T115533
CREATED:20260204T180029Z
LAST-MODIFIED:20260210T102459Z
UID:62588-1771200000-1771286399@quievrechain.fr
SUMMARY:[16 février] Direction le Carnaval de Merzenich
DESCRIPTION:🎭🎉 Direction le Carnaval de Merzenich ! 🎉🎭\n\n\n \n\n\nPréparez les confettis et les déguisements : lundi 16 février 2026\, on embarque pour une journée haute en couleurs à l’occasion du Carnaval de Merzenich 🥳\n\n\n \n\n\n🚌 Départ : 8h30 – Place Roger Salengro / Retour : vers 21h\n\n\n \n\n\n🎺 Défilés\, ambiance festive\, musique\, costumes… petits et grands vont en prendre plein les yeux !\n\n\n \n\n\n💰 Tarifs :\n\n\n• Pour les Quiévrechinois : 15€ (8€ pour les -12 ans)\n\n\n• Pour les extérieurs : 20€ (10€ pour les -12 ans)\n\n\n \n\n\n📞 Infos : 03 27 45 42 24\n\n\n📍 Réservations en mairie à partir du 5 février\n\n\n⚠️ Priorité aux Quiévrechinois – places limitées\, ne traînez pas !\n\n\n \n\n\nAllez\, sortez les chapeaux\, les perruques et la bonne humeur… ça va être carnavalesque ! 🎶🎊
URL:https://quievrechain.fr/event/16-fevrier-direction-le-carnaval-de-merzenich/
LOCATION:Merzenich
CATEGORIES:Festivités
ATTACH;FMTTYPE=image/jpeg:https://quievrechain.fr/wp-content/uploads/2026/02/Carnvaval-Merzenich-2026.jpg
END:VEVENT
END:VCALENDAR