BEGIN:VCALENDAR
VERSION:2.0
PRODID:-//Ville de Quiévrechain - ECPv5.14.1//NONSGML v1.0//EN
CALSCALE:GREGORIAN
METHOD:PUBLISH
X-WR-CALNAME:Ville de Quiévrechain
X-ORIGINAL-URL:https://quievrechain.fr
X-WR-CALDESC:Events for Ville de Quiévrechain
REFRESH-INTERVAL;VALUE=DURATION:PT1H
X-Robots-Tag:noindex
X-PUBLISHED-TTL:PT1H
BEGIN:VTIMEZONE
TZID:Europe/Paris
BEGIN:DAYLIGHT
TZOFFSETFROM:+0100
TZOFFSETTO:+0200
TZNAME:CEST
DTSTART:20260329T010000
END:DAYLIGHT
BEGIN:STANDARD
TZOFFSETFROM:+0200
TZOFFSETTO:+0100
TZNAME:CET
DTSTART:20261025T010000
END:STANDARD
END:VTIMEZONE
BEGIN:VEVENT
DTSTART;VALUE=DATE:20260206
DTEND;VALUE=DATE:20260207
DTSTAMP:20260421T115544
CREATED:20260120T085010Z
LAST-MODIFIED:20260120T085015Z
UID:62523-1770336000-1770422399@quievrechain.fr
SUMMARY:[6 février] Soirée "N'oubliez pas les paroles"
DESCRIPTION:📚 La bibliothèque municipale vous invite à une soirée conviviale et musicale autour du célèbre jeu “N’oubliez pas les paroles” !\n\n\n \n\n\n📅 Vendredi 6 février\n\n\n⏰ De 18h à 20h\n\n\n📍 Service Enfance Jeunesse\n\n\n \n\n\nQue vous soyez chanteur\, mélomane ou simple spectateur\, venez partager un moment ludique et chaleureux 🎵✨\n\n\n \n\n\n👉 Entrée gratuite\n\n\n⚠️ Places limitées – inscription obligatoire au 03 27 24 26 74
URL:https://quievrechain.fr/event/6-fevrier-soiree-noubliez-pas-les-paroles/
LOCATION:Espace Enfance Jeunesse
CATEGORIES:Festivités
ATTACH;FMTTYPE=image/jpeg:https://quievrechain.fr/wp-content/uploads/2026/01/Noubliez-pas-les-paroles-6-fev.jpg
END:VEVENT
END:VCALENDAR