BEGIN:VCALENDAR
VERSION:2.0
PRODID:-//Ville de Quiévrechain - ECPv5.14.1//NONSGML v1.0//EN
CALSCALE:GREGORIAN
METHOD:PUBLISH
X-WR-CALNAME:Ville de Quiévrechain
X-ORIGINAL-URL:https://quievrechain.fr
X-WR-CALDESC:Events for Ville de Quiévrechain
REFRESH-INTERVAL;VALUE=DURATION:PT1H
X-Robots-Tag:noindex
X-PUBLISHED-TTL:PT1H
BEGIN:VTIMEZONE
TZID:Europe/Paris
BEGIN:DAYLIGHT
TZOFFSETFROM:+0100
TZOFFSETTO:+0200
TZNAME:CEST
DTSTART:20250330T010000
END:DAYLIGHT
BEGIN:STANDARD
TZOFFSETFROM:+0200
TZOFFSETTO:+0100
TZNAME:CET
DTSTART:20251026T010000
END:STANDARD
END:VTIMEZONE
BEGIN:VEVENT
DTSTART;TZID=Europe/Paris:20251116T150000
DTEND;TZID=Europe/Paris:20251116T200000
DTSTAMP:20260422T095706
CREATED:20251023T121701Z
LAST-MODIFIED:20251023T121701Z
UID:62178-1763305200-1763323200@quievrechain.fr
SUMMARY:[16 novembre] Thé dansant
DESCRIPTION:💃🕺 Thé Dansant à Quiévrechain ! 🎶 \nRendez-vous le dimanche 16 novembre à partir de 15h à la salle des fêtes pour un après-midi festif et convivial. \n🎤 Animation : Jean-Marie Colpin🍷 Buvette & petite restauration assurées par Les Blancs Moineaux \n📅 Réservations à partir du 3 novembre💶 Entrée : 3€ (gratuit pour les -12 ans) \nVenez danser\, partager et profiter d’un moment chaleureux en musique ! ✨ \n📍 Salle des fêtes – Quiévrechain
URL:https://quievrechain.fr/event/16-novembre-the-dansant/
LOCATION:Salle des fêtes\, Place Roger Salengro\, Quiévrechain\, France
CATEGORIES:Festivités
ATTACH;FMTTYPE=image/jpeg:https://quievrechain.fr/wp-content/uploads/2025/10/2025-09-10-Affiche-the-dansant-16-nov-v-2-scaled.jpg
END:VEVENT
END:VCALENDAR