BEGIN:VCALENDAR
VERSION:2.0
PRODID:-//Ville de Quiévrechain - ECPv5.14.1//NONSGML v1.0//EN
CALSCALE:GREGORIAN
METHOD:PUBLISH
X-WR-CALNAME:Ville de Quiévrechain
X-ORIGINAL-URL:https://quievrechain.fr
X-WR-CALDESC:Events for Ville de Quiévrechain
REFRESH-INTERVAL;VALUE=DURATION:PT1H
X-Robots-Tag:noindex
X-PUBLISHED-TTL:PT1H
BEGIN:VTIMEZONE
TZID:Europe/Paris
BEGIN:DAYLIGHT
TZOFFSETFROM:+0100
TZOFFSETTO:+0200
TZNAME:CEST
DTSTART:20250330T010000
END:DAYLIGHT
BEGIN:STANDARD
TZOFFSETFROM:+0200
TZOFFSETTO:+0100
TZNAME:CET
DTSTART:20251026T010000
END:STANDARD
END:VTIMEZONE
BEGIN:VEVENT
DTSTART;TZID=Europe/Paris:20251031T190000
DTEND;TZID=Europe/Paris:20251031T233000
DTSTAMP:20260419T183108
CREATED:20250915T071447Z
LAST-MODIFIED:20250915T141612Z
UID:62031-1761937200-1761953400@quievrechain.fr
SUMMARY:[31 octobre] Soirée Halloween à Quiévrechain
DESCRIPTION:🎃 Soirée Halloween à Quiévrechain ! 🕸️\n\n\n \n\n\nLe 31 octobre dès 19h à la salle des fêtes\, rejoignez-nous pour une soirée terrifiante organisée par Quiévrechain Pêche Compétition !\n\n\n👻 Ambiance garantie avec DJ\n\n\n🍔 Buvette et petite restauration sur place\n\n\n🎟️ Entrée : 2 € (gratuit pour les -10 ans)\n\n\n🎭 Costume conseillé pour l’ambiance (mais pas obligatoire)\n\n\n🎁 Grande tombola avec 2 entrées Disneyland à gagner !\n\n\n \n\n\n📍 Venez nombreux pour partager un moment monstrueusement fun ! 🕷️
URL:https://quievrechain.fr/event/31-octobre-soiree-halloween-a-quievrechain/
LOCATION:Salle des fêtes\, Place Roger Salengro\, Quiévrechain\, France
CATEGORIES:Festivités
ATTACH;FMTTYPE=image/jpeg:https://quievrechain.fr/wp-content/uploads/2025/10/2025_09_08_Affiche_soiree_halloween_Quievrechain_Peche_Competition-1-scaled.jpg
END:VEVENT
END:VCALENDAR