BEGIN:VCALENDAR
VERSION:2.0
PRODID:-//Ville de Quiévrechain - ECPv5.14.1//NONSGML v1.0//EN
CALSCALE:GREGORIAN
METHOD:PUBLISH
X-WR-CALNAME:Ville de Quiévrechain
X-ORIGINAL-URL:https://quievrechain.fr
X-WR-CALDESC:Events for Ville de Quiévrechain
REFRESH-INTERVAL;VALUE=DURATION:PT1H
X-Robots-Tag:noindex
X-PUBLISHED-TTL:PT1H
BEGIN:VTIMEZONE
TZID:Europe/Paris
BEGIN:DAYLIGHT
TZOFFSETFROM:+0100
TZOFFSETTO:+0200
TZNAME:CEST
DTSTART:20250330T010000
END:DAYLIGHT
BEGIN:STANDARD
TZOFFSETFROM:+0200
TZOFFSETTO:+0100
TZNAME:CET
DTSTART:20251026T010000
END:STANDARD
END:VTIMEZONE
BEGIN:VEVENT
DTSTART;TZID=Europe/Paris:20251205T183000
DTEND;TZID=Europe/Paris:20251205T220000
DTSTAMP:20260419T141701
CREATED:20251124T133210Z
LAST-MODIFIED:20251202T083819Z
UID:62284-1764959400-1764972000@quievrechain.fr
SUMMARY:[5 décembre] Village de Noël : Programme du vendredi
DESCRIPTION:Rendez-vous les 5\, 6 et 7 décembre\, place Doumer\, pour un week-end rempli de magie\, de lumières et de bonne humeur. Plus de 25 chalets vous attendent\, avec des associations locales\, des artisans du coin\, des commerçants… et même nos amis de Merzenich présents vendredi et samedi (oui\, les fameuses curry wurst 👀).\n\n\n \n\nAu programme du Vendredi 5 décembre – de 18h30 à 22h \n\n18h30 : Inauguration \n19h : Chorale Mélomania et chorale des enfants de l’école Jean Marie Brison \n20h : Concert déambulatoire de l’harmonie Aunelle Orchestra\n\nTout le week-end :  \nPiste de luge\, stand maquillage et jeux par le service enfance jeunesse\, manèges et traineau magique… et nos amis allemands de Merzenich venus avec leurs incontournables curry wurst !  \nD’autres surprises tout au long du week-end !
URL:https://quievrechain.fr/event/5-decembre-village-de-noel-programme-du-vendredi/
LOCATION:Place Doumer\, Quiévrechain\, 59920\, France
CATEGORIES:Festivités
ATTACH;FMTTYPE=image/jpeg:https://quievrechain.fr/wp-content/uploads/2025/11/Village-de-noel-2025-v2-scaled.jpg
END:VEVENT
BEGIN:VEVENT
DTSTART;TZID=Europe/Paris:20251206T150000
DTEND;TZID=Europe/Paris:20251206T210000
DTSTAMP:20260419T141701
CREATED:20251124T133256Z
LAST-MODIFIED:20251202T083812Z
UID:62286-1765033200-1765054800@quievrechain.fr
SUMMARY:[6 décembre] Village de Noël : Programme du samedi
DESCRIPTION:Rendez-vous les 5\, 6 et 7 décembre\, place Doumer\, pour un week-end rempli de magie\, de lumières et de bonne humeur. Plus de 25 chalets vous attendent\, avec des associations locales\, des artisans du coin\, des commerçants… et même nos amis de Merzenich présents vendredi et samedi (oui\, les fameuses curry wurst 👀).\n\n\n\nAu programme du Samedi 6 décembre – de 15h à 21h \n\n15h à 18h : Sculpteur de ballon\n16h : Prestation de l’association Danses Aunelle\nà partir de 17h : Venue des mascottes illuminées\n19h : Prestation de l’association des majorettes Les Blancs Moineaux\n20h : feu d’artifices\n\nTout le week-end :  \nPiste de luge\, stand maquillage et jeux par le service enfance jeunesse\, manèges et traineau magique… et nos amis allemands de Merzenich venus avec leurs incontournables curry wurst !  \nD’autres surprises tout au long du week-end !
URL:https://quievrechain.fr/event/6-decembre-village-de-noel-programme-du-samedi/
LOCATION:Place Doumer\, Quiévrechain\, 59920\, France
CATEGORIES:Festivités
ATTACH;FMTTYPE=image/jpeg:https://quievrechain.fr/wp-content/uploads/2025/11/Village-de-noel-2025-v2-scaled.jpg
END:VEVENT
BEGIN:VEVENT
DTSTART;TZID=Europe/Paris:20251207T150000
DTEND;TZID=Europe/Paris:20251207T200000
DTSTAMP:20260419T141701
CREATED:20251124T133419Z
LAST-MODIFIED:20251202T083810Z
UID:62288-1765119600-1765137600@quievrechain.fr
SUMMARY:[7 décembre] Village de Noël : : Programme du dimanche
DESCRIPTION:Rendez-vous les 5\, 6 et 7 décembre\, place Doumer\, pour un week-end rempli de magie\, de lumières et de bonne humeur. Plus de 25 chalets vous attendent\, avec des associations locales\, des artisans du coin\, des commerçants… et même nos amis de Merzenich présents vendredi et samedi (oui\, les fameuses curry wurst 👀).\n\n\n\nAu programme du dimanche 7 décembre – de 15h à 20h \n\n16h : Duo Gourmandise – Concert\n17h : Arrivée du Père-Noël \nDès 18h : Moz Drums – Déambulation lumineuse en musique\n\nTout le week-end :  \nPiste de luge\, stand maquillage et jeux par le service enfance jeunesse\, manèges et traineau magique… et nos amis allemands de Merzenich venus avec leurs incontournables curry wurst !  \nD’autres surprises tout au long du week-end !
URL:https://quievrechain.fr/event/7-decembre-village-de-noel-programme-du-dimanche/
LOCATION:Place Doumer\, Quiévrechain\, 59920\, France
CATEGORIES:Festivités
ATTACH;FMTTYPE=image/jpeg:https://quievrechain.fr/wp-content/uploads/2025/11/Village-de-noel-2025-v2-scaled.jpg
END:VEVENT
BEGIN:VEVENT
DTSTART;TZID=Europe/Paris:20251219T190000
DTEND;TZID=Europe/Paris:20251219T200000
DTSTAMP:20260419T141701
CREATED:20251119T210843Z
LAST-MODIFIED:20251119T210843Z
UID:62268-1766170800-1766174400@quievrechain.fr
SUMMARY:[19 décembre] Crèche vivante
DESCRIPTION:🌟🐑 La magie de Noël prend vie à Quiévrechain ! 🎄La Municipalité et l’association Quiévrechain d’Hier et d’Aujourd’hui vous invitent à assister à la Crèche vivante — un moment féerique pour petits et grands. \n📅 Vendredi 19 décembre 2025 à 19h📍 Église Saint-Martin de Quiévrechain🎟️ Entrée gratuite \nEntre lumière\, musique et tradition\, venez revivre la magie de Noël dans une ambiance chaleureuse et conviviale. ✨
URL:https://quievrechain.fr/event/19-decembre-creche-vivante/
LOCATION:Eglise Saint-Martin\, Rue Valériani\, Quiévrechain\, 59920
CATEGORIES:Festivités
ATTACH;FMTTYPE=image/jpeg:https://quievrechain.fr/wp-content/uploads/2025/11/creche-vivante-ok-scaled.jpg
END:VEVENT
BEGIN:VEVENT
DTSTART;TZID=Europe/Paris:20251220T080000
DTEND;TZID=Europe/Paris:20251220T230000
DTSTAMP:20260419T141701
CREATED:20251118T091429Z
LAST-MODIFIED:20251118T091429Z
UID:62257-1766217600-1766271600@quievrechain.fr
SUMMARY:[20 décembre] Marché de Noël Cologne
DESCRIPTION:Prêts à vivre la magie de Noël version allemande ? 🎅🎄\n\n\n \n\n\nDirection Cologne le samedi 20 décembre pour découvrir l’un des plus beaux marchés de Noël d’Europe\, au pied de la célèbre cathédrale. Ambiance féérique\, lumières partout\, odeurs de cannelle… bref\, le combo parfait pour se mettre dans l’esprit des fêtes.\n\n\n \n\n\n👉 Départ à 8h (place Roger Salengro) – Retour à 22h\n\n\n👉 CNI + carte européenne d’assurance maladie obligatoires\n\n\n \n\n\nTarifs Quiévréchinois :\n\n\n• 15€ / adulte\n\n\n• 8€ / –12 ans\n\n\n \n\n\nTarifs extérieurs :\n\n\n• 30€ / adulte\n\n\n• 15€ / –12 ans\n\n\n \n\n\nLes réservations ouvrent dès le 25 novembre en Mairie ! 🎄✨
URL:https://quievrechain.fr/event/20-decembre-marche-de-noel-cologne/
LOCATION:Place Roger Salengro\, Place Roger Salengro\, Quiévrechain\, 59920\, France
CATEGORIES:Festivités
ATTACH;FMTTYPE=image/jpeg:https://quievrechain.fr/wp-content/uploads/2025/11/mache-de-noel-cologne.jpg
END:VEVENT
END:VCALENDAR