BEGIN:VCALENDAR
VERSION:2.0
PRODID:-//Ville de Quiévrechain - ECPv5.14.1//NONSGML v1.0//EN
CALSCALE:GREGORIAN
METHOD:PUBLISH
X-WR-CALNAME:Ville de Quiévrechain
X-ORIGINAL-URL:https://quievrechain.fr
X-WR-CALDESC:Events for Ville de Quiévrechain
REFRESH-INTERVAL;VALUE=DURATION:PT1H
X-Robots-Tag:noindex
X-PUBLISHED-TTL:PT1H
BEGIN:VTIMEZONE
TZID:Europe/Paris
BEGIN:DAYLIGHT
TZOFFSETFROM:+0100
TZOFFSETTO:+0200
TZNAME:CEST
DTSTART:20250330T010000
END:DAYLIGHT
BEGIN:STANDARD
TZOFFSETFROM:+0200
TZOFFSETTO:+0100
TZNAME:CET
DTSTART:20251026T010000
END:STANDARD
END:VTIMEZONE
BEGIN:VEVENT
DTSTART;TZID=Europe/Paris:20251129T100000
DTEND;TZID=Europe/Paris:20251129T180000
DTSTAMP:20260420T131719
CREATED:20251104T105120Z
LAST-MODIFIED:20251104T105120Z
UID:62218-1764410400-1764439200@quievrechain.fr
SUMMARY:[29 novembre]  Exposition Comètes - Chemins de glace et de lumière
DESCRIPTION:☄️✨ 𝐄𝐧 𝐫𝐨𝐮𝐭𝐞 𝐯𝐞𝐫𝐬 𝐥𝐞𝐬 𝐞́𝐭𝐨𝐢𝐥𝐞𝐬 !\n\n\n \n\n\nL’association Coperniclub vous invite à découvrir son exposition “Chemins de glace et de lumière”\, une plongée fascinante au cœur des comètes et de leurs mystères. 🌌\n\n\n \n\n\n📅 Samedi 29 novembre\n\n\n🕙 De 10h à 12h et de 14h à 18h\n\n\n📍 Ancien collège – Rue des Champs\, Quiévrechain\n\n\n \n\n\nUne journée pour rêver\, apprendre et voyager… la tête dans les étoiles ! 🌠
URL:https://quievrechain.fr/event/29-novembre-exposition-cometes-chemins-de-glace-et-de-lumiere/
LOCATION:Ancien collège\, 9 rue des champs\, Quiévrechain\, 59920\, France
CATEGORIES:Expositions
ATTACH;FMTTYPE=image/jpeg:https://quievrechain.fr/wp-content/uploads/2025/11/2025-10-21-Expo-Cometes-coperniclub.jpg
END:VEVENT
END:VCALENDAR