BEGIN:VCALENDAR
VERSION:2.0
PRODID:-//Ville de Quiévrechain - ECPv5.14.1//NONSGML v1.0//EN
CALSCALE:GREGORIAN
METHOD:PUBLISH
X-WR-CALNAME:Ville de Quiévrechain
X-ORIGINAL-URL:https://quievrechain.fr
X-WR-CALDESC:Events for Ville de Quiévrechain
REFRESH-INTERVAL;VALUE=DURATION:PT1H
X-Robots-Tag:noindex
X-PUBLISHED-TTL:PT1H
BEGIN:VTIMEZONE
TZID:Europe/Paris
BEGIN:DAYLIGHT
TZOFFSETFROM:+0100
TZOFFSETTO:+0200
TZNAME:CEST
DTSTART:20250330T010000
END:DAYLIGHT
BEGIN:STANDARD
TZOFFSETFROM:+0200
TZOFFSETTO:+0100
TZNAME:CET
DTSTART:20251026T010000
END:STANDARD
END:VTIMEZONE
BEGIN:VEVENT
DTSTART;VALUE=DATE:20250118
DTEND;VALUE=DATE:20250120
DTSTAMP:20260421T045630
CREATED:20250106T154446Z
LAST-MODIFIED:20250106T154446Z
UID:60802-1737158400-1737331199@quievrechain.fr
SUMMARY:[18-19 janvier] Salon Passion Pêche 59
DESCRIPTION:🎣 Salon Passion Pêche 59 🎣\n👉 Organisé par l’association Quiévrechain Pêche Compétition \nAmateurs de pêche\, compétiteurs ou simples curieux\, ne manquez pas ce grand rendez-vous dédié à votre passion ! Le Salon Passion Pêche 59 vous réserve une édition pleine de découvertes et d’animations conviviales. \n📅 Quand ?\nSamedi 18 janvier : de 10h à 18h\nDimanche 19 janvier : de 10h à 17h \n📍 Où ?\nÀ la salle des fêtes de Quiévrechain. \n💶 Tarif d’entrée : 2 euros par personne.\nL’entrée comprend une participation à notre tombola avec de superbes lots à gagner ! 🎟️ \n🍴 Restauration sur place :\nProfitez d’une buvette et d’une petite restauration pour faire une pause gourmande tout au long de votre visite. \n📞 Infos pratiques et contact :\nPour toute question\, n’hésitez pas à joindre Laurent Kolodziej au 06 82 92 10 02 ou David Daubies au 07 83 94 13 02.
URL:https://quievrechain.fr/event/18-19-janvier-salon-passion-peche-59/
LOCATION:Salle des fêtes\, Place Roger Salengro\, Quiévrechain\, France
CATEGORIES:Expositions
ATTACH;FMTTYPE=image/png:https://quievrechain.fr/wp-content/uploads/2025/01/salon-peche-2025.png
END:VEVENT
END:VCALENDAR