BEGIN:VCALENDAR
VERSION:2.0
PRODID:-//Ville de Quiévrechain - ECPv5.14.1//NONSGML v1.0//EN
CALSCALE:GREGORIAN
METHOD:PUBLISH
X-WR-CALNAME:Ville de Quiévrechain
X-ORIGINAL-URL:https://quievrechain.fr
X-WR-CALDESC:Events for Ville de Quiévrechain
REFRESH-INTERVAL;VALUE=DURATION:PT1H
X-Robots-Tag:noindex
X-PUBLISHED-TTL:PT1H
BEGIN:VTIMEZONE
TZID:Europe/Paris
BEGIN:DAYLIGHT
TZOFFSETFROM:+0100
TZOFFSETTO:+0200
TZNAME:CEST
DTSTART:20240331T010000
END:DAYLIGHT
BEGIN:STANDARD
TZOFFSETFROM:+0200
TZOFFSETTO:+0100
TZNAME:CET
DTSTART:20241027T010000
END:STANDARD
END:VTIMEZONE
BEGIN:VEVENT
DTSTART;VALUE=DATE:20240928
DTEND;VALUE=DATE:20240929
DTSTAMP:20260421T112259
CREATED:20240919T130901Z
LAST-MODIFIED:20240919T130945Z
UID:60242-1727481600-1727567999@quievrechain.fr
SUMMARY:[28 septembre] Expositions du Coperniclub
DESCRIPTION:🌌 Le 28 septembre\, de 10h à 12h et de 14h à 18h\, à l’ancien collège de Quiévrechain (rue des champs)\, venez découvrir l’exposition autour des galaxies et de la voie lactée par l’association Coperniclub 🌌\n\n\n \n\n\n🔭 Au programme :\n\n\n \n\n\n • Panneaux explicatifs\n\n\n • Diaporamas immersifs\n\n\n • Exposition de matériels d’observation astronomique\n\n\n • Observation du Soleil en journée (si les conditions le permettent)\n\n\n • Observation du ciel nocturne à partir de 20h00\n\n\n \n\n\nUn événement pour petits et grands\, passionnés d’astronomie ou simples curieux ! 🌠\n\n\n \n\n\n🎉 Félicitations au Coperniclub qui fête ses 20 ans ! (2004-2024) 🎉
URL:https://quievrechain.fr/event/28-septembre-expositions-du-coperniclub/
LOCATION:Ancien collège\, 9 rue des champs\, Quiévrechain\, 59920\, France
CATEGORIES:Expositions
ATTACH;FMTTYPE=image/jpeg:https://quievrechain.fr/wp-content/uploads/2024/09/affiche-coperniclub.jpg
END:VEVENT
END:VCALENDAR