BEGIN:VCALENDAR
VERSION:2.0
PRODID:-//Ville de Quiévrechain - ECPv5.14.1//NONSGML v1.0//EN
CALSCALE:GREGORIAN
METHOD:PUBLISH
X-WR-CALNAME:Ville de Quiévrechain
X-ORIGINAL-URL:https://quievrechain.fr
X-WR-CALDESC:Events for Ville de Quiévrechain
REFRESH-INTERVAL;VALUE=DURATION:PT1H
X-Robots-Tag:noindex
X-PUBLISHED-TTL:PT1H
BEGIN:VTIMEZONE
TZID:Europe/Paris
BEGIN:DAYLIGHT
TZOFFSETFROM:+0100
TZOFFSETTO:+0200
TZNAME:CEST
DTSTART:20240331T010000
END:DAYLIGHT
BEGIN:STANDARD
TZOFFSETFROM:+0200
TZOFFSETTO:+0100
TZNAME:CET
DTSTART:20241027T010000
END:STANDARD
END:VTIMEZONE
BEGIN:VEVENT
DTSTART;TZID=Europe/Paris:20240921T140000
DTEND;TZID=Europe/Paris:20240922T180000
DTSTAMP:20260421T112254
CREATED:20240905T130523Z
LAST-MODIFIED:20240911T142926Z
UID:60094-1726927200-1727028000@quievrechain.fr
SUMMARY:[21-22 septembre] Journées Européennes du Patrimoine
DESCRIPTION:Les 21 et 22 septembre 2024\, de 14h à 18h\, Quiévrechain ouvre ses portes à une nouvelle édition des Journées Européennes du Patrimoine. \nCet événement incontournable vous invite à redécouvrir la ville à travers des expositions et animations inédites à la salle des fêtes et à la bibliothèque municipale. \nAu programme à la salle des fêtes : \n• Les voies de communication\n• La route des commerces de Quiévrechain\, actuels et surtout d’antan\, par leurs publicités\n• L’histoire de l’Etablissement Schroeder & Jackson\n• Le tramway de Quiévrain à Valenciennes\n• Articles de presse concernant Quiévrechain\n•C.Jérôme à Quiévrechain avec\, sous réserve\, la présence de Vincent Handrey\n• Deux auteurs régionaux\n• Les miniatures fabriquées par un Quiévrechinois\, Christian Landrain\nLe samedi de 15h à 17 h – Atelier peinture sur figurines à emporter.\nPeinture sur argile\, les animaux\, les animaux mythiques ou les dinosaures.\nLe dimanche à 15 h : Dictée collective animée par Madame Béatrice Descamps\, Conseillère Départementale et préparée par Monsieur Mollet.\nInvité d’honneur Monsieur Basuyaux. \nAnimations\, expositions et ateliers en partenariat avec l’association « Quiévrechain d’hier et d’aujourd’hui« .\n \nAu programme à la bibliothèque municipale : \n• Exposition de la Médiathèque Départementale à la bibliothèque « Invitation au voyage »\n• Jeux anciens géants à découvrir avec Rémi – Le temps du jeu.\n• Activités sur la thématique du week-end. \nSamedi à 14h\, 15h\, 16h et 17h: \nPrésence de la calèche du patrimoine au départ de la place Roger Salengro avec visite de l’exposition de la Médiathèque Départementale et ateliers de la bibliothèque municipale.
URL:https://quievrechain.fr/event/jep-2024/
LOCATION:Salle des fêtes\, Place Roger Salengro\, Quiévrechain\, France
CATEGORIES:Expositions
ATTACH;FMTTYPE=image/jpeg:https://quievrechain.fr/wp-content/uploads/2024/09/JEP2024-scaled.jpg
END:VEVENT
END:VCALENDAR