BEGIN:VCALENDAR
VERSION:2.0
PRODID:-//Ville de Quiévrechain - ECPv5.14.1//NONSGML v1.0//EN
CALSCALE:GREGORIAN
METHOD:PUBLISH
X-WR-CALNAME:Ville de Quiévrechain
X-ORIGINAL-URL:https://quievrechain.fr
X-WR-CALDESC:Events for Ville de Quiévrechain
REFRESH-INTERVAL;VALUE=DURATION:PT1H
X-Robots-Tag:noindex
X-PUBLISHED-TTL:PT1H
BEGIN:VTIMEZONE
TZID:Europe/Paris
BEGIN:DAYLIGHT
TZOFFSETFROM:+0100
TZOFFSETTO:+0200
TZNAME:CEST
DTSTART:20240331T010000
END:DAYLIGHT
BEGIN:STANDARD
TZOFFSETFROM:+0200
TZOFFSETTO:+0100
TZNAME:CET
DTSTART:20241027T010000
END:STANDARD
END:VTIMEZONE
BEGIN:VEVENT
DTSTART;TZID=Europe/Paris:20240914T110000
DTEND;TZID=Europe/Paris:20240914T180000
DTSTAMP:20260421T112325
CREATED:20240905T131519Z
LAST-MODIFIED:20240906T130802Z
UID:60098-1726311600-1726336800@quievrechain.fr
SUMMARY:[14-15 septembre] Salon du bien-être
DESCRIPTION: 📅 Les 14 et 15 septembre \n🕚 De 11h à 18h \n📍 Salle des Fêtes de Quiévrechain Venez découvrir un espace dédié au bien-être\, à la détente et à la santé ! 🌿💆‍♀️ \nAu programme : \n✅ Sophrologie \n✅ Démonstrations de massage \n✅ Produits naturels \n✅ Ferme pédagogique \n✅ Et bien plus encore ! \n  \nQue vous soyez curieux ou passionné par le bien-être\, cet événement est fait pour vous ! 🎉 🌸 \nEntrée libre – N’hésitez pas à venir en famille ou entre amis pour partager ce moment de sérénité. 🌸
URL:https://quievrechain.fr/event/14-15-septembre-salon-du-bien-etre/
LOCATION:Salle des fêtes\, Place Roger Salengro\, Quiévrechain\, France
CATEGORIES:Expositions
ATTACH;FMTTYPE=image/png:https://quievrechain.fr/wp-content/uploads/2024/09/salon-du-bien-etre.png
END:VEVENT
END:VCALENDAR