BEGIN:VCALENDAR
VERSION:2.0
PRODID:-//Ville de Quiévrechain - ECPv5.14.1//NONSGML v1.0//EN
CALSCALE:GREGORIAN
METHOD:PUBLISH
X-WR-CALNAME:Ville de Quiévrechain
X-ORIGINAL-URL:https://quievrechain.fr
X-WR-CALDESC:Events for Ville de Quiévrechain
REFRESH-INTERVAL;VALUE=DURATION:PT1H
X-Robots-Tag:noindex
X-PUBLISHED-TTL:PT1H
BEGIN:VTIMEZONE
TZID:Europe/Paris
BEGIN:DAYLIGHT
TZOFFSETFROM:+0100
TZOFFSETTO:+0200
TZNAME:CEST
DTSTART:20230326T010000
END:DAYLIGHT
BEGIN:STANDARD
TZOFFSETFROM:+0200
TZOFFSETTO:+0100
TZNAME:CET
DTSTART:20231029T010000
END:STANDARD
END:VTIMEZONE
BEGIN:VEVENT
DTSTART;TZID=Europe/Paris:20230913T083000
DTEND;TZID=Europe/Paris:20230922T233000
DTSTAMP:20260419T192837
CREATED:20230912T140952Z
LAST-MODIFIED:20230912T195616Z
UID:58368-1694593800-1695425400@quievrechain.fr
SUMMARY:[13-22 septembre] Balayeuse mécanique
DESCRIPTION:La balayeuse mécanique passera le mercredi 13 et le jeudi 14 septembre du côté pair et le jeudi 21 et vendredi 22 septembre du côté impair.\n\n\n⚠ Attention : Le passage s’effectue en demi-journée\, à partir de 8h30. ⚠\n\n\nPensez à vous garer du bon côté.
URL:https://quievrechain.fr/event/13-22-septembre-balayeuse-mecanique/
CATEGORIES:Environnement
ATTACH;FMTTYPE=image/png:https://quievrechain.fr/wp-content/uploads/2023/09/Balayeuse-mecanique.png
END:VEVENT
END:VCALENDAR