BEGIN:VCALENDAR
VERSION:2.0
PRODID:-//Ville de Quiévrechain - ECPv5.14.1//NONSGML v1.0//EN
CALSCALE:GREGORIAN
METHOD:PUBLISH
X-WR-CALNAME:Ville de Quiévrechain
X-ORIGINAL-URL:https://quievrechain.fr
X-WR-CALDESC:Events for Ville de Quiévrechain
REFRESH-INTERVAL;VALUE=DURATION:PT1H
X-Robots-Tag:noindex
X-PUBLISHED-TTL:PT1H
BEGIN:VTIMEZONE
TZID:Europe/Paris
BEGIN:DAYLIGHT
TZOFFSETFROM:+0100
TZOFFSETTO:+0200
TZNAME:CEST
DTSTART:20260329T010000
END:DAYLIGHT
BEGIN:STANDARD
TZOFFSETFROM:+0200
TZOFFSETTO:+0100
TZNAME:CET
DTSTART:20261025T010000
END:STANDARD
END:VTIMEZONE
BEGIN:VEVENT
DTSTART;TZID=Europe/Paris:20260410T170000
DTEND;TZID=Europe/Paris:20260410T180000
DTSTAMP:20260419T154115
CREATED:20260304T152328Z
LAST-MODIFIED:20260304T152328Z
UID:62727-1775840400-1775844000@quievrechain.fr
SUMMARY:[10 avril] Les lapins à la bibliothèque
DESCRIPTION:🐰📚 Les lapins envahissent la bibliothèque ! Et si on s’offrait une petite parenthèse de douceur autour des livres ? \n✨ 📅 Vendredi 10 avril 2026 de 17h à 18h\, à la bibliothèque \nAu programme pour les 5-8 ans : Une jolie histoire à partager et une chasse au trésor pleine de surprises ! \nUn moment ludique et chaleureux pour rêver\, imaginer et s’amuser ensemble 🐇 \n⚠️Places limitées\, inscription au 03 27 24 26 74 On vous attend nombreux pour cette belle aventure ! ✨
URL:https://quievrechain.fr/event/10-avril-les-lapins-a-la-bibliotheque/
LOCATION:Bibliotheque
CATEGORIES:Culture
ATTACH;FMTTYPE=image/png:https://quievrechain.fr/wp-content/uploads/2026/03/Les-lapins-a-la-bibliotheque-avril-2026.png
END:VEVENT
END:VCALENDAR