BEGIN:VCALENDAR
VERSION:2.0
PRODID:-//Ville de Quiévrechain - ECPv5.14.1//NONSGML v1.0//EN
CALSCALE:GREGORIAN
METHOD:PUBLISH
X-WR-CALNAME:Ville de Quiévrechain
X-ORIGINAL-URL:https://quievrechain.fr
X-WR-CALDESC:Events for Ville de Quiévrechain
REFRESH-INTERVAL;VALUE=DURATION:PT1H
X-Robots-Tag:noindex
X-PUBLISHED-TTL:PT1H
BEGIN:VTIMEZONE
TZID:Europe/Paris
BEGIN:DAYLIGHT
TZOFFSETFROM:+0100
TZOFFSETTO:+0200
TZNAME:CEST
DTSTART:20260329T010000
END:DAYLIGHT
BEGIN:STANDARD
TZOFFSETFROM:+0200
TZOFFSETTO:+0100
TZNAME:CET
DTSTART:20261025T010000
END:STANDARD
END:VTIMEZONE
BEGIN:VEVENT
DTSTART;TZID=Europe/Paris:20260401T140000
DTEND;TZID=Europe/Paris:20260401T150000
DTSTAMP:20260419T152736
CREATED:20260325T091144Z
LAST-MODIFIED:20260325T091149Z
UID:62876-1775052000-1775055600@quievrechain.fr
SUMMARY:[4 avril] Atelier L’heure du conte : Poisson d'avril
DESCRIPTION:🐟😄 Alerte invasion de poissons… à la bibliothèque ! Et si cette année\, les poissons d’avril ne restaient pas collés dans le dos mais prenaient vie en histoires et en créations ? \n👉 La bibliothèque de Quiévrechain propose un atelier spécial Poisson d’avril pour les petits artistes et rêveurs\, de 5 à 8 ans ! \nAu programme : des histoires rigolotes\, des poissons colorés et plein de bonne humeur ! \n🗓️ Mercredi 1er avril 2026 de 14h à 15h \n⚠️ Attention\, les places filent plus vite qu’un poisson dans l’eau ! \nRéservation au 03 27 24 26 74
URL:https://quievrechain.fr/event/4-mars-atelier-lheure-du-conte-poisson-davril/
LOCATION:Bibliotheque
CATEGORIES:Culture
ATTACH;FMTTYPE=image/jpeg:https://quievrechain.fr/wp-content/uploads/2026/03/Heure-du-conte-avril-2026-2.jpg
END:VEVENT
END:VCALENDAR