BEGIN:VCALENDAR
VERSION:2.0
PRODID:-//Ville de Quiévrechain - ECPv5.14.1//NONSGML v1.0//EN
CALSCALE:GREGORIAN
METHOD:PUBLISH
X-WR-CALNAME:Ville de Quiévrechain
X-ORIGINAL-URL:https://quievrechain.fr
X-WR-CALDESC:Events for Ville de Quiévrechain
REFRESH-INTERVAL;VALUE=DURATION:PT1H
X-Robots-Tag:noindex
X-PUBLISHED-TTL:PT1H
BEGIN:VTIMEZONE
TZID:Europe/Paris
BEGIN:DAYLIGHT
TZOFFSETFROM:+0100
TZOFFSETTO:+0200
TZNAME:CEST
DTSTART:20260329T010000
END:DAYLIGHT
BEGIN:STANDARD
TZOFFSETFROM:+0200
TZOFFSETTO:+0100
TZNAME:CET
DTSTART:20261025T010000
END:STANDARD
END:VTIMEZONE
BEGIN:VEVENT
DTSTART;TZID=Europe/Paris:20260226T143000
DTEND;TZID=Europe/Paris:20260226T163000
DTSTAMP:20260419T181457
CREATED:20260128T180007Z
LAST-MODIFIED:20260128T162053Z
UID:62572-1772116200-1772123400@quievrechain.fr
SUMMARY:[26 février] Atelier modelage
DESCRIPTION:Le CCAS de Quiévrechain\, en partenariat avec les associations AAASF et Quiévrechain d’hier et d’aujourd’hui\, vous invite à un atelier modelage placé sous le signe de la créativité et du partage pour les 65 ans et +. \n📅 Jeudi 26 février À 14h30\n📍 Salle des fêtes \n👉 Atelier gratuit\, places limitées et sur inscription\n📞 Inscriptions du 29 janvier au 19 février auprès du CCAS \n🎒 À prévoir par chaque participant :\n• 1 chiffon\n• 1 tablier de jardinage\n• 1 boîte à chaussures
URL:https://quievrechain.fr/event/26-fevrier-atelier-modelage/
LOCATION:Salle des fêtes\, Place Roger Salengro\, Quiévrechain\, France
CATEGORIES:Culture
ATTACH;FMTTYPE=image/jpeg:https://quievrechain.fr/wp-content/uploads/2026/01/atelier-poterie.jpg
END:VEVENT
END:VCALENDAR