BEGIN:VCALENDAR
VERSION:2.0
PRODID:-//Ville de Quiévrechain - ECPv5.14.1//NONSGML v1.0//EN
CALSCALE:GREGORIAN
METHOD:PUBLISH
X-WR-CALNAME:Ville de Quiévrechain
X-ORIGINAL-URL:https://quievrechain.fr
X-WR-CALDESC:Events for Ville de Quiévrechain
REFRESH-INTERVAL;VALUE=DURATION:PT1H
X-Robots-Tag:noindex
X-PUBLISHED-TTL:PT1H
BEGIN:VTIMEZONE
TZID:Europe/Paris
BEGIN:DAYLIGHT
TZOFFSETFROM:+0100
TZOFFSETTO:+0200
TZNAME:CEST
DTSTART:20260329T010000
END:DAYLIGHT
BEGIN:STANDARD
TZOFFSETFROM:+0200
TZOFFSETTO:+0100
TZNAME:CET
DTSTART:20261025T010000
END:STANDARD
END:VTIMEZONE
BEGIN:VEVENT
DTSTART;VALUE=DATE:20260207
DTEND;VALUE=DATE:20260216
DTSTAMP:20260419T181331
CREATED:20260121T093223Z
LAST-MODIFIED:20260121T093223Z
UID:62554-1770422400-1771199999@quievrechain.fr
SUMMARY:[7 au 15 février] Exposition par l'AAASF
DESCRIPTION:L’Association des Activités Artistiques Sans Frontière vous propose une exposition autour de l’univers de la bande dessinée\, en compagnie de Brice Follet\, auteur BD et illustrateur. \nUne invitation à découvrir Sven et Tanka\, personnages emblématiques\, et à explorer un univers riche en dessins et en imagination. \n📌 Salle des fêtes de Quiévrechain\, place Roger Salengro \n⏰ Rendez-vous du 7 au 15 février\n➡️ En semaine (sauf mercredi) : 10h–12h et 14h–18h\n➡️ Week-end : 14h–18h
URL:https://quievrechain.fr/event/7-au-15-fevrier-exposition-par-laaasf/
LOCATION:Salle des fêtes\, Place Roger Salengro\, Quiévrechain\, France
CATEGORIES:Culture
ATTACH;FMTTYPE=image/jpeg:https://quievrechain.fr/wp-content/uploads/2026/01/Affiche-AAASF-expo-printemps-2025-2026-scaled.jpg
END:VEVENT
END:VCALENDAR