BEGIN:VCALENDAR
VERSION:2.0
PRODID:-//Ville de Quiévrechain - ECPv5.14.1//NONSGML v1.0//EN
CALSCALE:GREGORIAN
METHOD:PUBLISH
X-WR-CALNAME:Ville de Quiévrechain
X-ORIGINAL-URL:https://quievrechain.fr
X-WR-CALDESC:Events for Ville de Quiévrechain
REFRESH-INTERVAL;VALUE=DURATION:PT1H
X-Robots-Tag:noindex
X-PUBLISHED-TTL:PT1H
BEGIN:VTIMEZONE
TZID:Europe/Paris
BEGIN:DAYLIGHT
TZOFFSETFROM:+0100
TZOFFSETTO:+0200
TZNAME:CEST
DTSTART:20260329T010000
END:DAYLIGHT
BEGIN:STANDARD
TZOFFSETFROM:+0200
TZOFFSETTO:+0100
TZNAME:CET
DTSTART:20261025T010000
END:STANDARD
END:VTIMEZONE
BEGIN:VEVENT
DTSTART;TZID=Europe/Paris:20260107T140000
DTEND;TZID=Europe/Paris:20260107T150000
DTSTAMP:20260419T195050
CREATED:20260105T161243Z
LAST-MODIFIED:20260105T161259Z
UID:62439-1767794400-1767798000@quievrechain.fr
SUMMARY:[7 janvier] Atelier L’heure du conte : Flocon de neige
DESCRIPTION:📚 Heure du conte ❄️ \nLa bibliothèque municipale propose une heure du conte à destination des enfants de 5 à 8 ans\, sur le thème « Flocon de neige ».\nUn moment calme et convivial autour d’histoires d’hiver. \nRendez-vous mercredi 7 janvier\, de 14h à 15h\, à la bibliothèque municipale. \n⚠️ Places limitées et réservation obligatoire au 03 27 24 26 74
URL:https://quievrechain.fr/event/4-juin-atelier-lheure-du-conte-flocon-de-neige/
LOCATION:Bibliotheque
CATEGORIES:Culture
ATTACH;FMTTYPE=image/png:https://quievrechain.fr/wp-content/uploads/2026/01/1.png
END:VEVENT
END:VCALENDAR