BEGIN:VCALENDAR
VERSION:2.0
PRODID:-//Ville de Quiévrechain - ECPv5.14.1//NONSGML v1.0//EN
CALSCALE:GREGORIAN
METHOD:PUBLISH
X-WR-CALNAME:Ville de Quiévrechain
X-ORIGINAL-URL:https://quievrechain.fr
X-WR-CALDESC:Events for Ville de Quiévrechain
REFRESH-INTERVAL;VALUE=DURATION:PT1H
X-Robots-Tag:noindex
X-PUBLISHED-TTL:PT1H
BEGIN:VTIMEZONE
TZID:Europe/Paris
BEGIN:DAYLIGHT
TZOFFSETFROM:+0100
TZOFFSETTO:+0200
TZNAME:CEST
DTSTART:20250330T010000
END:DAYLIGHT
BEGIN:STANDARD
TZOFFSETFROM:+0200
TZOFFSETTO:+0100
TZNAME:CET
DTSTART:20251026T010000
END:STANDARD
END:VTIMEZONE
BEGIN:VEVENT
DTSTART;TZID=Europe/Paris:20251122T160000
DTEND;TZID=Europe/Paris:20251122T180000
DTSTAMP:20260419T231055
CREATED:20251106T084754Z
LAST-MODIFIED:20251106T084819Z
UID:62240-1763827200-1763834400@quievrechain.fr
SUMMARY:[22 novembre] Concert de la Sainte-Cécile
DESCRIPTION:🎵✨ Concert de la Sainte-Cécile 🎶L’Aunelle Orchestra vous invite à un voyage musical entre souvenirs et nouveautés\, dans une rétrospective du ciné-concert ponctuée de belles surprises. 🎬🎺 \n📅 Samedi 22 novembre dès 16h📍 Salle des fêtes de Quiévrechain🎟️ Entrée gratuite – Buvette & petite restauration sur place \nUn moment harmonieux à partager\, sous le signe de la passion et de la musique ! 🎹💫
URL:https://quievrechain.fr/event/22-novembre-concert-de-la-sainte-cecile/
LOCATION:Salle des fêtes\, Place Roger Salengro\, Quiévrechain\, France
CATEGORIES:Culture
ATTACH;FMTTYPE=image/jpeg:https://quievrechain.fr/wp-content/uploads/2025/11/2025-10-16-Concert-Aunelle-Orchestra-v3.1-02-scaled.jpg
END:VEVENT
END:VCALENDAR