BEGIN:VCALENDAR
VERSION:2.0
PRODID:-//Ville de Quiévrechain - ECPv5.14.1//NONSGML v1.0//EN
CALSCALE:GREGORIAN
METHOD:PUBLISH
X-WR-CALNAME:Ville de Quiévrechain
X-ORIGINAL-URL:https://quievrechain.fr
X-WR-CALDESC:Events for Ville de Quiévrechain
REFRESH-INTERVAL;VALUE=DURATION:PT1H
X-Robots-Tag:noindex
X-PUBLISHED-TTL:PT1H
BEGIN:VTIMEZONE
TZID:Europe/Paris
BEGIN:DAYLIGHT
TZOFFSETFROM:+0100
TZOFFSETTO:+0200
TZNAME:CEST
DTSTART:20250330T010000
END:DAYLIGHT
BEGIN:STANDARD
TZOFFSETFROM:+0200
TZOFFSETTO:+0100
TZNAME:CET
DTSTART:20251026T010000
END:STANDARD
END:VTIMEZONE
BEGIN:VEVENT
DTSTART;TZID=Europe/Paris:20250627T180000
DTEND;TZID=Europe/Paris:20250628T200000
DTSTAMP:20260420T071943
CREATED:20250617T093903Z
LAST-MODIFIED:20250617T150139Z
UID:61643-1751047200-1751140800@quievrechain.fr
SUMMARY:[27 Juin] Soirée Blind Test à la bibliothèque !
DESCRIPTION:🎶 Soirée Blind Test à la bibliothèque ! 🎶 \nLa Ville de Quiévrechain vous invite à tester vos connaissances musicales lors d’une soirée blind test pleine de bonne humeur et de surprises ! \n📅 Vendredi 27 juin🕕 De 18h à 20h📍 À la bibliothèque \nVenez en solo\, en duo ou en équipe\, pour un moment convivial autour de la musique 🎧C’est gratuit\, mais sur inscription ! \n📞 Réservez vite votre place au 03 27 24 26 74 \nPrêts à deviner les hits les plus connus (et les plus oubliés) ? 🎤🎼
URL:https://quievrechain.fr/event/27-juin-soiree-blind-test-a-la-bibliotheque/
LOCATION:Bibliotheque
CATEGORIES:Culture
ATTACH;FMTTYPE=image/jpeg:https://quievrechain.fr/wp-content/uploads/2025/06/Blind-test-2.jpg
END:VEVENT
END:VCALENDAR