BEGIN:VCALENDAR
VERSION:2.0
PRODID:-//Ville de Quiévrechain - ECPv5.14.1//NONSGML v1.0//EN
CALSCALE:GREGORIAN
METHOD:PUBLISH
X-WR-CALNAME:Ville de Quiévrechain
X-ORIGINAL-URL:https://quievrechain.fr
X-WR-CALDESC:Events for Ville de Quiévrechain
REFRESH-INTERVAL;VALUE=DURATION:PT1H
X-Robots-Tag:noindex
X-PUBLISHED-TTL:PT1H
BEGIN:VTIMEZONE
TZID:Europe/Paris
BEGIN:DAYLIGHT
TZOFFSETFROM:+0100
TZOFFSETTO:+0200
TZNAME:CEST
DTSTART:20250330T010000
END:DAYLIGHT
BEGIN:STANDARD
TZOFFSETFROM:+0200
TZOFFSETTO:+0100
TZNAME:CET
DTSTART:20251026T010000
END:STANDARD
END:VTIMEZONE
BEGIN:VEVENT
DTSTART;TZID=Europe/Paris:20250621T200000
DTEND;TZID=Europe/Paris:20250621T233000
DTSTAMP:20260420T070115
CREATED:20250528T094158Z
LAST-MODIFIED:20250528T121357Z
UID:61541-1750536000-1750548600@quievrechain.fr
SUMMARY:[21 juin] Fête de la musique
DESCRIPTION:🎶 Fête de la Musique à Quiévrechain ! 🎶 \nRendez-vous le samedi 21 juin dans la cour de la salle des fêtes pour une soirée festive\, gratuite et ouverte à tous !\nAu programme : \n🕗 20h : Première partie avec les talents de l’école municipale de musique\n🕘 21h : Concert hommage avec Gimme ABBA – replongez dans les plus grands tubes du mythique groupe suédois !\n🕥 22h15 : Soirée dansante animée par notre DJ jusqu’au bout de la nuit ! \n🍻 Buvette et petite restauration sur place pour profiter pleinement de la soirée. \nVenez nombreux célébrer la musique et l’arrivée de l’été à Quiévrechain ! 🎤💃🕺
URL:https://quievrechain.fr/event/21-juin-fete-de-la-musique-2025/
LOCATION:Salle des fêtes\, Place Roger Salengro\, Quiévrechain\, France
CATEGORIES:Culture
ATTACH;FMTTYPE=image/png:https://quievrechain.fr/wp-content/uploads/2025/05/fete-de-la-musique-quievrechain-2025-.png
END:VEVENT
END:VCALENDAR