BEGIN:VCALENDAR
VERSION:2.0
PRODID:-//Ville de Quiévrechain - ECPv5.14.1//NONSGML v1.0//EN
CALSCALE:GREGORIAN
METHOD:PUBLISH
X-WR-CALNAME:Ville de Quiévrechain
X-ORIGINAL-URL:https://quievrechain.fr
X-WR-CALDESC:Events for Ville de Quiévrechain
REFRESH-INTERVAL;VALUE=DURATION:PT1H
X-Robots-Tag:noindex
X-PUBLISHED-TTL:PT1H
BEGIN:VTIMEZONE
TZID:Europe/Paris
BEGIN:DAYLIGHT
TZOFFSETFROM:+0100
TZOFFSETTO:+0200
TZNAME:CEST
DTSTART:20250330T010000
END:DAYLIGHT
BEGIN:STANDARD
TZOFFSETFROM:+0200
TZOFFSETTO:+0100
TZNAME:CET
DTSTART:20251026T010000
END:STANDARD
END:VTIMEZONE
BEGIN:VEVENT
DTSTART;TZID=Europe/Paris:20250604T140000
DTEND;TZID=Europe/Paris:20250604T150000
DTSTAMP:20260420T071757
CREATED:20250523T131205Z
LAST-MODIFIED:20250523T131218Z
UID:61520-1749045600-1749049200@quievrechain.fr
SUMMARY:[4 juin] Atelier L’heure du conte : Toupies d’été
DESCRIPTION:🎉 Atelier L’heure du conte : Toupies d’été 🌈\n\n\nUn moment sympathique pour les enfants de 5 à 8 ans organisé par la bibliothèque municipale de Quiévrechain !\n\n\n📅 Mercredi 4 juin 2025\n\n\n🕒 De 14h à 15h\n\n\n \n\n\nAu programme : histoires\, rires et une activité autour des toupies 🎠\n\n\n👉 Places limitées\, sur réservation au 03 27 24 26 74
URL:https://quievrechain.fr/event/4-juin-atelier-lheure-du-conte-toupies-dete/
LOCATION:Bibliotheque
CATEGORIES:Culture
ATTACH;FMTTYPE=image/png:https://quievrechain.fr/wp-content/uploads/2025/05/Heure-du-conte-juin-2025-scaled.png
END:VEVENT
END:VCALENDAR