BEGIN:VCALENDAR
VERSION:2.0
PRODID:-//Ville de Quiévrechain - ECPv5.14.1//NONSGML v1.0//EN
CALSCALE:GREGORIAN
METHOD:PUBLISH
X-WR-CALNAME:Ville de Quiévrechain
X-ORIGINAL-URL:https://quievrechain.fr
X-WR-CALDESC:Events for Ville de Quiévrechain
REFRESH-INTERVAL;VALUE=DURATION:PT1H
X-Robots-Tag:noindex
X-PUBLISHED-TTL:PT1H
BEGIN:VTIMEZONE
TZID:Europe/Paris
BEGIN:DAYLIGHT
TZOFFSETFROM:+0100
TZOFFSETTO:+0200
TZNAME:CEST
DTSTART:20250330T010000
END:DAYLIGHT
BEGIN:STANDARD
TZOFFSETFROM:+0200
TZOFFSETTO:+0100
TZNAME:CET
DTSTART:20251026T010000
END:STANDARD
END:VTIMEZONE
BEGIN:VEVENT
DTSTART;TZID=Europe/Paris:20250516T200000
DTEND;TZID=Europe/Paris:20250516T210000
DTSTAMP:20260421T070449
CREATED:20250429T084333Z
LAST-MODIFIED:20250429T084408Z
UID:61350-1747425600-1747429200@quievrechain.fr
SUMMARY:[16 mai] Espace Pasolini
DESCRIPTION:🌏 Voyagez sans quitter Quiévrechain ! 🎶\nL’Espace Pasolini vous invite au Carrefour international « Les Instants Nomades »\,\n📅 Vendredi 16 mai à 20h\n📍 À la salle des fêtes de Quiévrechain \nUn moment unique et gratuit (🎟️ réservation obligatoire en mairie au 03 27 45 42 24) pour découvrir l’Inde et le Japon à travers la musique traditionnelle. \n🎵 Avec la participation exceptionnelle de :\n🇯🇵 Chida Etsuko – chant et koto\n🇯🇵 Sada Kanaki – shakuhachi\n🇮🇳 Henri Tournier – flûte bansuri \n🌸 Une soirée conviviale\, dépaysante et pleine d’émotions… à ne pas manquer !
URL:https://quievrechain.fr/event/espace-pasolini-2025/
LOCATION:Salle des fêtes\, Place Roger Salengro\, Quiévrechain\, France
CATEGORIES:Culture
ATTACH;FMTTYPE=image/jpeg:https://quievrechain.fr/wp-content/uploads/2025/04/thumbnail_Flyer-A6-Quievrechain-IN-25.jpg
END:VEVENT
END:VCALENDAR