BEGIN:VCALENDAR
VERSION:2.0
PRODID:-//Ville de Quiévrechain - ECPv5.14.1//NONSGML v1.0//EN
CALSCALE:GREGORIAN
METHOD:PUBLISH
X-WR-CALNAME:Ville de Quiévrechain
X-ORIGINAL-URL:https://quievrechain.fr
X-WR-CALDESC:Events for Ville de Quiévrechain
REFRESH-INTERVAL;VALUE=DURATION:PT1H
X-Robots-Tag:noindex
X-PUBLISHED-TTL:PT1H
BEGIN:VTIMEZONE
TZID:Europe/Paris
BEGIN:DAYLIGHT
TZOFFSETFROM:+0100
TZOFFSETTO:+0200
TZNAME:CEST
DTSTART:20240331T010000
END:DAYLIGHT
BEGIN:STANDARD
TZOFFSETFROM:+0200
TZOFFSETTO:+0100
TZNAME:CET
DTSTART:20241027T010000
END:STANDARD
END:VTIMEZONE
BEGIN:VEVENT
DTSTART;TZID=Europe/Paris:20240928T140000
DTEND;TZID=Europe/Paris:20240929T180000
DTSTAMP:20260424T133058
CREATED:20240905T131851Z
LAST-MODIFIED:20240924T095808Z
UID:60101-1727532000-1727632800@quievrechain.fr
SUMMARY:[28 septembre] Biblis en Folie
DESCRIPTION:La 1ère édition de « Biblis en folie » débarque à Quiévrechain ! 📚\n\n\n \n\n\nDe 14h à 18h\, venez (re)découvrir votre bibliothèque municipale mais aussi une exposition de la médiathèque Départementale du nord sur la thématique « Face aux écrans ». \n\n\n \n\n\nA 15h\, 16h et 17h venez profiter d’un atelier « l’heure du conte »\, une lecture de livre suivi d’un coloriage/bricolage d’une durée de 20 minutes. Ateliers gratuits.\n\n\n \n\n\n👉 Rendez-vous au 31 rue de l’hôtellerie
URL:https://quievrechain.fr/event/28-septembre-biblis-en-folie/
LOCATION:Bibliotheque
CATEGORIES:Culture
ATTACH;FMTTYPE=image/jpeg:https://quievrechain.fr/wp-content/uploads/2024/09/biblis-en-folie-copie-1-scaled.jpg
END:VEVENT
END:VCALENDAR