BEGIN:VCALENDAR
VERSION:2.0
PRODID:-//Ville de Quiévrechain - ECPv5.14.1//NONSGML v1.0//EN
CALSCALE:GREGORIAN
METHOD:PUBLISH
X-WR-CALNAME:Ville de Quiévrechain
X-ORIGINAL-URL:https://quievrechain.fr
X-WR-CALDESC:Events for Ville de Quiévrechain
REFRESH-INTERVAL;VALUE=DURATION:PT1H
X-Robots-Tag:noindex
X-PUBLISHED-TTL:PT1H
BEGIN:VTIMEZONE
TZID:Europe/Paris
BEGIN:DAYLIGHT
TZOFFSETFROM:+0100
TZOFFSETTO:+0200
TZNAME:CEST
DTSTART:20240331T010000
END:DAYLIGHT
BEGIN:STANDARD
TZOFFSETFROM:+0200
TZOFFSETTO:+0100
TZNAME:CET
DTSTART:20241027T010000
END:STANDARD
END:VTIMEZONE
BEGIN:VEVENT
DTSTART;TZID=Europe/Paris:20240621T200000
DTEND;TZID=Europe/Paris:20240621T233000
DTSTAMP:20260424T175140
CREATED:20240620T084526Z
LAST-MODIFIED:20240620T092759Z
UID:59828-1719000000-1719012600@quievrechain.fr
SUMMARY:[21 Juin] Fête de la musique
DESCRIPTION:En raison des conditions climatiques\, la fête de la musique initialement prévue au parc de l’Aunelle\, se passera a la salle des fêtes. Rendez-vous donc ce vendredi 21 juin à partir de 20h. \n👉 Venez swinger dans le style Pop-Rock des années 60 à nous jours avec le groupe Traffic on Fire\n👉 Le concert sera suivi par une soirée dansante\n👉 Petite restauration et buvette assurée par l’association « Danses Aunelle »\n👉 Entrée gratuite
URL:https://quievrechain.fr/event/21-juin-fete-de-la-musique/
LOCATION:Salle des fêtes\, Place Roger Salengro\, Quiévrechain\, France
CATEGORIES:Culture
ATTACH;FMTTYPE=image/png:https://quievrechain.fr/wp-content/uploads/2024/06/Fete-de-la-musique-20241.png
END:VEVENT
END:VCALENDAR