BEGIN:VCALENDAR
VERSION:2.0
PRODID:-//Ville de Quiévrechain - ECPv5.14.1//NONSGML v1.0//EN
CALSCALE:GREGORIAN
METHOD:PUBLISH
X-WR-CALNAME:Ville de Quiévrechain
X-ORIGINAL-URL:https://quievrechain.fr
X-WR-CALDESC:Events for Ville de Quiévrechain
REFRESH-INTERVAL;VALUE=DURATION:PT1H
X-Robots-Tag:noindex
X-PUBLISHED-TTL:PT1H
BEGIN:VTIMEZONE
TZID:Europe/Paris
BEGIN:DAYLIGHT
TZOFFSETFROM:+0100
TZOFFSETTO:+0200
TZNAME:CEST
DTSTART:20240331T010000
END:DAYLIGHT
BEGIN:STANDARD
TZOFFSETFROM:+0200
TZOFFSETTO:+0100
TZNAME:CET
DTSTART:20241027T010000
END:STANDARD
END:VTIMEZONE
BEGIN:VEVENT
DTSTART;TZID=Europe/Paris:20240601T180000
DTEND;TZID=Europe/Paris:20240601T203000
DTSTAMP:20260424T175205
CREATED:20240529T140015Z
LAST-MODIFIED:20240529T140015Z
UID:59701-1717264800-1717273800@quievrechain.fr
SUMMARY:[1er juin] Comédie Musicale
DESCRIPTION:Découvrez la comédie musicale « Souvenirs\, souvenirs »\, interprétée par l’école municipale de musique de Quiévrechain.\nRendez-vous le samedi 1er juin\, à 18h\, à la salle des fêtes.\nEntrée : 3 € – Gratuite pour les – de 12 ans.
URL:https://quievrechain.fr/event/1er-juin-comedie-musicale/
LOCATION:Salle des fêtes\, Place Roger Salengro\, Quiévrechain\, France
CATEGORIES:Culture
ATTACH;FMTTYPE=image/jpeg:https://quievrechain.fr/wp-content/uploads/2024/05/comedie-musicale.jpg
END:VEVENT
END:VCALENDAR