BEGIN:VCALENDAR
VERSION:2.0
PRODID:-//Ville de Quiévrechain - ECPv5.14.1//NONSGML v1.0//EN
CALSCALE:GREGORIAN
METHOD:PUBLISH
X-WR-CALNAME:Ville de Quiévrechain
X-ORIGINAL-URL:https://quievrechain.fr
X-WR-CALDESC:Events for Ville de Quiévrechain
REFRESH-INTERVAL;VALUE=DURATION:PT1H
X-Robots-Tag:noindex
X-PUBLISHED-TTL:PT1H
BEGIN:VTIMEZONE
TZID:Europe/Paris
BEGIN:DAYLIGHT
TZOFFSETFROM:+0100
TZOFFSETTO:+0200
TZNAME:CEST
DTSTART:20230326T010000
END:DAYLIGHT
BEGIN:STANDARD
TZOFFSETFROM:+0200
TZOFFSETTO:+0100
TZNAME:CET
DTSTART:20231029T010000
END:STANDARD
END:VTIMEZONE
BEGIN:VEVENT
DTSTART;VALUE=DATE:20231125
DTEND;VALUE=DATE:20231126
DTSTAMP:20260425T034311
CREATED:20231110T093617Z
LAST-MODIFIED:20231110T093656Z
UID:58728-1700870400-1700956799@quievrechain.fr
SUMMARY:[25 novembre] Concert de Sainte Cécile
DESCRIPTION:Concert de Sainte Cécile – Gratuit – \nRendez-vous le samedi 25 novembre à 16 h à la salle des fêtes de Quiévrechain. \nLes musiciens de l’Aunelle Orchestra vous y attendent pour fêter ensemble la Sainte Cécile ! \nRenseignements : Hervé Bricout au 06 51 48 80 45
URL:https://quievrechain.fr/event/16-decembre-marche-de-noel-de-cologne-2/
LOCATION:Salle des fêtes\, Place Roger Salengro\, Quiévrechain\, France
CATEGORIES:Culture,Spectacle
ATTACH;FMTTYPE=image/jpeg:https://quievrechain.fr/wp-content/uploads/2023/11/sainte-cecile-2-scaled.jpg
END:VEVENT
END:VCALENDAR