BEGIN:VCALENDAR
VERSION:2.0
PRODID:-//Ville de Quiévrechain - ECPv5.14.1//NONSGML v1.0//EN
CALSCALE:GREGORIAN
METHOD:PUBLISH
X-WR-CALNAME:Ville de Quiévrechain
X-ORIGINAL-URL:https://quievrechain.fr
X-WR-CALDESC:Events for Ville de Quiévrechain
REFRESH-INTERVAL;VALUE=DURATION:PT1H
X-Robots-Tag:noindex
X-PUBLISHED-TTL:PT1H
BEGIN:VTIMEZONE
TZID:Europe/Paris
BEGIN:DAYLIGHT
TZOFFSETFROM:+0100
TZOFFSETTO:+0200
TZNAME:CEST
DTSTART:20260329T010000
END:DAYLIGHT
BEGIN:STANDARD
TZOFFSETFROM:+0200
TZOFFSETTO:+0100
TZNAME:CET
DTSTART:20261025T010000
END:STANDARD
END:VTIMEZONE
BEGIN:VEVENT
DTSTART;TZID=Europe/Paris:20260506T140000
DTEND;TZID=Europe/Paris:20260506T150000
DTSTAMP:20260419T151516
CREATED:20260417T132553Z
LAST-MODIFIED:20260417T132600Z
UID:63029-1778076000-1778079600@quievrechain.fr
SUMMARY:[6 mai] Atelier L’heure du conte : Les médiévales
DESCRIPTION:📖 Rendez-vous le mercredi 6 mai à 14h à la bibliothèque municipale pour une heure du conte sur le thème des médiévales 🏰✨ \nDestinée aux enfants de 5 à 8 ans\, cette animation promet un joli voyage au cœur des histoires et de l’imaginaire. \n⚠️ Places limitées\, réservation au 03 27 24 26 74 \nUn bel après-midi à partager autour des contes et des légendes ! 😊
URL:https://quievrechain.fr/event/4-avril-atelier-lheure-du-conte-les-medievales/
LOCATION:Bibliotheque
CATEGORIES:Culture
ATTACH;FMTTYPE=image/jpeg:https://quievrechain.fr/wp-content/uploads/2026/04/Medievales-heure-du-conte-mai-2026.jpg
END:VEVENT
BEGIN:VEVENT
DTSTART;TZID=Europe/Paris:20260527T153000
DTEND;TZID=Europe/Paris:20260527T163000
DTSTAMP:20260419T151516
CREATED:20260417T134521Z
LAST-MODIFIED:20260417T134521Z
UID:63038-1779895800-1779899400@quievrechain.fr
SUMMARY:[27 mai] Theatre On Demand
DESCRIPTION:🎭 Une expérience théâtrale pas comme les autres\, mercredi 27 mai à 15h30 à la salle des fêtes\, pour Théâtre On Demand !\n \nEn collaboration avec la SIGH et Le Phénix\, cette proposition originale vous plonge dans un spectacle interactif unique : une thématique\, des comédiens… et c’est le public qui décide !\n \n🎬 Une expérience aussi surprenante que réjouissante\, à vivre ensemble.\n \n🎟️ Gratuit – sur inscription au 03 27 45 42 24
URL:https://quievrechain.fr/event/27-mai-theatre-on-demand/
LOCATION:Salle des fêtes\, Place Roger Salengro\, Quiévrechain\, France
CATEGORIES:Culture
ATTACH;FMTTYPE=image/jpeg:https://quievrechain.fr/wp-content/uploads/2026/04/Affiches-A4-A3-Theatre-on-Demand-a-Quievrechain-2026.jpg
END:VEVENT
END:VCALENDAR