BEGIN:VCALENDAR
VERSION:2.0
PRODID:-//Ville de Quiévrechain - ECPv5.14.1//NONSGML v1.0//EN
CALSCALE:GREGORIAN
METHOD:PUBLISH
X-WR-CALNAME:Ville de Quiévrechain
X-ORIGINAL-URL:https://quievrechain.fr
X-WR-CALDESC:Events for Ville de Quiévrechain
REFRESH-INTERVAL;VALUE=DURATION:PT1H
X-Robots-Tag:noindex
X-PUBLISHED-TTL:PT1H
BEGIN:VTIMEZONE
TZID:Europe/Paris
BEGIN:DAYLIGHT
TZOFFSETFROM:+0100
TZOFFSETTO:+0200
TZNAME:CEST
DTSTART:20250330T010000
END:DAYLIGHT
BEGIN:STANDARD
TZOFFSETFROM:+0200
TZOFFSETTO:+0100
TZNAME:CET
DTSTART:20251026T010000
END:STANDARD
END:VTIMEZONE
BEGIN:VEVENT
DTSTART;TZID=Europe/Paris:20251001T140000
DTEND;TZID=Europe/Paris:20251001T150000
DTSTAMP:20260419T230516
CREATED:20250916T122120Z
LAST-MODIFIED:20250916T122120Z
UID:62047-1759327200-1759330800@quievrechain.fr
SUMMARY:[1er octobre] L'heure du conte - Monstrueusement drôle
DESCRIPTION:📚 Atelier : L’heure du conte : cette fois-ci\, le thème est… « Monstrueusement drôle » 👹😂\n\n\n \n\n\n📅 Mercredi 1er octobre De 14h à 15h\n\n\n👧 Pour les enfants de 5 à 8 ans\n\n\n📍 À la bibliothèque municipale de Quiévrechain\n\n\n \n\n\n⚠️ Places limitées – sur réservation. Réservez vite au 03 27 24 26 74\n\n\n \n\n\nVenez frissonner… de rire ! 🎃📖
URL:https://quievrechain.fr/event/1er-octobre-lheure-du-conte-monstrueusement-drole/
LOCATION:Bibliotheque
CATEGORIES:Culture
ATTACH;FMTTYPE=image/jpeg:https://quievrechain.fr/wp-content/uploads/2025/09/affiche-monstrueusement-drole.jpg
END:VEVENT
BEGIN:VEVENT
DTSTART;TZID=Europe/Paris:20251003T180000
DTEND;TZID=Europe/Paris:20251003T200000
DTSTAMP:20260419T230516
CREATED:20250903T122656Z
LAST-MODIFIED:20251003T123010Z
UID:61958-1759514400-1759521600@quievrechain.fr
SUMMARY:[3 octobre] Soirée Blind Test
DESCRIPTION:🎶 Dans le cadre de Biblis en folie\, venez vous amuser lors de la soirée Blind Test du vendredi 3 octobre\, de 18h à 20h à la bibliothèque de Quiévrechain !\n\n\n \n\n\nAu programme : un Blind Test musical pour tester vos oreilles et votre mémoire musicale 🔊🎤. Entre amis ou en solo\, venez relever le défi !\n\n\n \n\n\n⚠️ Événement gratuit mais sur réservation (places limitées).\n\n\n👉 Ouvert à partir de 16 ans.\n\n\n \n\n\n📞 Inscriptions au 03 27 24 26 74.\n\n\n \n\n\nAlors\, prêts à deviner les hits en quelques notes ? 🎧✨
URL:https://quievrechain.fr/event/3-octobre-soiree-blind-test/
LOCATION:Bibliotheque
CATEGORIES:Culture
ATTACH;FMTTYPE=image/png:https://quievrechain.fr/wp-content/uploads/2025/09/Blind-test-octobre2-1.png
END:VEVENT
BEGIN:VEVENT
DTSTART;TZID=Europe/Paris:20251010T180000
DTEND;TZID=Europe/Paris:20251010T200000
DTSTAMP:20260419T230516
CREATED:20251003T123016Z
LAST-MODIFIED:20251003T123016Z
UID:62108-1760119200-1760126400@quievrechain.fr
SUMMARY:[10 octobre] Le petit (grand) bac
DESCRIPTION:📚✨ Le petit (grand) bac arrive à la bibliothèque de Quiévrechain !\n\n\nRendez-vous vendredi 10 octobre de 18h à 20h pour une soirée conviviale autour de ce jeu culte où rapidité\, mémoire et bonne humeur seront vos meilleurs atouts.\n\n\n \n\n\n👉 Activité réservée aux plus de 16 ans\n\n\n📌 Sur réservation auprès de \n\n\n \n\n\nPrêt(e) à relever le défi ? 😏✍️
URL:https://quievrechain.fr/event/10-octobre-le-petit-grand-bac/
LOCATION:Bibliotheque
CATEGORIES:Culture
ATTACH;FMTTYPE=image/jpeg:https://quievrechain.fr/wp-content/uploads/2025/10/petit-grand-bac.jpg
END:VEVENT
BEGIN:VEVENT
DTSTART;TZID=Europe/Paris:20251017T170000
DTEND;TZID=Europe/Paris:20251017T180000
DTSTAMP:20260419T230516
CREATED:20251003T124159Z
LAST-MODIFIED:20251003T124159Z
UID:62113-1760720400-1760724000@quievrechain.fr
SUMMARY:[17 octobre] Si Halloween m’était conté
DESCRIPTION:🎃📚 Si Halloween m’était conté…La bibliothèque de Quiévrechain invite les enfants de 5 à 8 ans à un moment magique avec l’atelier “L’heure du conte”. \n👉 Rendez-vous vendredi 17 octobre de 17h à 18h👻 Sur réservation – places limitées ! \nUne belle occasion de frissonner… mais tout en douceur 😉
URL:https://quievrechain.fr/event/17-octobre-si-halloween-metait-conte/
LOCATION:Bibliotheque
CATEGORIES:Culture
ATTACH;FMTTYPE=image/png:https://quievrechain.fr/wp-content/uploads/2025/10/Heure-du-conte-halloween-2025.png
END:VEVENT
BEGIN:VEVENT
DTSTART;TZID=Europe/Paris:20251022T140000
DTEND;TZID=Europe/Paris:20251026T160000
DTSTAMP:20260419T230516
CREATED:20250903T121155Z
LAST-MODIFIED:20251008T080715Z
UID:61950-1761141600-1761494400@quievrechain.fr
SUMMARY:[22 octobre] Festival Live entre les livres
DESCRIPTION:✨ Festival Live entre les livres ✨\n\n\n \n\n\nRendez-vous le mercredi 22 octobre à 14h pour une expérience unique : une sieste électro-gnaoua proposée par l’artiste Omar Ek\, produit par l’association DYNAMO à la bibliothèque de Quiévrechain.\n\n\n \n\n\n👉 Originaire de Casablanca\, Omar EK mêle électro et influences arabo-africaines pour réinventer le patrimoine musical du continent.\n\n\n \n\n\n⚠️ Les places étant limitées\, l’événement se fera uniquement sur inscription au 03 27 24 26 74 ou en bibliothèque.\n\n\n \n\n\nNe manquez pas cette parenthèse musicale hors du temps 🌍🎶
URL:https://quievrechain.fr/event/22-octobre-festival-live-entre-les-livres/
LOCATION:Bibliotheque
CATEGORIES:Culture
ATTACH;FMTTYPE=image/jpeg:https://quievrechain.fr/wp-content/uploads/2025/10/live-entre-les-livres-copie-scaled.jpg
END:VEVENT
END:VCALENDAR