BEGIN:VCALENDAR
VERSION:2.0
PRODID:-//Ville de Quiévrechain - ECPv5.14.1//NONSGML v1.0//EN
CALSCALE:GREGORIAN
METHOD:PUBLISH
X-WR-CALNAME:Ville de Quiévrechain
X-ORIGINAL-URL:https://quievrechain.fr
X-WR-CALDESC:Events for Ville de Quiévrechain
REFRESH-INTERVAL;VALUE=DURATION:PT1H
X-Robots-Tag:noindex
X-PUBLISHED-TTL:PT1H
BEGIN:VTIMEZONE
TZID:Europe/Paris
BEGIN:DAYLIGHT
TZOFFSETFROM:+0100
TZOFFSETTO:+0200
TZNAME:CEST
DTSTART:20250330T010000
END:DAYLIGHT
BEGIN:STANDARD
TZOFFSETFROM:+0200
TZOFFSETTO:+0100
TZNAME:CET
DTSTART:20251026T010000
END:STANDARD
END:VTIMEZONE
BEGIN:VEVENT
DTSTART;TZID=Europe/Paris:20250208T140000
DTEND;TZID=Europe/Paris:20250208T180000
DTSTAMP:20260422T124623
CREATED:20250114T123907Z
LAST-MODIFIED:20250123T081854Z
UID:60847-1739023200-1739037600@quievrechain.fr
SUMMARY:[8 février] Manga Mania
DESCRIPTION:📣 Manga Mania : 1ère Édition à la bibliothèque ! 📚🎉\n\n\n \n\n\n🌸 Rejoignez-nous pour une après-midi 100% manga et créativité le samedi 8 février de 14h à 18h à la bibliothèque ! Que vous soyez fan de mangas ou curieux de découvrir cet univers\, il y en aura pour tous les goûts. 😃\n\n\n \n\n\nAu programme :\n\n\n🎨 Atelier Origami avec Romain Delaire\, de 15h30 à 17h (sessions de 15 minutes).\n\n\n🎲 Jeux de société autour du manga animés par Anissa de la ludothèque.\n\n\n📖 Lecture jeunesse : Chi\, une vie de chat à 14h15 et à 17h15.\n\n\n \n\n\n✨ Venez partager un moment ludique et convivial en famille ou entre amis. On vous attend nombreux !\n\n\n \n\n\n📍 Entrée gratuite. Rendez-vous à la bibliothèque pour plonger dans l’univers fascinant du manga.
URL:https://quievrechain.fr/event/8-fevrier-manga-mania/
LOCATION:Bibliotheque
CATEGORIES:Culture
ATTACH;FMTTYPE=image/jpeg:https://quievrechain.fr/wp-content/uploads/2025/01/Manga-mania-1-scaled.jpg
END:VEVENT
END:VCALENDAR