BEGIN:VCALENDAR
VERSION:2.0
PRODID:-//Ville de Quiévrechain - ECPv5.14.1//NONSGML v1.0//EN
CALSCALE:GREGORIAN
METHOD:PUBLISH
X-WR-CALNAME:Ville de Quiévrechain
X-ORIGINAL-URL:https://quievrechain.fr
X-WR-CALDESC:Events for Ville de Quiévrechain
REFRESH-INTERVAL;VALUE=DURATION:PT1H
X-Robots-Tag:noindex
X-PUBLISHED-TTL:PT1H
BEGIN:VTIMEZONE
TZID:Europe/Paris
BEGIN:DAYLIGHT
TZOFFSETFROM:+0100
TZOFFSETTO:+0200
TZNAME:CEST
DTSTART:20240331T010000
END:DAYLIGHT
BEGIN:STANDARD
TZOFFSETFROM:+0200
TZOFFSETTO:+0100
TZNAME:CET
DTSTART:20241027T010000
END:STANDARD
END:VTIMEZONE
BEGIN:VEVENT
DTSTART;TZID=Europe/Paris:20240413T173000
DTEND;TZID=Europe/Paris:20240413T200000
DTSTAMP:20260424T192052
CREATED:20240409T081756Z
LAST-MODIFIED:20240413T071720Z
UID:59448-1713029400-1713038400@quievrechain.fr
SUMMARY:[13 avril] Concert de l'Aunelle Orchestra
DESCRIPTION:Samedi 13 avril 2024\, à 17h30\, à la salle des fêtes\, l’Orchestre Annelle vous invite à son concert de printemps. \nEn première partie\, découvrez la chorale de l’école de musique de Quiévrechain. \nPetite restauration et buvette disponible sur place. \nPour plus d’informations\, contactez Hervé Bricout au 06 51 48 80 45. \nL’entrée est libre. Ne manquez pas ce moment musical en famille !
URL:https://quievrechain.fr/event/13-avril-concert-de-launelle-orchestra/
LOCATION:Salle des fêtes\, Place Roger Salengro\, Quiévrechain\, France
CATEGORIES:Culture
ATTACH;FMTTYPE=image/png:https://quievrechain.fr/wp-content/uploads/2024/04/Aunelle-orchestra.png
END:VEVENT
BEGIN:VEVENT
DTSTART;TZID=Europe/Paris:20240416T193000
DTEND;TZID=Europe/Paris:20240416T193000
DTSTAMP:20260424T192052
CREATED:20240416T115855Z
LAST-MODIFIED:20240416T115855Z
UID:59523-1713295800-1713295800@quievrechain.fr
SUMMARY:[16 avril] Théatre On Demand
DESCRIPTION:En partenariat avec Le Phénix de Valenciennes\, venez découvrir le spectacle interactif : Théâtre On Demand le mardi 16 avril à 19h30 à la salle des fêtes. \n👉Spectacle à partir de 12 ans. Gratuit\, réservation en mairie au 03 27 45 42 24. \n👉 Synopsis : Qui n’a pas connu de couple en crise? Mêlant virtuosité et plaisir du jeu\, (re)découvrez les plus grandes scènes de ménages d’hier et d’aujourd’hui. \nHumour et passion garantis. \nEt ce sont vos mains innocentes qui décideront du destin de la représentation et des interprètes sur le moment !
URL:https://quievrechain.fr/event/16-avril-theatre-on-demand/
LOCATION:Salle des fêtes\, Place Roger Salengro\, Quiévrechain\, France
CATEGORIES:Culture
ATTACH;FMTTYPE=image/jpeg:https://quievrechain.fr/wp-content/uploads/2024/04/photo_5780518075219689363_y.jpg
END:VEVENT
END:VCALENDAR